Workbook

Sheet Daily Cost Calc
A1: DAILY COST OF CARE CALCULATIONS
A2: Total Institutional Costs | B2: ='BILLING RATE CALC'!F23 -> 3.6405419e+08
A3: Daily Cost (Divided by 366 days)* | B3: =B2/366 -> 994683.57
A4: Average Daily Institutional Population for Fiscal Year 2024 | B4: ='Inmate Avg Daily Population'!N18 -> 4446.5833
A5: Annual Total Mandays for Fiscal Year 2024 | B5: =B4*366 -> 1627449.5
A6: Daily Cost per Institutional Prisoner | B6: ='BILLING RATE CALC'!G23 -> 223.69615
A9: Total Community Residential Centers Costs | B9: ='COST ALLOCATION'!J41 -> 24033917
A10: Daily Cost (Divided by 366 days)* | B10: =B9/366 -> 65666.441
A11: Average Daily CRC Population for Fiscal Year 2024 | B11: ='Inmate Avg Daily Population'!N20+'Inmate Avg Daily Population'!N21 -> 387
A12: Annual Total Mandays for Fiscal Year 2024 | B12: =B11*366 -> 141642
A13: Daily Cost Per Community Residential Center Inmate | B13: =B10/B11 -> 169.68073
A16: Total Probation/Parole Costs | B16: ='COST ALLOCATION'!J38+'COST ALLOCATION'!J37 -> 20170807
A17: Daily Cost (Divided by 366 days)* | B17: =B16/366 -> 55111.494
A18: Average Daily Probationers/Parole Served for Fiscal Year 2024 | B18: ='Monthly PO Workload Stats'!H393 -> 3968.1667 | C18: ?
A19: Annual Total Mandays for Fiscal Year 2024 | B19: =B18*366 -> 1452349
A20: Daily Cost per Probationer/Parolee | B20: =B17/B18 -> 13.888402
A23: Total Community Jail Costs | B23: ='COST ALLOCATION'!J36 -> 10146338
A24: Daily Cost (Divided by 366 days)* | B24: =B23/366 -> 27722.235
A25: Average Daily Community Jail Population for Fiscal Year 2024 | B25: ='Avg Daily Community Jails'!H42 -> 34.45765 | C25: ?
A26: Annual Total Mandays for Fiscal Year 2024 | B26: =B25*366 -> 12611.5
A27: Daily Cost per Prisoner | B27: =B24/B25 -> 804.53063
A30: Total Electronic Monitoring Costs | B30: ='COST ALLOCATION'!J40 -> 2732110.3
A31: Daily Cost (Divided by 366 days)* | B31: =B30/366 -> 7464.7823
A32: Average Daily Electronic Monitoring Population for Fiscal Year 2024 | B32: ='Inmate Avg Daily Population'!N23 -> 244.08333 | C32: ?
A33: Annual Total Mandays for Fiscal Year 2024 | B33: =B32*366 -> 89334.5
A34: Daily Cost per Prisoner | B34: =B31/B32 -> 30.582925
A37: Total Out-of-State Contractual Costs | B37: ='COST ALLOCATION'!J39 -> 150381.89
A38: Daily Cost (Divided by 366 days)* | B38: =B37/366 -> 410.87948
A39: Average Daily Out-of-State Population for Fiscal Year 2024 | B39: ='Inmate Avg Daily Population'!N26+'Inmate Avg Daily Population'!N27 -> 6.9166667
A40: Annual Total Mandays for Fiscal Year 2024 | B40: =B39*366 -> 2531.5
A41: Daily Cost Per Prisoner | B41: =B38/B39 -> 59.404263
A44: Total Pretrial Costs | B44: ='COST ALLOCATION'!J35 -> 14756514
A45: Daily Cost (Divided by 366 days)* | B45: =B44/366 -> 40318.344
A46: Average Daily Pretrial Population for Fiscal Year 2024 | B46: ='Inmate Avg Daily Population'!N25 -> 1339.0833
A47: Annual Total Mandays for Fiscal Year 2024 | B47: =B46*366 -> 490104.5
A48: Daily Cost Per Prisoner | B48: =B45/B46 -> 30.108913
A49: 2024 Leap Year*
A51: Revised 09/25/24 lj

Sheet Sched-A
A1: COST SHEET FOR DETENTION SERVICES
A2: Section I - General Information
A3: Name of Facility: | B3: Department of Corrections | E3: Physical Address of Facility: | H3: Juneau, Alaska
A4: Phone Number: | B4: (907) 465-3460
A5: Section II - Financial Data Summary
A6: Total Operating Cost for Jail:
A7: A. Time Frame | C7: From: | D7: 45108 | E7: To: | F7: 45473
D8: (month/year) | F8: (month/year) | H8: Annual Cost
A9: B. Total Personnel salary/wage costs (Schedule B - Part I) | H9: ='Sched-B1'!B17 -> 1.2349913e+08
A10: C. Total Personnel Benefits/Other Personnel Services (Schedule B - Part II) | H10: ='Sched-B1'!C17+'Sched-B1'!D17+'Sched-B1'!E17 -> 83945662
A11: D. Total Consultants and Contract Services (Schedule C) | H11: ='Sched-C'!D24 -> 31053517
A12: E. Other Direct Operating costs (Schedule D1 and D2) | H12: ='Sched-D1'!F708+'Sched-D2'!F148 -> 1.1935211e+08
A13: F. Indirect Costs (Schedule E)* | H13: ='Sched-E'!E3 -> 12640735
A14: G. Equipment Depreciation costs (Schedule F) | H14: ='Sched-F-G'!C18 -> 765227.61
A15: H. Building Depreciation Costs (Schedule G) | H15: ='Sched-F-G'!D39 -> 8407145.9
A16: I. Total Operating Costs (Sum of Schedules B-G) | H16: =SUM(H9:H15) -> 3.7966354e+08 | I16: Actuals COC 2025
A17: Total Actual Operating Cost for Prior Fiscal Year | H17: 3.6202259e+08 | I17: Actuals COC 2024
A19: COST SHEET FOR DETENTION SERVICES (continued)
A20: Section III - Prisoner Population Information
A21: Time Frame of Prisoner Information | E21: FROM: | F21: 45108 | G21: TO: | H21: 45473
A22: (must correspond with time frame on previous page) | F22: (month/year) | H22: (month/year)
A23: Inmate Capacity of Jail: | D23: MALE | F23: FEMALE | H23: TOTAL
D24: - | F24: - | H24: 5285
A25: Average Daily Population: | D25: MALE | F25: FEMALE | H25: TOTAL
A26: Type of Prisoner | C26: Federal | D26: - | F26: -
C27: Local | D27: - | F27: -
C28: State | D28: - | F28: -
C29: Total | D29: =H29-F29 -> 4015.0299 | F29: ='IADP-By Gender'!J21 -> 431.55342 | H29: ='Inmate Avg Daily Population'!N18 -> 4446.5833
A30: Section IV - Per Diem
A31: Proposed Per Diem Rate for Federal Prisoners: | F31: ='BILLING RATE CALC'!G23 -> 223.69615
A32: State Prisoner Per Diem Rate: | F32: ='BILLING RATE CALC'!G23 -> 223.69615
A33: Section V - Local Government Contact
A34: Please provide the name of the individual authorized to represent and to act for the Local Government in jail day rate negotiations.
A35: Name | B35: April Wilkerson | E35: Department/Office | G35: State of Alaska, Dept of Corrections
A36: Title | B36: Deputy Commissioner | E36: Street | G36: PO Box 112000
A37: Phone | B37: (907) 465-3460 | E37: City | F37: Juneau | G37: State/Zip | H37: AK, 99811
A38: Fax | B38: (907) 465-3315
A39: Section VI - Certification Statement
A40: This is to certify that, to the vest of my knowledge and belief, the data furnished in Schedules B through G are accurate, complete and current, and do not include any unallocable, or unallowable costs prohibited by OMB Circular No. A-87 (Cost Principles for State and Local Governments) or any cost not related to the jail facility as discussed on Form USM-243 (Cost Sheet for Detention Services.) The records of this agency are available for review and audit by the authorized representative of the U.S. Government to verify any jail per diem rate negotiated.
A41: Signature | F41: Date
...

Sheet Sched-B1
A1: TOTAL PERSONAL SERVICES
A2: BY INDIVIDUAL INSTITUTIONS
A3: Facility | B3: Total Wages | C3: Total Benefits | D3: Other Personal Services | E3: Overtime & Incentives | F3: Total Personal Services | G3: Number of Employees | H3: General Capacity
A4: Anchorage Complex | B4: 21021252 | C4: 12729683 | D4: 21555.65 | E4: =344042.2+1473166.95 -> 1817209.1 | F4: =SUM(B4:E4) -> 35589700 | G4: 251 | H4: 829
A5: Anvil Mtn. CC | B5: 4902702.8 | C5: 2723998.8 | D5: 2909.13 | E5: 195539.67 | F5: =SUM(B5:E5) -> 7825150.3 | G5: 42 | H5: 126
A6: Comb Hiland Mtn. CC | B6: 10254179 | C6: 6501905.1 | D6: 4948.47 | E6: 897001.52 | F6: =SUM(B6:E6) -> 17658035 | G6: 114 | H6: 395
A7: Fairbanks CC | B7: 7877756.4 | C7: 4760037.9 | D7: 5155.39 | E7: 563847.33 | F7: =SUM(B7:E7) -> 13206797 | G7: 93 | H7: 248
A8: Goose Creek CC | B8: 22976043 | C8: 14923607 | D8: 13511.68 | E8: 1221000.5 | F8: =SUM(B8:E8) -> 39134163 | G8: 330 | H8: 1408
A9: Ketchikan CC | B9: 2951409.6 | C9: 1896985 | D9: 2872.26 | E9: 149593.16 | F9: =SUM(B9:E9) -> 5000860 | G9: 37 | H9: 52
A10: Lemon Creek CC | B10: 6614146.5 | C10: 4148291.5 | D10: 8286.81 | E10: 355708.69 | F10: =SUM(B10:E10) -> 11126434 | G10: 80 | H10: 124
A11: Mat-Su CC | B11: 4716758.6 | C11: 2889326.3 | D11: 1603.08 | E11: 106805.28 | F11: =SUM(B11:E11) -> 7714493.3 | G11: 50 | H11: 98
A12: Palmer CC | B12: 8999241.5 | C12: 5587327.6 | D12: 4957.36 | E12: 423328.33 | F12: =SUM(B12:E12) -> 15014855 | G12: 106 | H12: =328+176 -> 504
A13: Spring Creek CC | B13: 14267988 | C13: 8651978.6 | D13: 11574.36 | E13: 1043588.6 | F13: =SUM(B13:E13) -> 23975130 | G13: 168 | H13: 535
A14: Wildwood CC | B14: 9842955.7 | C14: 6172769.2 | D14: 8920.85 | E14: 391284.29 | F14: =SUM(B14:E14) -> 16415930 | G14: 119 | H14: =354+111 -> 465
A15: Yukon Kuskokwim CC | B15: 6032830.1 | C15: 3579958.4 | D15: 3665.68 | E15: 202205.79 | F15: =SUM(B15:E15) -> 9818659.9 | G15: 52 | H15: 189
A16: Pt. MacKenzie CF | B16: 3041869.8 | C16: 1787810.1 | D16: 2023.23 | E16: 132887.71 | F16: =SUM(B16:E16) -> 4964590.8 | G16: 30 | H16: 128
A17: Total | B17: =SUM(B4:B16) -> 1.2349913e+08 | C17: =SUM(C4:C16) -> 76353679 | D17: =SUM(D4:D16) -> 91983.95 | E17: =SUM(E4:E16) -> 7500000 | F17: =SUM(F4:F16) -> 2.074448e+08 | G17: =SUM(G4:G16) -> 1472 | H17: =SUM(H4:H16) -> 5101
A19: Revised 9/11/24 lj

Sheet Sched-B2
A1: PERSONAL SERVICES BENEFITS BY INDIVIDUAL INSTITUTIONS
A2: Institution | B2: Benefit | C2: %Employer Contribution | D2: Annual Cost | E2: Sub-Total | F2: IRIS Codes
A3: Anchorage Complex | B3: Annual Physical Reimbursement | C3: not a set $ | F3: 1027
B4: AK Supplemental Benefit (SBS) | C4: 0.0613 | F4: 1028
B5: Public Employee's Retirement System Defined Benefits | C5: 0.2676 | F5: 1029
B6: Public Employee's Retirement System Defined Contribution | C6: - | F6: 1030
B7: Public Employee's Retirement System Defined Cont Health Reim | C7: - | F7: 1034
B8: Public Employee's Retiremnt Sys Defined Cont Retiree Medical | C8: - | F8: 1035
B9: Public Employee's Retiremnt Sys Defined Benefit Unfnd Liab | C9: - | F9: 1037
B10: Unemployment Insurance | C10: 0.004 | F10: 1039
B11: Group Health Insurance | C11: 1573.5 | F11: 1040
B12: Basic Life and Travel | C12: $0.00/mo.pp | F12: 1041
B13: Worker's Compensation Insurance | C13: 0.0335 | F13: 1042
B14: Leave Cash In Employer Charge | C14: 0.0231 | F14: 1047
B15: Terminal Leave Employer Charge | C15: 0.004 | F15: 1048
B16: ACOA Injury Leave Contribution | C16: $8.00/mo | F16: 1049
B17: Leave- Holiday
B18: Medicare Tax | C18: 0.0145 | F18: 1053
B19: Other Personal Services | F19: 1004 | G19: :Total Object Category
E20: =12729682.76+21555.65 -> 12751238 | G20: ='Sched-B1'!C4+'Sched-B1'!D4 -> 12751238 | H20: =E20-G20 -> 0
A21: Anvil Mtn. CC | B21: Annual Physical Reimbursement | C21: not a set $ | D21: 0
B22: AK Supplemental Benefit (SBS) | C22: 0.0613
B23: Public Employee's Retirement System Defined Benefits | C23: 0.22
B24: Public Employee's Retirement System Defined Contribution | C24: -
B25: Public Employee's Retirement System Defined Cont Health Reim | C25: -
B26: Public Employee's Retiremnt Sys Defined Cont Retiree Medical | C26: -
B27: Public Employee's Retiremnt Sys Defined Benefit Unfnd Liab | C27: -
B28: Unemployment Insurance | C28: =C10 -> 0.004
B29: Group Health Insurance | C29: =C11 -> 1573.5
B30: Basic Life & Travel | C30: $0.00/mo.pp
B31: Workman's Compensation | C31: =C13 -> 0.0335
B32: Leave Cash-in/Payout | C32: =C14 -> 0.0231
B33: Terminal Leave Charge | C33: =C15 -> 0.004
B34: Injury Leave Contribution | C34: =C16 -> $8.00/mo
B35: Medicare Tax | C35: =C18 -> 0.0145
B36: Other Personal Services
E37: =2723998.8+2909.13 -> 2726907.9 | G37: ='Sched-B1'!C5+'Sched-B1'!D5 -> 2726907.9 | H37: =E37-G37 -> 0
A38: Comb Hiland Mt.CC | B38: Annual Physical Reimbursement | C38: not a set $
B39: AK Supplemental Benefit (SBS) | C39: 0.0613
B40: Public Employee's Retirement System Defined Benefits | C40: =C5 -> 0.2676
...

Sheet Sched-C
A1: CONSULTANTS & CONTRACT SERVICES
A2: Type of Service | B2: Description of Service | C2: Number of Contracts | D2: DOC Annual Cost | E2: IRIS CODES
A3: MEDICAL | B3: Non-employee contracted | C3: =22+6+6 -> 34 | D3: 22334367 | E3: 3041
B4: physicians/nurses/PAs/X-ray
B5: Non-employee fee for services | C5: -
B6: physicians/nurses/PAs/X-ray
A8: DENTAL | B8: Non-employee contracted | C8: =5 -> 5 | D8: 442129.12 | E8: 3042
B9: dentist/hygienist/assistant
B10: Non-employee fee for service | C10: -
B11: dentist/hygienist/assistant
A13: SOCIAL COUNSELING | B13: Non-employee contracted | C13: =8+14+9 -> 31 | D13: =4312088.74+1478523.88+173758 -> 5964370.6 | E13: 3040 | F13: Batterer's RSA | G13: Fixed Cost: (BIP $173,758/PBP $ 0.0) @ DPS / JDVP
B14: substance abuse,batterers & | G14: 173758
B15: sex offender treatment
A17: PSYCHOLOGICAL | B17: Non-employee contracted | C17: =1+6 -> 7 | D17: =8103262.52-4312088.74-1478523.88 -> 2312649.9 | E17: 3040
A18: COUNSELING | B18: mental health,psychiatric &
B19: psychological services
B20: Non-employee fee for service
B21: mental health,psychiatric &
B22: psychological services
A24: TOTAL | C24: =SUM(C3:C23) -> 77 | D24: =SUM(D3:D23) -> 31053517 | E24: ok
A26: Revised 09/23/24 lj

Sheet Sched-D1
A1: OTHER DIRECT JAIL OPERATING COSTS
A2: Institution | B2: Description of Cost | D2: Annual Cost | F2: Total | G2: IRIS CODES | H2: ck
A3: Anchorage Complex | B3: Travel/Moving Cost | D3: =28994.06+12694.06 -> 41688.12 | E3: =D3 -> 41688.12 | G3: 2000/2001/2003
B4: Non-Interagency Svcs | E4: =SUM(D4:D38) -> 2530001.8
B5: Training/Conferences | D5: 10151 | G5: 3000
B6: Memberships | D6: 2951.99 | G6: 3002
B7: Management/Consulting | D7: 6615 | G7: 3005
B8: Penalties And Fines | D8: 700.16 | G8: 3013
B9: Claim/Judgement Non-Taxable | D9: 0 | G9: 3016
B10: Uncleared 1Card Transactions | G10: 3019
B11: Utilities | D11: 1418941.8 | G11: 2100 | H11: Utility Costs: Based on Alder Report Expenditures by Location
B12: Software Licensing | D12: 917.79 | G12: 3032
B13: Software Maintenance | D13: 1008 | G13: 3033
B14: Television | D14: 3517.12 | G14: 3034
B15: Long Distance | D15: 953.91 | G15: 3035
B16: Local/Equipment Charges | D16: 14196.69 | G16: 3036
B17: Data/Network | D17: 9984 | G17: 3037
B18: Cellular Phones | D18: 365.76 | G18: 3038
B19: Psychiatric | D19: 0 | G19: 3040
B20: Medical | D20: 249.37 | G20: 3041
B21: Freight | D21: 3161.73 | G21: 3043
B22: Courier | D22: 4171.18 | G22: 3044
B23: Postage | D23: 39795.93 | G23: 3045
B24: Water and Sewage | D24: 42968.72 | G24: 3049
B25: Disposal | D25: 10201.94 | G25: 3050
B26: Natural Gas/Propane | D26: 0 | G26: 3051
B27: Inspections/Testing | D27: 28604 | G27: 3055
B28: Structure, Infrastructure and Land - Repairs/Maintenance | D28: 157865.45 | G28: 3056
B29: Structure, Infrastructure and Land - Rentals/Leases | D29: 32 | G29: 3057
B30: Equipment and Machinery - Repairs/Maintenance | D30: 178745.57 | G30: 3058
B31: Equipment and Machinery - Rentals/Leases | D31: 3331.01 | G31: 3059
B32: Program Management/Consulting | D32: 331493.12 | G32: 3063
B33: Interpreter | D33: 167.08 | G33: 3064
B34: Print/Copy/Graphics | D34: 45 | G34: 3066
B35: Honorariums/Stipend | D35: 258750.7 | G35: 3067
B36: Laundry | D36: 59.5 | G36: 3068
B37: Commission Sales | D37: 56.3 | G37: 3069
B38: Contractual/ Transfer | D38: 0
B39: Interagency Services | D39: 746785.76 | E39: =SUM(D39) -> 746785.76 | G39: 3001
B40: Commodities / Supplies | E40: =SUM(D41:D46) -> 3850799.6
...

Sheet Sched-D2
A1: OTHER DIRECT JAIL OPERATING COSTS
A2: Institution | B2: Description of Cost | D2: Annual Cost | F2: Total | G2: IRIS CODES
A3: Prison System | B3: Personnel Services | E3: 0
A4: Expansion | B4: Travel | E4: 0
B5: Other Services & Charges | E5: =SUM(D6:D10) -> 0
C6: Education Services | D6: 0
C7: Telecommunications | D7: 0
C8: Delivery Services | D8: 0
C9: Equipment/Machinery | D9: 0
C10: Other Services | D10: 0
C11: Interagency Services | D11: 0 | E11: =SUM(D11) -> 0
B12: Commodities / Supplies | E12: =SUM(D13:D15) -> 0
C13: Business | D13: 0
C14: Safety | D14: 0
C15: Repair/Maintenance Supplies | D15: 0
B16: Capital Outlay | D16: 0 | E16: =SUM(D16) -> 0
F17: =SUM(E3:E16) -> 0 | H17: =F17-0 -> 0
A18: Facility-CAP Imp Unit | B18: Personnel Services | E18: =468179.93+218618.66+1460.49 -> 688259.08 | G18: 1001/1002/1004
B19: Travel | E19: =3366.24+8627.8 -> 11994.04
B20: Non-Interagency Svcs | D20: 396965.07 | E20: =SUM(D20:D23) -> 396965.07
B21: Uncleared 1Card Transactions | D21: 0 | G21: 3019
B22: Software Maintenance | D22: 0 | G22: 3033
B23: Commission Sales | D23: 0 | G23: 3069
B24: Interagency Services | D24: 20960.79 | E24: =SUM(D24) -> 20960.79
B25: Commodities / Supplies | E25: =SUM(D26:D29) -> 4267.37
C26: Business/Safety | D26: 1035.23 | G26: 4000/4004
C27: Household/Institutional | D27: 1246.15 | G27: 4002
C28: Safety | D28: 57 | G28: 4004
C29: Repair/Maintenance Supplies | D29: 1928.99
B30: Commodity/ Transfer | D30: 0 | E30: =D30 -> 0
B31: Capital Outlay | D31: 474415.03 | E31: =SUM(D31) -> 474415.03 | G31: 5002
B32: Less: JCIM Unbudgeted (Multiple) | E32: =-2882.6 -> -2882.6 | H32: 2882.6 | I32: FY24 Multiple Unbudgeted RS
F33: =SUM(E18:E32) -> 1593978.8 | H33: =F33+H32-1596861.38 -> 0
A34: Health & Rehabilitation | B34: Personnel Services/Interfund transfer | E34: =30017650.11+15661295.54+49969.2 -> 45728915 | H34: Grand Total of 7 components $ 88,549,597.29 BHC, PHC, HRDirector,Domestic V, Substance, Sex Offender,Re-entry)
A35: Services | B35: Travel / Moving Costs | E35: =517762.43+33598.88+3552.41+2 -> 554915.72
B36: Non-Interagency Svcs | D36: 32345144 | E36: =D36 -> 32345144 | G36: 3000
B37: Interagency Services | D37: 3007808.7 | E37: =D37 -> 3007808.7 | G37: 3001
B38: Commodities / Supplies | E38: =SUM(D39:D44) -> 6519352.6
C39: Business | D39: 230892.16
C40: Agricultural | D40: 0 | G40: 4001
...

Sheet Summary-Sched-E
A2: BRU | B2: Appr Type | C2: Less: RS/Budgeted & Unbudgeted | D2: Total Expenditures of FY2022
A3: Commissioner | B3: JCOM | C3: =-257037.53 -> -257037.53 | D3: =1667869.39+C3 -> 1410831.9
A4: Admin Services | B4: JADS | C4: =-425096.25 -> -425096.25 | D4: =5412179.29+C4 -> 4987083
A5: Info Tech MIS | B5: JINT | C5: 0 | D5: 2419220
A6: Research & Rcrds | B6: JRRE | C6: 0 | D6: 1209062.7
A7: Recruitment & R | B7: JRER | C7: 0 | D7: 1129975.2
A8: Facilities Rent | B8: JREN | C8: 0 | D8: 289900
A9: Academy | B9: JCOA | C9: 0 | D9: 1633476.6
A10: Parole Board | B10: JPAB | C10: 0 | D10: 1958064.1
B11: Total | C11: =SUM(C3:C10) -> -682133.78 | D11: =SUM(D3:D10) -> 15037614
C13: Alder Total (8 components): | D13: 15719747
C14: Bud/Unbudgeted: | D14: =425096.25+257037.53 -> 682133.78
D15: =D11+D14 -> 15719747
D16: =D13-D15 -> 0 | E16: ck
A17: Revised: 09/18/24 lj
A19: Notes:
A20: FY21 COVID-19 Response & Prevention $600,000 (Unbudgeted ARU 20CVID407) JADS
A21: FY24 Employee Wellness (Unbudgeted RS) JCOM
A22: FY24 Forensic Analyst & Core Services Smooth RSAs- JADS

Sheet Sched-E
A1: COST ALLOCATION PLANS / INDIRECT COST PROPOSALS
A2: Organization Providing Service | B2: Appr Type | C2: Total Expenditures | D2: % of Time Spent in Support of Jail Operators | E2: Allowable Indirect Cost
A3: Administration & Support* | B3: JADS / JCOA JCOM / JINT JPAB / JREN JRER JRRE | C3: ='Summary-Sched-E'!D11 -> 15037614 | D3: ='COST ALLOCATION'!H6 -> 0.84060778 | E3: =C3*D3 -> 12640735
A4: TOTAL | E4: =E3 -> 12640735
C5: Reduced Total Expenditures by Reimbursements
A6: Note*: Includes SF Rent, Correctional Academy, Recruit & Retn , and Parole Board Expenditues
A7: Revised 9/18/24 lj

Sheet Property Inventory
A1: PROPERTY INVENTORY
A2: Division | B2: Division/Institution | C2: IRIS Unit | D2: Total as of 6/30/24 | E2: Aquired in FY2024 | F2: FY2024 Vehicle Inventory Total | G2: Grand Total
A3: 3 | B3: Commissioner's Office Jnu/Anch | C3: 1000 | D3: 65323.32 | F3: =9906 -> 9906 | G3: =SUM(D3:F3) -> 75229.32
B4: Administration & Support | C4: 1001 | G4: =SUM(D4:F4) -> 0
B5: Administrative Services | C5: 1100 | D5: 1166316.1 | G5: =SUM(D5:F5) -> 1166316.1
A6: 1 | B6: Juneau Admin Office / Anchorage | C6: 1100 | D6: 0 | F6: 6083 | G6: =SUM(D6:F6) -> 6083
B7: Research & Records | C7: 1200 | D7: 474671.18 | F7: 806 | G7: =SUM(D7:F7) -> 475477.18
B8: Information Technology | C8: 1300 | D8: 286849.41 | G8: =SUM(D8:F8) -> 286849.41
B9: Human Resources | C9: 1400 | D9: 23843.6 | G9: =SUM(D9:F9) -> 23843.6
B10: Procurement | C10: 1500 | D10: 21939.64 | G10: =SUM(D10:F10) -> 21939.64
B11: Recidivism Reduction Grants | C11: 1700 | D11: 1035.12 | G11: =SUM(D11:F11) -> 1035.12
B12: Recruitment & Retention | C12: 1800 | D12: 7184 | G12: =SUM(D12:F12) -> 7184
B13: Institution Director's Office (IDO) | C13: 2000 | D13: 30831.27 | F13: 7840 | G13: =SUM(D13:F13) -> 38671.27
A14: 8/9 | B14: Anchorage Complex | C14: 2100 | D14: 1977715.2 | F14: 50929 | G14: =SUM(D14:F14) -> 2028644.2
A15: 15 | B15: Anvil Mtn. Correctional | C15: 2101 | D15: 209384.82 | F15: 58215 | G15: =SUM(D15:F15) -> 267599.82
A16: 11 | B16: Hiland Mtn. Correctional | C16: 2102 | D16: 451095.71 | F16: 109544 | G16: =SUM(D16:F16) -> 560639.71
A17: 14 | B17: Fairbanks Correctional | C17: 2103 | D17: 407507.56 | F17: 49741 | G17: =SUM(D17:F17) -> 457248.56
A18: 5 | B18: Ketchikan Correctional | C18: 2104 | D18: 72940.04 | F18: 15808 | G18: =SUM(D18:F18) -> 88748.04
A19: 6 | B19: Lemon Creek Correctional | C19: 2105 | D19: 737857 | F19: 41999 | G19: =SUM(D19:F19) -> 779856
A20: 10 | B20: Mat-Su Correctional | C20: 2106 | D20: 88839.41 | F20: 29213 | G20: =SUM(D20:F20) -> 118052.41
A21: 13 | B21: Palmer Correctional | C21: 2107 | D21: 1001984.5 | F21: 407468 | G21: =SUM(D21:F21) -> 1409452.5
A22: 16 | B22: Spring Creek Correctional | C22: 2108 | D22: 1728615.5 | F22: 227551 | G22: =SUM(D22:F22) -> 1956166.5
A23: 30 | B23: Wildwood Correctional | C23: 2109 | D23: 960543.74 | F23: 136361 | G23: =SUM(D23:F23) -> 1096904.7
A24: 18 | B24: Yukon Kuskokwim Correctional | C24: 2110 | D24: 147684.08 | F24: 34084 | G24: =SUM(D24:F24) -> 181768.08
A25: 31 | B25: Pt. Mackenzie Correctional | C25: 2111 | D25: 545829.77 | F25: 210204 | G25: =SUM(D25:F25) -> 756033.77
A26: 39 | B26: Goose Creek Correctional | C26: 2112 | D26: 1434430.8 | F26: 344017 | G26: =SUM(D26:F26) -> 1778447.8
B27: Classification & Furlough | C27: 2200 | D27: 4249.26 | F27: 10884 | G27: =SUM(D27:F27) -> 15133.26
A28: 7 | B28: Inmate Transportation | C28: 2210 | D28: 34631.54 | F28: 93216 | G28: =SUM(D28:F28) -> 127847.54
A29: 37 | B29: Out of State | C29: 2220 | D29: 31189 | G29: =SUM(D29:F29) -> 31189
B30: Prison System Expansion | C30: 2230 | D30: 5450 | G30: =SUM(D30:F30) -> 5450
B31: Facility Cap Imp Unit | C31: 2250/2251 | D31: =76344.79+1111449.74 -> 1187794.5 | F31: 4615 | G31: =SUM(D31:F31) -> 1192409.5
A32: 4 | B32: Training Academy/DP3 Academy | C32: 2260 | D32: 281081.55 | F32: =4712+27357 -> 32069 | G32: =SUM(D32:F32) -> 313150.55
B33: Education Programs | C33: 2300/2310 | D33: =10757.04+91378.2 -> 102135.24 | F33: 2812 | G33: =SUM(D33:F33) -> 104947.24
B34: Institution Education Programs | C34: 2310 | D34: 0 | F34: 308 | G34: =SUM(D34:F34) -> 308
B35: Vocation Education Programs | C35: 2355 | D35: 3021.16 | G35: =SUM(D35:F35) -> 3021.16
B36: Probation & Parole Director Office | C36: 2400 | D36: 13071.41 | G36: =SUM(D36:F36) -> 13071.41
B37: Electronic Monitoring | C37: 2410/2411 | D37: =4888.62+12572 -> 17460.62 | F37: 23801 | G37: =SUM(D37:F37) -> 41261.62
A38: JNU | B38: Probation Region ONE | C38: 2420 | D38: 26670.53 | G38: =SUM(D38:F38) -> 26670.53
A39: 19A | B39: Anchorage Probation | C39: 2421 | D39: 464674.06 | F39: 47424 | G39: =SUM(D39:F39) -> 512098.06
A40: 19C | B40: Kenai Probation | C40: 2422 | D40: 43219.13 | F40: 14029 | G40: =SUM(D40:F40) -> 57248.13
...

Sheet Sched-F-G
A1: EQUIPMENT COST | D1: SCHEDULE F
A2: By Individual Institution
A3: Institutions | B3: Cost of Equipment | C3: Equipment Allowance 6.666%
A4: Anchorage Complex | B4: ='Property Inventory'!G14 -> 2028644.2 | C4: =B4*0.06666 -> 135229.42
A5: Anvil Mtn. Correctional | B5: ='Property Inventory'!G15 -> 267599.82 | C5: =B5*0.06666 -> 17838.204
A6: Hiland Mtn. Correctional | B6: ='Property Inventory'!G16 -> 560639.71 | C6: =B6*0.06666 -> 37372.243
A7: Fairbanks Correctional | B7: ='Property Inventory'!G17 -> 457248.56 | C7: =B7*0.06666 -> 30480.189
A8: Goose Creek Correctional | B8: ='Property Inventory'!G26 -> 1778447.8 | C8: =B8*0.06666 -> 118551.33
A9: Ketchikan Correctional | B9: ='Property Inventory'!G18 -> 88748.04 | C9: =B9*0.06666 -> 5915.9443
A10: Lemon Creek Correctional | B10: ='Property Inventory'!G19 -> 779856 | C10: =B10*0.06666 -> 51985.201
A11: Mat-Su Correctional | B11: ='Property Inventory'!G20 -> 118052.41 | C11: =B11*0.06666 -> 7869.3737
A12: Palmer Correctional | B12: ='Property Inventory'!G21 -> 1409452.5 | C12: =B12*0.06666 -> 93954.102
A13: Pt. MacKenzie Correctional Farm | B13: ='Property Inventory'!G25 -> 756033.77 | C13: =B13*0.06666 -> 50397.211
A14: Spring Creek Correctional | B14: ='Property Inventory'!G22 -> 1956166.5 | C14: =B14*0.06666 -> 130398.06
A15: Wildwood Correctional | B15: ='Property Inventory'!G23 -> 1096904.7 | C15: =B15*0.06666 -> 73119.67
A16: Yukon Kuskokwim Correctional | B16: ='Property Inventory'!G24 -> 181768.08 | C16: =B16*0.06666 -> 12116.66
A18: Total Equipment Cost | B18: =SUM(B4:B17) -> 11479562 | C18: =SUM(C4:C17) -> 765227.61
A22: BUILDING DEPRECIATION | D22: SCHEDULE G
A23: By Individual Institution (Based on FY2021 Actuals)
A24: Institutions | B24: All Buildings Construction Cost | C24: Additional Construction Cost | D24: Annual Depreciation @ 2%
A25: Anchorage Complex | B25: 3522437 | C25: 0 | D25: =B25*0.02 -> 70448.74
A26: Anvil Mt. CC | B26: 16192923 | C26: 0 | D26: =B26*0.02 -> 323858.46
A27: Comb Hiland Mt.CC | B27: 45066600 | C27: 0 | D27: =B27*0.02 -> 901332
A28: Fairbanks CC | B28: 34112840 | C28: 0 | D28: =B28*0.02 -> 682256.8
A29: Goose Creek CC | B29: 78705708 | C29: 0 | D29: =B29*0.02 -> 1574114.2
A30: Ketchikan CC | B30: 7691306 | C30: 0 | D30: =B30*0.02 -> 153826.12
A31: Lemon Creek CC | B31: 28845762 | C31: 0 | D31: =B31*0.02 -> 576915.24
A32: Mat-Su Pre-Trial | B32: 10392719 | C32: 0 | D32: =B32*0.02 -> 207854.38
A33: Palmer CC | B33: =41211974*1 -> 41211974 | C33: 0 | D33: =B33*0.02 -> 824239.48
A34: Pt. MacKenzie Correctional Farm | B34: 12269054 | C34: 0 | D34: =B34*0.02 -> 245381.08
A35: Spring Creek CC | B35: 78360986 | C35: 0 | D35: =B35*0.02 -> 1567219.7
A36: Wildwood CC | B36: 51709708 | C36: 0 | D36: =B36*0.02 -> 1034194.2
A37: Yukon Kuskokwim | B37: 12275277 | C37: 0 | D37: =B37*0.02 -> 245505.54
A39: Total Building Depreciation | B39: =SUM(B25:B38) -> 420357294 | C39: =SUM(C25:C38) -> 0 | D39: =SUM(D25:D38) -> 8407145.9
A41: Total Equipment Cost & Building Depreciation | B41: (Schedule F + Schedule G) | D41: =C18+D39 -> 9172373.5
A43: Revised 09/18/24 lj
A46: Notes:

Sheet CostReim
A1: Budgeted Restricted Revenue
A2: Division/Institution | B2: Appr Group | C2: ApprType | D2: Total Reimbursement | E2: Outstanding Balance of RSA | F2: Total | G2: Revenue Code
A3: Commissioner's Office | B3: JADM | C3: JCOM | D3: =-'Summary-Sched-E'!C3 -> 257037.53 | F3: =SUM(D3:E3) -> 257037.53 | G3: 5200/5301 | H3: FY24 Employee Wellness Program (Unbudgeted RS )
A4: Parole Board | D4: 0 | F4: =SUM(D4:E4) -> 0
A5: Correctional Academy | D5: 0 | F5: =SUM(D5:E5) -> 0
A6: Administrative Services | C6: JADS | D6: =-'Summary-Sched-E'!C4 -> 425096.25 | F6: =SUM(D6:E6) -> 425096.25 | G6: 5301 | H6: RS Forensic Analyst & Core Services Smooth
A7: Information Tech MIS | C7: JINT | D7: 0 | F7: =SUM(D7:E7) -> 0 | G7: 5301 | H7: (No) Unbudgeted RS FY24
A8: Probation & Parole Director Office | B8: JPPD | D8: 0 | F8: =SUM(D8:E8) -> 0 | G8: 5014
A9: Facility-Capital Improvement | D9: =-'Sched-D2'!E32 -> 2882.6 | F9: =SUM(D9:E9) -> 2882.6 | H9: FY24 Multiple Unbudgeted RS
A10: Health & Rehabilitation Services | B10: JHRS | C10: JHDO | D10: =-'Sched-D2'!E52 -> 54273.13 | F10: =SUM(D10:E10) -> 54273.13 | G10: 5014 | H10: JPHC Medical Co-pays
A11: Health & Rehabilitation Services | B11: JHRS | C11: JSAP | D11: =-'Sched-D2'!E49 -> 205848 | F11: =SUM(D11:E11) -> 205848 | G11: 5014
A12: Health & Rehabilitation Services | B12: JHRS | C12: JSAP | D12: =-'Sched-D2'!E51 -> 0 | F12: =SUM(D12:E12) -> 0 | G12: 5301
A13: Health & Rehabilitation Services | B13: JHRS | C13: JBHC | D13: =-'Sched-D2'!E50 -> 251775 | F13: =SUM(D13:E13) -> 251775 | G13: 5007 | H13: Budgeted RS MH@SCCC
A14: Health & Rehabilitation Services | B14: JHRS | C14: JPHC | D14: =-'Sched-D2'!E48 -> 991251.26 | F14: =SUM(D14:E14) -> 991251.26 | H14: FY24 Healthy Families Initiative RS
A15: Offender Habilitation Programs | B15: JOHP | C15: JEDP/JVEP | D15: =-'Sched-D2'!E68-'Sched-D2'!E69-'Sched-D2'!E70-'Sched-D2'!E67 -> 29015.36 | F15: =SUM(D15:E15) -> 29015.36 | G15: 5301 | H15: FY24 Career & Technical Education RS
A16: Correctional Academy | D16: 0 | F16: =SUM(D16:E16) -> 0
A17: Institution Director's Office | D17: 0 | F17: =SUM(D17:E17) -> 0
A18: Transportation Unit | B18: JPOP | C18: JTRN | D18: =-'Sched-D2'!E107 -> 140000 | F18: =SUM(D18:E18) -> 140000 | G18: 5301
A19: Out of State | D19: 0 | F19: =SUM(D19:E19) -> 0
A20: Anchorage Complex
A21: Anvil Mtn. Correctional | B21: JPOP | C21: JAMC | D21: =-'Sched-D1'!D52 -> 0 | F21: =SUM(D21:E21) -> 0 | G21: 5301
A22: Hiland Mtn. Correctional | D22: 0 | F22: =SUM(D22:E22) -> 0
A23: Fairbanks Correctional | D23: 0 | F23: =SUM(D23:E23) -> 0
A24: Goose Creek Correctional | B24: JPOP | C24: JGCC | D24: =-'Sched-D1'!D211 -> 0 | F24: =SUM(D24:E24) -> 0
A25: Ketchikan Correctional | D25: 0 | F25: =SUM(D25:E25) -> 0
A26: Lemon Creek Correctional | B26: JPOP | C26: JLCC | D26: =-'Sched-D1'!D325-'Sched-D1'!D324 -> 373845.31 | F26: =SUM(D26:E26) -> 373845.31 | G26: 5301 | H26: (2 budgeted RSA's)
A27: Mat-Su Correctional | D27: 0 | F27: =SUM(D27:E27) -> 0
A28: Palmer Correctional | D28: 0 | F28: =SUM(D28:E28) -> 0
A29: Spring Creek Correctional | D29: 0 | F29: =SUM(D29:E29) -> 0
A30: Wildwood Correctional | D30: ='Sched-D1'!H545 -> 28891.2 | F30: =SUM(D30:E30) -> 28891.2 | H30: (1) Meals Budgeted RS
A31: Yukon Kuskokwim Correctional | B31: JPOP | C31: JYKC | D31: =-'Sched-D1'!D602 -> 53896.15 | F31: =SUM(D31:E31) -> 53896.15 | G31: 5301 | H31: (2) Budgeted RS
A32: Out-of-State Contractual | D32: 0 | F32: =SUM(D32:E32) -> 0
A33: Point Mackenzie Correctional | D33: 0 | F33: =SUM(D33:E33) -> 0
A34: Recidivism Reduction Grants | B34: JRRG | C34: JRRG | D34: =-'Sched-D2'!D138 -> 566339.97 | F34: =SUM(D34:E34) -> 566339.97 | G34: 5014
A35: Totals | D35: =SUM(D3:D34) -> 3380151.8 | E35: =SUM(E3:E34) -> 0 | F35: =SUM(F3:F34) -> 3380151.8 | I35: =D26+D21+D30+D31 -> 456632.66 | J35: Budgeted Meals & Laundry RS ONLY
A37: Revised: 9/18/24 lj

Sheet COST ALLOCATION
A1: COST ALLOCATION
A2: COMPONENT | E2: Appr Type | F2: TOTAL COSTS | H2: % OF TOTAL | I2: ADMIN & SUPPORT | J2: TOTAL ALL COSTS
A3: INDIRECT COST | I3: TOTAL
B4: Administration & Support RDU | E4: JCOM/JADS/JINT | F4: =-CostReim!D3-CostReim!D6-CostReim!D7 -> -682133.78 | I4: ='Sched-E'!C3 -> 15037614 | K4: Less: Budgeted RS: Forensic Analyst/ Core Services/ No Special Assign DPS
A5: DIRECT COST | I5: % by entity
H6: =G7/$G$42 -> 0.84060778 | I6: =SUM($I$4*H6) -> 12640735
B7: INSTITUTIONS | G7: =SUM(F8:F34) -> 3.670228e+08 | J7: =SUM(I6+G7) -> 3.7966354e+08
C8: 13 Institutions | F8: ='Sched-B1'!F17+'Sched-D1'!F708+'Sched-D2'!F146+CostReim!D21+CostReim!D26+CostReim!D30+CostReim!D31 -> 2.556774e+08
C9: Less: (2) Laundry & Meals RS | E9: JLCC | F9: =-CostReim!D26 -> -373845.31
C10: Less: DNR/MMM&S RSA (Closed) | E10: JPCC
C11: Less: WCC Meals RS | E11: JWCC | F11: =-CostReim!D30 -> -28891.2
C12: Less: GCCC Security DPS RS (Unbudgeted) | E12: JGCCC
C13: Less: (2) Meals YKCC | E13: JAMC /JYKC | F13: =-CostReim!D21-CostReim!D31 -> -53896.15 | K13: FY24 No Meals/Maint RS AMCC
C14: Facility Planning - Capital Improvement Program | E14: JCIM | F14: ='Sched-D2'!F33+'Sched-D2'!H32 -> 1596861.4
C15: Less: RS (Unbudgeted) | F15: =-CostReim!D9 -> -2882.6
B16: Health & Rehabilitation Services RDU | E16: JHRS | F16: ='Sched-D2'!F53+'Sched-D2'!H52 -> 88549597
C17: Less: RS (Unbudgeted RS)/ Medical Co-pay | E17: JHDO | F17: =-CostReim!D10 -> -54273.13
C18: Less: FED Public Protection Grants | E18: JSAP | F18: =-CostReim!D11 -> -205848
C19: Less: Alcohol Tax RSA (SCCC Men's Sub-Acute & Juvenile Offender Pgm) | E19: JBHC | F19: =-CostReim!D13 -> -251775
C20: Less: (1) Healthy Families RS | E20: JPHC | F20: -991251.26
C21: Less: (2) RSAT & Vivitrol RS | E21: JSAP | F21: =-CostReim!D12 -> 0
B22: Offender Habilitation Programs RDU | E22: JOFH | F22: ='Sched-D2'!F71+'Sched-D2'!H70 -> 1394768.4 | K22: Decreased by 3 RSAs (ABE/NO CARL P/MOS)
C23: Less: 3 Education RSAs | E23: JEDP | F23: =-CostReim!D15 -> -29015.36
C24: Less: 1 Voc Ed Programs RSA's (Unbudgeted) | E24: JVEP | F24: 0 | K24: Decreased by Unbud RSA's (No Step C - FY24)
B25: Institutions Director's Office | E25: JIDO | F25: ='Sched-D2'!F82 -> 3417454.7
C26: Less: DPS PREA RSA | E26: JIDO | F26: 0
B27: Prison System Expansion | E27: JPSE | F27: ='Sched-D2'!F17 -> 0
B28: Classification & Furlough | E28: JCLF | F28: ='Sched-D2'!F94 -> 1125904.3
B29: Inmate Transportation Unit | E29: JTRN | F29: ='Sched-D2'!F107+'Sched-D2'!H106 -> 6847249.6 | K29: Decreased by RSA
C30: Less: DPS Transportation RSA | F30: =-CostReim!D18 -> -140000
B31: Point of Arrest | E31: JPOA | F31: ='Sched-D2'!F113 -> 630111.89
B32: Recidivism Reduction Grant | E32: JRRG | F32: ='Sched-D2'!F138+'Sched-D2'!H137 -> 1309095.2
C33: JRRG Less: FED Public Protection Grants | F33: =-CostReim!D34 -> -566339.97 | K33: JRRG: Misc Grants
B34: Equipment & Building Depreciation | F34: ='Sched-F-G'!D41 -> 9172373.5
B35: Pretrial Services Division | E35: JPTS | G35: 14265202 | H35: =G35/$G$42 -> 0.032672194 | I35: =$I$4*H35 -> 491311.82 | J35: =SUM(I35+G35) -> 14756514
B36: Regional & Community Jails | E36: JCOJ | G36: 9808520 | H36: =G36/$G$42 -> 0.022464867 | I36: =$I$4*H36 -> 337817.98 | J36: =SUM(I36+G36) -> 10146338
B37: Probation & Parole Director's Office | E37: JPPD | G37: 1112721.7 | H37: =G37/$G$42 -> 0.0025485134 | I37: =$I$4*H37 -> 38323.56 | J37: =SUM(I37+G37) -> 1151045.3 | K37: JPPD Total EXP less FED Receipts (FY24 No FED Collected)
B38: State-wide Probation & Parole | E38: JSPP | G38: 18386507 | H38: =G38/$G$42 -> 0.042111391 | I38: =$I$4*H38 -> 633254.83 | J38: =SUM(I38+G38) -> 19019762
B39: Out of State Contractual | E39: JOOS | G39: 145374.99 | H39: =G39/$G$42 -> 0.00033295846 | I39: =$I$4*H39 -> 5006.9007 | J39: =SUM(I39+G39) -> 150381.89
B40: Electronic Monitoring | E40: JELM | G40: 2641145.9 | H40: =G40/$G$42 -> 0.0060491277 | I40: =$I$4*H40 -> 90964.445 | J40: =SUM(I40+G40) -> 2732110.3
...

Sheet BILLING RATE CALC
A1: BILLING RATE CALCULATION
A2: ANNUAL TOTAL MANDAYS | E2: ='Qtrly''s-Cntsht Book'!Y19 -> 1627449.5
A3: COMPONENT | C3: TOTAL EXPENSES | E3: LESS REIMB | F3: ADJUSTED COSTS | G3: BILLING RATE
A4: INSTITUTIONS | D4: =SUM(C5:C7) -> 2.556774e+08 | F4: =SUM(D4+E5+E6+E7) -> 2.4164734e+08 | G4: =F4/$E$2 -> 148.48223
B5: Institutions / Direct Revenue | C5: ='COST ALLOCATION'!F8 -> 2.556774e+08 | E5: -13573433
B6: Less: DHSS & DOT RSAs | E6: ='COST ALLOCATION'!F13+'COST ALLOCATION'!F9 -> -427741.46
B7: Less: WCC Meals RS (Unbudgeted) | E7: ='COST ALLOCATION'!F11 -> -28891.2
A8: OFFENDER HABILITATION PROGRAMS | C8: ='COST ALLOCATION'!F22 -> 1394768.4 | D8: =SUM(C8:C8) -> 1394768.4 | F8: =SUM(D8,E9) -> 1365753.1 | G8: =F8/$E$2 -> 0.83919843
B9: Less: Education (3) RSAs , JVEP (unbudgeted) | E9: ='COST ALLOCATION'!F23+'COST ALLOCATION'!F24 -> -29015.36
A10: HEALTH & REHABILITATION SERVICES | C10: =D10 -> 88549597 | D10: ='COST ALLOCATION'!F16 -> 88549597 | E10: ='COST ALLOCATION'!F17+'COST ALLOCATION'!F18+'COST ALLOCATION'!F19+'COST ALLOCATION'!F20+'COST ALLOCATION'!F21 -> -1503147.4 | F10: =SUM(D10:E10) -> 87046450 | G10: =F10/$E$2 -> 53.486421
A11: ADMIN & SUPPORT | D11: =SUM(C12) -> 12640735 | E11: ='COST ALLOCATION'!F4 -> -682133.78 | F11: =SUM(D11:E11) -> 11958601 | G11: =F11/$E$2 -> 7.3480629
B12: % for Institution Operations | C12: ='COST ALLOCATION'!I6 -> 12640735
A13: STATEWIDE DIRECT COSTS | D13: =SUM(C15:C22) -> 22789955 | F13: =D13+SUM(E13:E21) -> 22036046 | G13: =F13/$E$2 -> 13.540234
B14: SCAAPGrant JADS-IDO/2nd Chance JRRG | E14: ='COST ALLOCATION'!F33-44686.41 -> -611026.38
B15: Institutions Director's Office | C15: ='COST ALLOCATION'!F25 -> 3417454.7
B16: Less JPPD FED Receipts | E16: ='COST ALLOCATION'!F59 -> 0
B17: Equipment & Bldg. Depreciation | C17: ='COST ALLOCATION'!F34 -> 9172373.5
B18: Facility Planning - CIP | C18: ='COST ALLOCATION'!F14 -> 1596861.4 | E18: ='COST ALLOCATION'!F15 -> -2882.6
B19: Classification & Furlough | C19: ='COST ALLOCATION'!F28 -> 1125904.3
B20: Transportation | C20: ='COST ALLOCATION'!F29 -> 6847249.6 | E20: ='COST ALLOCATION'!F30 -> -140000
B21: Point of Arrest | C21: ='COST ALLOCATION'!F31 -> 630111.89
A23: BILLING RATE | D23: =SUM(D4:D18) -> 3.8105246e+08 | E23: =SUM(E4:E22) -> -16998271 | F23: =SUM(F4:F21) -> 3.6405419e+08 | G23: =SUM(G4:G21) -> 223.69615
A24: INDIVIDUAL INSTITUTION RATES
A25: Institutions | C25: Total Cost | D25: Mandays | E25: Inst. Cost | F25: Inmate Programs | G25: Inmate Health Care | H25: Div.of Admin.& Support Cost | I25: Statewide Direct Cost | J25: TOTAL
A26: Anchorage Complex | C26: ='Sched-B1'!F4+'Sched-D1'!F49 -> 42760025 | D26: ='Inmate Avg Daily Population'!O4 -> 287066 | E26: =C26/D26 -> 148.95538 | F26: =$G$8 -> 0.83919843 | G26: =$G$10 -> 53.486421 | H26: =$G$11 -> 7.3480629 | I26: =$G$13 -> 13.540234 | J26: =SUM(E26:I26) -> 224.1693
A27: Anvil Mtn. Correctional | C27: ='Sched-B1'!F5+'Sched-D1'!F100 -> 9298078.4 | D27: ='Inmate Avg Daily Population'!O5 -> 39162 | E27: =C27/D27 -> 237.42604 | F27: =$G$8 -> 0.83919843 | G27: =$G$10 -> 53.486421 | H27: =$G$11 -> 7.3480629 | I27: =$G$13 -> 13.540234 | J27: =SUM(E27:I27) -> 312.63995
A28: Fairbanks Correctional | C28: ='Sched-B1'!F7+'Sched-D1'!F208 -> 15667147 | D28: ='Inmate Avg Daily Population'!O6 -> 82167 | E28: =C28/D28 -> 190.67445 | F28: =$G$8 -> 0.83919843 | G28: =$G$10 -> 53.486421 | H28: =$G$11 -> 7.3480629 | I28: =$G$13 -> 13.540234 | J28: =SUM(E28:I28) -> 265.88836
A29: Goose Creek Correctional | C29: ='Sched-B1'!F8+'Sched-D1'!F266 -> 51303233 | D29: ='Inmate Avg Daily Population'!O7 -> 451827 | E29: =C29/D29 -> 113.54619 | F29: =$G$8 -> 0.83919843 | G29: =$G$10 -> 53.486421 | H29: =$G$11 -> 7.3480629 | I29: =$G$13 -> 13.540234 | J29: =SUM(E29:I29) -> 188.7601
A30: Hiland Mtn. Correctional | C30: ='Sched-B1'!F6+'Sched-D1'!F152 -> 20394893 | D30: ='Inmate Avg Daily Population'!O8 -> 126575 | E30: =C30/D30 -> 161.12892 | F30: =$G$8 -> 0.83919843 | G30: =$G$10 -> 53.486421 | H30: =$G$11 -> 7.3480629 | I30: =$G$13 -> 13.540234 | J30: =SUM(E30:I30) -> 236.34284
A31: Ketchikan Correctional | C31: ='Sched-B1'!F9+'Sched-D1'!F321 -> 5870797.4 | D31: ='Inmate Avg Daily Population'!O9 -> 18666 | E31: =C31/D31 -> 314.51824 | F31: =$G$8 -> 0.83919843 | G31: =$G$10 -> 53.486421 | H31: =$G$11 -> 7.3480629 | I31: =$G$13 -> 13.540234 | J31: =SUM(E31:I31) -> 389.73215
A32: Lemon Creek Correctional | C32: ='Sched-B1'!F10+'Sched-D1'!F376 -> 13901764 | D32: ='Inmate Avg Daily Population'!O10 -> 38521.5 | E32: =C32/D32 -> 360.88325 | F32: =$G$8 -> 0.83919843 | G32: =$G$10 -> 53.486421 | H32: =$G$11 -> 7.3480629 | I32: =$G$13 -> 13.540234 | J32: =SUM(E32:I32) -> 436.09717
A33: Mat-Su Correctional | C33: ='Sched-B1'!F11+'Sched-D1'!F431 -> 8774548.6 | D33: ='Inmate Avg Daily Population'!O11 -> 30134 | E33: =C33/D33 -> 291.18433 | F33: =$G$8 -> 0.83919843 | G33: =$G$10 -> 53.486421 | H33: =$G$11 -> 7.3480629 | I33: =$G$13 -> 13.540234 | J33: =SUM(E33:I33) -> 366.39825
A34: Palmer Correctional | C34: ='Sched-B1'!F12+'Sched-D1'!F484 -> 19118157 | D34: ='Inmate Avg Daily Population'!O12 -> 178608 | E34: =C34/D34 -> 107.03976 | F34: =$G$8 -> 0.83919843 | G34: =$G$10 -> 53.486421 | H34: =$G$11 -> 7.3480629 | I34: =$G$13 -> 13.540234 | J34: =SUM(E34:I34) -> 182.25367
A35: Pt. MacKenzie Correctional Farm | C35: ='Sched-B1'!F16+'Sched-D1'!F707 -> 6822994.3 | D35: ='Inmate Avg Daily Population'!O13 -> 23637.5 | E35: =C35/D35 -> 288.65127 | F35: =$G$8 -> 0.83919843 | G35: =$G$10 -> 53.486421 | H35: =$G$11 -> 7.3480629 | I35: =$G$13 -> 13.540234 | J35: =SUM(E35:I35) -> 363.86518
A36: Spring Creek Correctional | C36: ='Sched-B1'!F13+'Sched-D1'!F542 -> 29204790 | D36: ='Inmate Avg Daily Population'!O14 -> 143929.5 | E36: =C36/D36 -> 202.91038 | F36: =$G$8 -> 0.83919843 | G36: =$G$10 -> 53.486421 | H36: =$G$11 -> 7.3480629 | I36: =$G$13 -> 13.540234 | J36: =SUM(E36:I36) -> 278.1243
A37: Wildwood Correctional | C37: ='Sched-B1'!F14+'Sched-D1'!F599 -> 20195091 | D37: ='Inmate Avg Daily Population'!O15 -> 157776.5 | E37: =C37/D37 -> 127.99809 | F37: =$G$8 -> 0.83919843 | G37: =$G$10 -> 53.486421 | H37: =$G$11 -> 7.3480629 | I37: =$G$13 -> 13.540234 | J37: =SUM(E37:I37) -> 203.21201
A38: Yukon Kuskokwim Correctional | C38: ='Sched-B1'!F15+'Sched-D1'!F650 -> 11909251 | D38: ='Inmate Avg Daily Population'!O16 -> 49379.5 | E38: =C38/D38 -> 241.17804 | F38: =$G$8 -> 0.83919843 | G38: =$G$10 -> 53.486421 | H38: =$G$11 -> 7.3480629 | I38: =$G$13 -> 13.540234 | J38: =SUM(E38:I38) -> 316.39195
A39: Totals | C39: =SUM(C26:C38) -> 2.5522077e+08 | D39: =SUM(D26:D38) -> 1627449.5 | E39: =G4 -> 148.48223 | F39: =G8 -> 0.83919843 | G39: =G10 -> 53.486421 | H39: =G11 -> 7.3480629 | I39: =G13 -> 13.540234 | J39: =SUM(E39:I39) -> 223.69615
E41: =E23+CostReim!D35+44686.41+13573432.88 -> 0 | F41: ck / ALL DOC Revenue
A43: Revised: 09/19/24 lj

Sheet Inmate Avg Daily Population
A1: ANNUAL TOTAL MANDAYS | R1: **PLEASE NOTE FY2024 is a leap year, FY2025 will need to have the formula's adjusted back to a normal year of 365 days**
B2: AVERAGE DAILY INMATE POPULATION | N2: ANNUAL AVERAGE DAILY POPULATION | O2: ANNUAL TOTAL MANDAYS
A3: Institutions | B3: 45108 | C3: 45139 | D3: 45170 | E3: 45200 | F3: 45231 | G3: 45261 | H3: 45292 | I3: 45323 | J3: 45352 | K3: 45383 | L3: 45413 | M3: 45444
A4: Anchorage Complex | B4: ='Qtrly''s-Cntsht Book'!D5 -> 752 | C4: ='Qtrly''s-Cntsht Book'!E5 -> 766 | D4: ='Qtrly''s-Cntsht Book'!F5 -> 785 | E4: ='Qtrly''s-Cntsht Book'!I5 -> 760 | F4: ='Qtrly''s-Cntsht Book'!J5 -> 768 | G4: ='Qtrly''s-Cntsht Book'!K5 -> 787 | H4: ='Qtrly''s-Cntsht Book'!N5 -> 806 | I4: ='Qtrly''s-Cntsht Book'!O5 -> 808 | J4: ='Qtrly''s-Cntsht Book'!P5 -> 790 | K4: ='Qtrly''s-Cntsht Book'!S5 -> 793 | L4: ='Qtrly''s-Cntsht Book'!T5 -> 795 | M4: ='Qtrly''s-Cntsht Book'!U5 -> 802 | N4: =SUM(B4:M4)/12 -> 784.33333 | O4: =N4*366 -> 287066
A5: Anvil Mountain CC | B5: ='Qtrly''s-Cntsht Book'!D6 -> 110 | C5: ='Qtrly''s-Cntsht Book'!E6 -> 109 | D5: ='Qtrly''s-Cntsht Book'!F6 -> 100 | E5: ='Qtrly''s-Cntsht Book'!I6 -> 105 | F5: ='Qtrly''s-Cntsht Book'!J6 -> 108 | G5: ='Qtrly''s-Cntsht Book'!K6 -> 105 | H5: ='Qtrly''s-Cntsht Book'!N6 -> 105 | I5: ='Qtrly''s-Cntsht Book'!O6 -> 111 | J5: ='Qtrly''s-Cntsht Book'!P6 -> 105 | K5: ='Qtrly''s-Cntsht Book'!S6 -> 104 | L5: ='Qtrly''s-Cntsht Book'!T6 -> 113 | M5: ='Qtrly''s-Cntsht Book'!U6 -> 109 | N5: =SUM(B5:M5)/12 -> 107 | O5: =N5*366 -> 39162
A6: Fairbanks CC | B6: ='Qtrly''s-Cntsht Book'!D7 -> 226 | C6: ='Qtrly''s-Cntsht Book'!E7 -> 225 | D6: ='Qtrly''s-Cntsht Book'!F7 -> 211 | E6: ='Qtrly''s-Cntsht Book'!I7 -> 215 | F6: ='Qtrly''s-Cntsht Book'!J7 -> 210 | G6: ='Qtrly''s-Cntsht Book'!K7 -> 218 | H6: ='Qtrly''s-Cntsht Book'!N7 -> 232 | I6: ='Qtrly''s-Cntsht Book'!O7 -> 224 | J6: ='Qtrly''s-Cntsht Book'!P7 -> 219 | K6: ='Qtrly''s-Cntsht Book'!S7 -> 236 | L6: ='Qtrly''s-Cntsht Book'!T7 -> 242 | M6: ='Qtrly''s-Cntsht Book'!U7 -> 236 | N6: =SUM(B6:M6)/12 -> 224.5 | O6: =N6*366 -> 82167
A7: Goose Creek CC | B7: ='Qtrly''s-Cntsht Book'!D8 -> 1319 | C7: ='Qtrly''s-Cntsht Book'!E8 -> 1298 | D7: ='Qtrly''s-Cntsht Book'!F8 -> 1272 | E7: ='Qtrly''s-Cntsht Book'!I8 -> 1292 | F7: ='Qtrly''s-Cntsht Book'!J8 -> 1273 | G7: ='Qtrly''s-Cntsht Book'!K8 -> 1213 | H7: ='Qtrly''s-Cntsht Book'!N8 -> 1211 | I7: ='Qtrly''s-Cntsht Book'!O8 -> 1187 | J7: ='Qtrly''s-Cntsht Book'!P8 -> 1198 | K7: ='Qtrly''s-Cntsht Book'!S8 -> 1186 | L7: ='Qtrly''s-Cntsht Book'!T8 -> 1168 | M7: ='Qtrly''s-Cntsht Book'!U8 -> 1197 | N7: =SUM(B7:M7)/12 -> 1234.5 | O7: =N7*366 -> 451827
A8: Combined Hiland Mtn CC | B8: ='Qtrly''s-Cntsht Book'!D9 -> 342 | C8: ='Qtrly''s-Cntsht Book'!E9 -> 343 | D8: ='Qtrly''s-Cntsht Book'!F9 -> 355 | E8: ='Qtrly''s-Cntsht Book'!I9 -> 348 | F8: ='Qtrly''s-Cntsht Book'!J9 -> 340 | G8: ='Qtrly''s-Cntsht Book'!K9 -> 350 | H8: ='Qtrly''s-Cntsht Book'!N9 -> 353 | I8: ='Qtrly''s-Cntsht Book'!O9 -> 341 | J8: ='Qtrly''s-Cntsht Book'!P9 -> 335 | K8: ='Qtrly''s-Cntsht Book'!S9 -> 346 | L8: ='Qtrly''s-Cntsht Book'!T9 -> 342 | M8: ='Qtrly''s-Cntsht Book'!U9 -> 355 | N8: =SUM(B8:M8)/12 -> 345.83333 | O8: =N8*366 -> 126575
A9: Ketchikan CC | B9: ='Qtrly''s-Cntsht Book'!D10 -> 52 | C9: ='Qtrly''s-Cntsht Book'!E10 -> 50 | D9: ='Qtrly''s-Cntsht Book'!F10 -> 52 | E9: ='Qtrly''s-Cntsht Book'!I10 -> 48 | F9: ='Qtrly''s-Cntsht Book'!J10 -> 49 | G9: ='Qtrly''s-Cntsht Book'!K10 -> 48 | H9: ='Qtrly''s-Cntsht Book'!N10 -> 52 | I9: ='Qtrly''s-Cntsht Book'!O10 -> 51 | J9: ='Qtrly''s-Cntsht Book'!P10 -> 52 | K9: ='Qtrly''s-Cntsht Book'!S10 -> 53 | L9: ='Qtrly''s-Cntsht Book'!T10 -> 57 | M9: ='Qtrly''s-Cntsht Book'!U10 -> 48 | N9: =SUM(B9:M9)/12 -> 51 | O9: =N9*366 -> 18666
A10: Lemon Creek CC | B10: ='Qtrly''s-Cntsht Book'!D11 -> 102 | C10: ='Qtrly''s-Cntsht Book'!E11 -> 99 | D10: ='Qtrly''s-Cntsht Book'!F11 -> 100 | E10: ='Qtrly''s-Cntsht Book'!I11 -> 100 | F10: ='Qtrly''s-Cntsht Book'!J11 -> 108 | G10: ='Qtrly''s-Cntsht Book'!K11 -> 109 | H10: ='Qtrly''s-Cntsht Book'!N11 -> 107 | I10: ='Qtrly''s-Cntsht Book'!O11 -> 103 | J10: ='Qtrly''s-Cntsht Book'!P11 -> 108 | K10: ='Qtrly''s-Cntsht Book'!S11 -> 112 | L10: ='Qtrly''s-Cntsht Book'!T11 -> 111 | M10: ='Qtrly''s-Cntsht Book'!U11 -> 104 | N10: =SUM(B10:M10)/12 -> 105.25 | O10: =N10*366 -> 38521.5
A11: Mat-Su CC | B11: ='Qtrly''s-Cntsht Book'!D12 -> 86 | C11: ='Qtrly''s-Cntsht Book'!E12 -> 75 | D11: ='Qtrly''s-Cntsht Book'!F12 -> 83 | E11: ='Qtrly''s-Cntsht Book'!I12 -> 89 | F11: ='Qtrly''s-Cntsht Book'!J12 -> 76 | G11: ='Qtrly''s-Cntsht Book'!K12 -> 82 | H11: ='Qtrly''s-Cntsht Book'!N12 -> 84 | I11: ='Qtrly''s-Cntsht Book'!O12 -> 86 | J11: ='Qtrly''s-Cntsht Book'!P12 -> 86 | K11: ='Qtrly''s-Cntsht Book'!S12 -> 82 | L11: ='Qtrly''s-Cntsht Book'!T12 -> 85 | M11: ='Qtrly''s-Cntsht Book'!U12 -> 74 | N11: =SUM(B11:M11)/12 -> 82.333333 | O11: =N11*366 -> 30134
A12: Palmer CC | B12: ='Qtrly''s-Cntsht Book'!D13 -> 469 | C12: ='Qtrly''s-Cntsht Book'!E13 -> 482 | D12: ='Qtrly''s-Cntsht Book'!F13 -> 489 | E12: ='Qtrly''s-Cntsht Book'!I13 -> 487 | F12: ='Qtrly''s-Cntsht Book'!J13 -> 491 | G12: ='Qtrly''s-Cntsht Book'!K13 -> 485 | H12: ='Qtrly''s-Cntsht Book'!N13 -> 484 | I12: ='Qtrly''s-Cntsht Book'!O13 -> 497 | J12: ='Qtrly''s-Cntsht Book'!P13 -> 496 | K12: ='Qtrly''s-Cntsht Book'!S13 -> 496 | L12: ='Qtrly''s-Cntsht Book'!T13 -> 493 | M12: ='Qtrly''s-Cntsht Book'!U13 -> 487 | N12: =SUM(B12:M12)/12 -> 488 | O12: =N12*366 -> 178608
A13: Pt. MacKenzie | B13: ='Qtrly''s-Cntsht Book'!D14 -> 59 | C13: ='Qtrly''s-Cntsht Book'!E14 -> 58 | D13: ='Qtrly''s-Cntsht Book'!F14 -> 55 | E13: ='Qtrly''s-Cntsht Book'!I14 -> 64 | F13: ='Qtrly''s-Cntsht Book'!J14 -> 66 | G13: ='Qtrly''s-Cntsht Book'!K14 -> 71 | H13: ='Qtrly''s-Cntsht Book'!N14 -> 70 | I13: ='Qtrly''s-Cntsht Book'!O14 -> 63 | J13: ='Qtrly''s-Cntsht Book'!P14 -> 69 | K13: ='Qtrly''s-Cntsht Book'!S14 -> 69 | L13: ='Qtrly''s-Cntsht Book'!T14 -> 68 | M13: ='Qtrly''s-Cntsht Book'!U14 -> 63 | N13: =SUM(B13:M13)/12 -> 64.583333 | O13: =N13*366 -> 23637.5
A14: Spring Creek CC | B14: ='Qtrly''s-Cntsht Book'!D15 -> 403 | C14: ='Qtrly''s-Cntsht Book'!E15 -> 407 | D14: ='Qtrly''s-Cntsht Book'!F15 -> 408 | E14: ='Qtrly''s-Cntsht Book'!I15 -> 416 | F14: ='Qtrly''s-Cntsht Book'!J15 -> 414 | G14: ='Qtrly''s-Cntsht Book'!K15 -> 413 | H14: ='Qtrly''s-Cntsht Book'!N15 -> 396 | I14: ='Qtrly''s-Cntsht Book'!O15 -> 374 | J14: ='Qtrly''s-Cntsht Book'!P15 -> 373 | K14: ='Qtrly''s-Cntsht Book'!S15 -> 373 | L14: ='Qtrly''s-Cntsht Book'!T15 -> 370 | M14: ='Qtrly''s-Cntsht Book'!U15 -> 372 | N14: =SUM(B14:M14)/12 -> 393.25 | O14: =N14*366 -> 143929.5
A15: Wildwood CC | B15: ='Qtrly''s-Cntsht Book'!D16 -> 433 | C15: ='Qtrly''s-Cntsht Book'!E16 -> 438 | D15: ='Qtrly''s-Cntsht Book'!F16 -> 449 | E15: ='Qtrly''s-Cntsht Book'!I16 -> 438 | F15: ='Qtrly''s-Cntsht Book'!J16 -> 425 | G15: ='Qtrly''s-Cntsht Book'!K16 -> 425 | H15: ='Qtrly''s-Cntsht Book'!N16 -> 411 | I15: ='Qtrly''s-Cntsht Book'!O16 -> 439 | J15: ='Qtrly''s-Cntsht Book'!P16 -> 440 | K15: ='Qtrly''s-Cntsht Book'!S16 -> 429 | L15: ='Qtrly''s-Cntsht Book'!T16 -> 421 | M15: ='Qtrly''s-Cntsht Book'!U16 -> 425 | N15: =SUM(B15:M15)/12 -> 431.08333 | O15: =N15*366 -> 157776.5
A16: Yukon-Kuskokwim CC | B16: ='Qtrly''s-Cntsht Book'!D17 -> 138 | C16: ='Qtrly''s-Cntsht Book'!E17 -> 146 | D16: ='Qtrly''s-Cntsht Book'!F17 -> 153 | E16: ='Qtrly''s-Cntsht Book'!I17 -> 133 | F16: ='Qtrly''s-Cntsht Book'!J17 -> 130 | G16: ='Qtrly''s-Cntsht Book'!K17 -> 130 | H16: ='Qtrly''s-Cntsht Book'!N17 -> 124 | I16: ='Qtrly''s-Cntsht Book'!O17 -> 124 | J16: ='Qtrly''s-Cntsht Book'!P17 -> 137 | K16: ='Qtrly''s-Cntsht Book'!S17 -> 130 | L16: ='Qtrly''s-Cntsht Book'!T17 -> 138 | M16: ='Qtrly''s-Cntsht Book'!U17 -> 136 | N16: =SUM(B16:M16)/12 -> 134.91667 | O16: =N16*366 -> 49379.5
A17: Tents | B17: ='Qtrly''s-Cntsht Book'!D110 -> 0 | C17: ='Qtrly''s-Cntsht Book'!E110 -> 0 | D17: ='Qtrly''s-Cntsht Book'!F110 -> 0 | E17: ='Qtrly''s-Cntsht Book'!I110 -> 0 | F17: ='Qtrly''s-Cntsht Book'!J110 -> 0 | G17: ='Qtrly''s-Cntsht Book'!K110 -> 0 | H17: ='Qtrly''s-Cntsht Book'!N110 -> 0 | I17: ='Qtrly''s-Cntsht Book'!O110 -> 0 | J17: ='Qtrly''s-Cntsht Book'!P110 -> 0 | K17: ='Qtrly''s-Cntsht Book'!S110 -> - | L17: ='Qtrly''s-Cntsht Book'!T110 -> - | M17: ='Qtrly''s-Cntsht Book'!U110 -> - | N17: =SUM(B17:M17)/12 -> 0 | O17: =N17*365 -> 0
A18: TOTAL INSTITUTIONS | B18: =SUM(B4:B17) -> 4491 | C18: =SUM(C4:C17) -> 4496 | D18: =SUM(D4:D17) -> 4512 | E18: =SUM(E4:E17) -> 4495 | F18: =SUM(F4:F17) -> 4458 | G18: =SUM(G4:G17) -> 4436 | H18: =SUM(H4:H17) -> 4435 | I18: =SUM(I4:I17) -> 4408 | ... M18: =SUM(M4:M17) -> 4408 | N18: =SUM(B18:M18)/12 -> 4446.5833 | O18: =N18*366 -> 1627449.5
A19: Other
A20: CRC's | B20: ='Qtrly''s-Cntsht Book'!D21 -> 373 | C20: ='Qtrly''s-Cntsht Book'!E21 -> 381 | D20: ='Qtrly''s-Cntsht Book'!F21 -> 384 | E20: ='Qtrly''s-Cntsht Book'!I21 -> 402 | F20: ='Qtrly''s-Cntsht Book'!J21 -> 393 | G20: ='Qtrly''s-Cntsht Book'!K21 -> 373 | H20: ='Qtrly''s-Cntsht Book'!N21 -> 368 | I20: ='Qtrly''s-Cntsht Book'!O21 -> 398 | J20: ='Qtrly''s-Cntsht Book'!P21 -> 387 | K20: ='Qtrly''s-Cntsht Book'!S21 -> 387 | L20: ='Qtrly''s-Cntsht Book'!T21 -> 402 | M20: ='Qtrly''s-Cntsht Book'!U21 -> 396 | N20: =SUM(B20:M20)/12 -> 387 | O20: =N20*366 -> 141642
A21: CRC Offender Supervision | B21: ='Qtrly''s-Cntsht Book'!D22 -> 0 | C21: ='Qtrly''s-Cntsht Book'!E22 -> 0 | D21: ='Qtrly''s-Cntsht Book'!F22 -> 0 | E21: ='Qtrly''s-Cntsht Book'!I22 -> 0 | F21: ='Qtrly''s-Cntsht Book'!J22 -> 0 | G21: ='Qtrly''s-Cntsht Book'!K22 -> 0 | H21: ='Qtrly''s-Cntsht Book'!N22 -> 0 | I21: ='Qtrly''s-Cntsht Book'!O22 -> 0 | J21: ='Qtrly''s-Cntsht Book'!P22 -> 0 | K21: ='Qtrly''s-Cntsht Book'!S22 -> 0 | L21: ='Qtrly''s-Cntsht Book'!T22 -> 0 | M21: ='Qtrly''s-Cntsht Book'!U22 -> 0 | N21: =SUM(B21:M21)/12 -> 0 | O21: =N21*365 -> 0
A22: Treatment Beds | B22: ='Qtrly''s-Cntsht Book'!D23 -> 24 | C22: ='Qtrly''s-Cntsht Book'!E23 -> 25 | D22: ='Qtrly''s-Cntsht Book'!F23 -> 21 | E22: ='Qtrly''s-Cntsht Book'!I23 -> 20 | F22: ='Qtrly''s-Cntsht Book'!J23 -> 18 | G22: ='Qtrly''s-Cntsht Book'!K23 -> 19 | H22: ='Qtrly''s-Cntsht Book'!N23 -> 19 | I22: ='Qtrly''s-Cntsht Book'!O23 -> 23 | J22: ='Qtrly''s-Cntsht Book'!P23 -> 25 | K22: ='Qtrly''s-Cntsht Book'!S23 -> 25 | L22: ='Qtrly''s-Cntsht Book'!T23 -> 20 | M22: ='Qtrly''s-Cntsht Book'!U23 -> 18 | N22: =SUM(B22:M22)/12 -> 21.416667 | O22: =N22*366 -> 7838.5
A23: Electronic Monitoring | B23: ='Qtrly''s-Cntsht Book'!D24 -> 207 | C23: ='Qtrly''s-Cntsht Book'!E24 -> 211 | D23: ='Qtrly''s-Cntsht Book'!F24 -> 218 | E23: ='Qtrly''s-Cntsht Book'!I24 -> 226 | F23: ='Qtrly''s-Cntsht Book'!J24 -> 230 | G23: ='Qtrly''s-Cntsht Book'!K24 -> 223 | H23: ='Qtrly''s-Cntsht Book'!N24 -> 236 | I23: ='Qtrly''s-Cntsht Book'!O24 -> 257 | J23: ='Qtrly''s-Cntsht Book'!P24 -> 269 | K23: ='Qtrly''s-Cntsht Book'!S24 -> 269 | L23: ='Qtrly''s-Cntsht Book'!T24 -> 292 | M23: ='Qtrly''s-Cntsht Book'!U24 -> 291 | N23: =SUM(B23:M23)/12 -> 244.08333 | O23: =N23*366 -> 89334.5
A24: TWO (New) | B24: ='Qtrly''s-Cntsht Book'!D25 -> 0 | C24: ='Qtrly''s-Cntsht Book'!E25 -> 0 | D24: ='Qtrly''s-Cntsht Book'!F25 -> 0 | E24: ='Qtrly''s-Cntsht Book'!I25 -> 0 | F24: ='Qtrly''s-Cntsht Book'!J25 -> 0 | G24: ='Qtrly''s-Cntsht Book'!K25 -> 0 | H24: ='Qtrly''s-Cntsht Book'!N25 -> 0 | I24: ='Qtrly''s-Cntsht Book'!O25 -> 0 | J24: ='Qtrly''s-Cntsht Book'!P25 -> 0 | K24: ='Qtrly''s-Cntsht Book'!S25 -> 0 | L24: ='Qtrly''s-Cntsht Book'!T25 -> 0 | M24: ='Qtrly''s-Cntsht Book'!U25 -> 0 | N24: =SUM(B24:M24)/12 -> 0 | O24: =N24*365 -> 0
A25: Pretrial EM (New) | B25: ='Qtrly''s-Cntsht Book'!D26 -> 1357 | C25: ='Qtrly''s-Cntsht Book'!E26 -> 1323 | D25: ='Qtrly''s-Cntsht Book'!F26 -> 1344 | E25: ='Qtrly''s-Cntsht Book'!I26 -> 1365 | F25: ='Qtrly''s-Cntsht Book'!J26 -> 1374 | G25: ='Qtrly''s-Cntsht Book'!K26 -> 1389 | H25: ='Qtrly''s-Cntsht Book'!N26 -> 1385 | I25: ='Qtrly''s-Cntsht Book'!O26 -> 1363 | J25: ='Qtrly''s-Cntsht Book'!P26 -> 1338 | K25: ='Qtrly''s-Cntsht Book'!S26 -> 1293 | L25: ='Qtrly''s-Cntsht Book'!T26 -> 1273 | M25: ='Qtrly''s-Cntsht Book'!U26 -> 1265 | N25: =SUM(B25:M25)/12 -> 1339.0833 | O25: =N25*366 -> 490104.5
A26: Colorado | B26: ='Qtrly''s-Cntsht Book'!D88 -> 0 | C26: ='Qtrly''s-Cntsht Book'!E88 -> 0 | D26: ='Qtrly''s-Cntsht Book'!F88 -> 0 | E26: ='Qtrly''s-Cntsht Book'!I88 -> 0 | F26: ='Qtrly''s-Cntsht Book'!J88 -> 0 | G26: ='Qtrly''s-Cntsht Book'!K88 -> 0 | H26: ='Qtrly''s-Cntsht Book'!N88 -> 0 | I26: ='Qtrly''s-Cntsht Book'!O88 -> 0 | J26: ='Qtrly''s-Cntsht Book'!P88 -> 0 | K26: ='Qtrly''s-Cntsht Book'!S27 -> 0 | L26: ='Qtrly''s-Cntsht Book'!T88 -> 0 | M26: ='Qtrly''s-Cntsht Book'!U88 -> 0 | N26: =SUM(B26:M26)/12 -> 0 | O26: =N26*365 -> 0
A27: Other Out Of State | B27: ='Qtrly''s-Cntsht Book'!D28 -> 7 | C27: ='Qtrly''s-Cntsht Book'!E28 -> 7 | D27: ='Qtrly''s-Cntsht Book'!F28 -> 7 | E27: ='Qtrly''s-Cntsht Book'!I28 -> 7 | F27: ='Qtrly''s-Cntsht Book'!J28 -> 7 | G27: ='Qtrly''s-Cntsht Book'!K28 -> 7 | H27: ='Qtrly''s-Cntsht Book'!N28 -> 7 | I27: ='Qtrly''s-Cntsht Book'!O28 -> 7 | J27: ='Qtrly''s-Cntsht Book'!P28 -> 7 | K27: ='Qtrly''s-Cntsht Book'!S28 -> 7 | L27: ='Qtrly''s-Cntsht Book'!T28 -> 7 | M27: ='Qtrly''s-Cntsht Book'!U28 -> 6 | N27: =SUM(B27:M27)/12 -> 6.9166667 | O27: =N27*366 -> 2531.5
A28: TOTAL OTHER | B28: ='Qtrly''s-Cntsht Book'!D29 -> 1968 | C28: ='Qtrly''s-Cntsht Book'!E29 -> 1947 | D28: ='Qtrly''s-Cntsht Book'!F29 -> 1974 | E28: ='Qtrly''s-Cntsht Book'!I29 -> 2020 | F28: ='Qtrly''s-Cntsht Book'!J29 -> 2022 | G28: ='Qtrly''s-Cntsht Book'!K29 -> 2011 | H28: ='Qtrly''s-Cntsht Book'!N29 -> 2015 | I28: ='Qtrly''s-Cntsht Book'!O29 -> 2048 | J28: ='Qtrly''s-Cntsht Book'!P29 -> 2026 | K28: ='Qtrly''s-Cntsht Book'!S29 -> 1981 | L28: ='Qtrly''s-Cntsht Book'!T29 -> 1994 | M28: ='Qtrly''s-Cntsht Book'!U29 -> 1976 | N28: =SUM(B28:M28)/12 -> 1998.5 | O28: =SUM(O20:O27) -> 731451
A29: GRAND TOTAL | B29: =B18+B28 -> 6459 | C29: =C18+C28 -> 6443 | D29: =D18+D28 -> 6486 | E29: =E18+E28 -> 6515 | F29: =F18+F28 -> 6480 | G29: =G18+G28 -> 6447 | H29: =H18+H28 -> 6450 | I29: =I18+I28 -> 6456 | ... M29: =M18+M28 -> 6384 | N29: =SUM(B29:M29)/12 -> 6445.0833 | O29: =O18+O28 -> 2358900.5
A35: Updated: 09/19/24 lj

Sheet Avg Daily Community Jails
A1: JULY 2023 TO JUNE 2024-NUMBER OF PERSONS
A3: BEDS | B3: 4 | C3: 6 | D3: 7 | E3: 8 | F3: 6 | G3: 7 | H3: 22 | I3: 10 | J3: 9 | K3: 12 | L3: 14 | M3: 15 | N3: 10 | O3: 13 | P3: 12 | Q3: 155
B4: Bristol Bay | C4: Cordova | D4: Craig | E4: Dillingham | F4: Haines | G4: Homer | H4: Kodiak | I4: Kotzebue | J4: NSB | K4: Petersburg | L4: Seward | M4: Sitka | N4: Unalaska | O4: Valdez | P4: Wrangell
A5: July | B5: 33 | C5: 9 | D5: 23 | E5: 25 | F5: 0 | G5: 44 | H5: 38 | I5: 72 | J5: 29 | K5: 3 | L5: 22 | M5: 24 | N5: 4 | O5: 25 | P5: 3
A6: August | B6: 6 | C6: 8 | D6: 19 | E6: 34 | F6: 2 | G6: 41 | H6: 54 | I6: 58 | J6: 44 | K6: 6 | L6: 22 | M6: 20 | N6: 2 | O6: 7 | P6: 5
A7: September | B7: 17 | C7: 7 | D7: 14 | E7: 15 | F7: 1 | G7: 42 | H7: 36 | I7: 51 | J7: 33 | K7: 6 | M7: 23 | N7: 13 | O7: 5 | P7: 5
A8: October | B8: 16 | C8: 3 | D8: 16 | E8: 17 | F8: 3 | G8: 52 | H8: 46 | I8: 54 | J8: 32 | K8: 1 | M8: 27 | N8: 5 | O8: 15 | P8: 6
A9: November | B9: 9 | C9: 7 | D9: 18 | E9: 21 | F9: 0 | G9: 35 | H9: 37 | I9: 53 | J9: 26 | K9: 15 | M9: 16 | N9: 1 | O9: 13 | P9: 3
A10: December | B10: 5 | C10: 4 | D10: 12 | E10: 23 | F10: 2 | G10: 34 | H10: 35 | I10: 33 | J10: 19 | K10: 9 | M10: 15 | N10: 7 | O10: 7 | P10: 3
A11: January | B11: 4 | C11: 5 | D11: 24 | E11: 7 | F11: 1 | G11: 31 | H11: 49 | I11: 49 | J11: 22 | K11: 4 | M11: 14 | N11: 4 | O11: 11 | P11: 2
A12: February | B12: 4 | C12: 2 | D12: 16 | E12: 20 | F12: 1 | G12: 24 | H12: 39 | I12: 49 | J12: 20 | K12: 8 | M12: 16 | N12: 11 | O12: 11 | P12: 5
A13: March | B13: 9 | C13: 1 | D13: 19 | E13: 9 | F13: 1 | G13: 32 | H13: 32 | I13: 52 | J13: 28 | K13: 8 | M13: 21 | N13: 7 | O13: 7 | P13: 8
A14: April | B14: 9 | C14: 4 | D14: 17 | E14: 8 | F14: 0 | G14: 32 | H14: 58 | I14: 60 | J14: 30 | K14: 4 | M14: 14 | N14: 9 | O14: 21 | P14: 7
A15: May | B15: 15 | C15: 7 | D15: 8 | E15: 32 | F15: 4 | G15: 37 | H15: 44 | I15: 58 | J15: 21 | K15: 7 | M15: 18 | N15: 6 | O15: 21 | P15: 3
A16: June | B16: 14 | C16: 5 | D16: 18 | E16: 8 | F16: 5 | G16: 54 | H16: 35 | I16: 45 | J16: 27 | K16: 5 | M16: 10 | N16: 8 | O16: 15 | P16: 3 | Q16: Total
A17: Total | B17: =SUM(B5:B16) -> 141 | C17: =SUM(C5:C16) -> 62 | D17: =SUM(D5:D16) -> 204 | E17: 219 | F17: =SUM(F5:F16) -> 20 | G17: =SUM(G5:G16) -> 458 | H17: =SUM(H5:H16) -> 503 | I17: =SUM(I5:I16) -> 634 | J17: =SUM(J5:J16) -> 331 | K17: =SUM(K5:K16) -> 76 | L17: =SUM(L5:L16) -> 44 | M17: =SUM(M5:M16) -> 218 | ... P17: =SUM(P5:P16) -> 53 | Q17: Persons
A18: Average | B18: 11.75 | C18: 5.17 | D18: 17 | E18: 18.25 | F18: 1.67 | G18: 38.17 | H18: 41.92 | I18: 52.83 | J18: 27.58 | K18: 6.33 | L18: 22 | M18: 18.17 | N18: 6.42 | O18: 13.17 | P18: 4.42 | Q18: =SUM(B17:P17) -> 3198
A20: JULY 2023 TO JUNE 2024--NUMBER OF MAN-DAYS
A22: CAP DAYS | B22: 15 | C22: 7 | D22: 15 | E22: 20 | F22: 14 | G22: 10 | H22: 30 | I22: 30 | J22: 30 | K22: 15 | L22: 30 | M22: 10 | N22: 30 | O22: 10 | P22: 30 | Q22: 266
B23: Bristol Bay | C23: Cordova | D23: Craig | E23: Dillingham | F23: Haines | G23: Homer | H23: Kodiak | I23: Kotzebue | J23: NSB | K23: Petersburg | L23: Seward | M23: Sitka | N23: Unalaska | O23: Valdez | P23: Wrangell
A24: July | B24: 93 | C24: 38.5 | D24: 119 | E24: 123 | F24: 0 | G24: 87.5 | H24: 156.5 | I24: 221.5 | J24: 98.5 | K24: 6 | L24: 75.5 | M24: 46 | N24: 18 | O24: 123 | P24: 2
A25: August | B25: 18.5 | C25: 37 | D25: 75.5 | E25: 115 | F25: 11 | G25: 81 | H25: 224 | I25: 205 | J25: 110.5 | K25: 10 | L25: 48.5 | M25: 63.5 | N25: 15 | O25: 10.5 | P25: 19
A26: September | B26: 87 | C26: 9 | D26: 110 | E26: 23 | F26: 2 | G26: 76 | H26: 153.5 | I26: 201 | J26: 267 | K26: 22.5 | M26: 62 | N26: 54.5 | O26: 36 | P26: 39
A27: October | B27: 64 | C27: 22.5 | D27: 68 | E27: 42 | F27: 4.5 | G27: 109.5 | H27: 230.5 | I27: 206 | J27: 181.5 | K27: 7 | M27: 89.5 | N27: 8.5 | O27: 87.5 | P27: 31
A28: November | B28: 48.5 | C28: 31.5 | D28: 66 | E28: 61 | F28: 0 | G28: 77.5 | H28: 209.5 | I28: 209 | J28: 158 | K28: 84.5 | M28: 70 | N28: 1 | O28: 65 | P28: 4
A29: December | B29: 20.5 | C29: 6.5 | D29: 51.5 | E29: 132.5 | F29: 3.5 | G29: 74 | H29: 259 | I29: 117 | J29: 59 | K29: 31 | M29: 39.5 | N29: 48 | O29: 40 | P29: 5
A30: January | B30: 15 | C30: 40.5 | D30: 91 | E30: 37 | F30: 2 | G30: 83 | H30: 240.5 | I30: 240 | J30: 140 | K30: 18.5 | M30: 32.5 | N30: 17 | O30: 34.5 | P30: 11
A31: February | B31: 17 | C31: 21.5 | D31: 62.5 | E31: 139.5 | F31: 0.5 | G31: 63 | H31: 263 | I31: 240 | J31: 128 | K31: 15.5 | M31: 59 | N31: 51 | O31: 21.5 | P31: 10
A32: March | B32: 47.5 | C32: 1.5 | D32: 73 | E32: 29.5 | F32: 1 | G32: 87.5 | H32: 158 | I32: 222.5 | J32: 161.5 | K32: 25.5 | M32: 47 | N32: 77 | O32: 40 | P32: 29
