Workbook

Sheet Daily Cost Calc
A1: DAILY COST OF CARE CALCULATIONS
A2: Total Institutional Costs | B2: ='BILLING RATE CALC'!F23 -> 2.9263065e+08
A3: Daily Cost (Divided by 366 days)* | B3: =B2/366 -> 799537.3
A4: Average Daily Institutional Population for Fiscal Year 2020 | B4: ='Inmate Avg Daily Population'!N18 -> 4546.8383
A5: Annual Total Mandays for Fiscal Year 2020 | B5: =B4*366 -> 1664142.8
A6: Daily Cost per Institutional Prisoner | B6: ='BILLING RATE CALC'!G23 -> 175.84467
A9: Total Community Residential Centers Costs | B9: ='COST ALLOCATION'!J40 -> 17176482
A10: Daily Cost (Divided by 366 days)* | B10: =B9/366 -> 46930.28
A11: Average Daily CRC Population for Fiscal Year 2020 | B11: ='Inmate Avg Daily Population'!N20+'Inmate Avg Daily Population'!N21 -> 246.1675
A12: Annual Total Mandays for Fiscal Year 2020 | B12: =B11*366 -> 90097.305
A13: Daily Cost Per Community Residential Center Inmate | B13: =B10/B11 -> 190.64369
A16: Total Probation/Parole Costs | B16: ='COST ALLOCATION'!J37+'COST ALLOCATION'!J36 -> 17328188
A17: Daily Cost (Divided by 366 days)* | B17: =B16/366 -> 47344.776
A18: Average Daily Probationers/Parole Served for Fiscal Year 2020 | B18: ='Monthly PO Workload Stats'!G345 -> 3614.9167 | C18: ?
A19: Annual Total Mandays for Fiscal Year 2020 | B19: =B18*366 -> 1323059.5
A20: Daily Cost per Probationer/Parolee | B20: =B17/B18 -> 13.097059
A23: Total Community Jail Costs | B23: ='COST ALLOCATION'!J35 -> 7292116.8
A24: Daily Cost (Divided by 366 days)* | B24: =B23/366 -> 19923.816
A25: Average Daily Community Jail Population for Fiscal Year 2020 | B25: ='Avg Daily Community Jails'!H41 -> 47.800546 | C25: ?
A26: Annual Total Mandays for Fiscal Year 2020 | B26: =B25*366 -> 17495
A27: Daily Cost per Prisoner | B27: =B24/B25 -> 416.81148
A30: Total Electronic Monitoring Costs | B30: ='COST ALLOCATION'!J39 -> 2466860.6
A31: Daily Cost (Divided by 366 days)* | B31: =B30/366 -> 6740.0562
A32: Average Daily Electronic Monitoring Population for Fiscal Year 2020 | B32: ='Inmate Avg Daily Population'!N23 -> 151.75 | C32: ?
A33: Annual Total Mandays for Fiscal Year 2020 | B33: =B32*366 -> 55540.5
A34: Daily Cost per Prisoner | B34: =B31/B32 -> 44.415527
A37: Total Out-of-State Contractual Costs | B37: ='COST ALLOCATION'!J38 -> 269181.32
A38: Daily Cost (Divided by 366 days)* | B38: =B37/366 -> 735.4681
A39: Average Daily Out-of-State Population for Fiscal Year 2020 | B39: ='Inmate Avg Daily Population'!N26+'Inmate Avg Daily Population'!N27 -> 11.416667
A40: Annual Total Mandays for Fiscal Year 2020 | B40: =B39*366 -> 4178.5
A41: Daily Cost Per Prisoner | B41: =B38/B39 -> 64.420563
A44: Total Pretrial Costs | B44: ='COST ALLOCATION'!J34 -> 10595745
A45: Daily Cost (Divided by 366 days)* | B45: =B44/366 -> 28950.123
A46: Average Daily Pretrial Population for Fiscal Year 2020 | B46: ='Inmate Avg Daily Population'!N25 -> 1109.8333
A47: Annual Total Mandays for Fiscal Year 2020 | B47: =B46*366 -> 406199
A48: Daily Cost Per Prisoner | B48: =B45/B46 -> 26.085108
A49: * 2019 Leap Year
A55: Revised 11/16/20 lj

Sheet Sched-A
A1: COST SHEET FOR DETENTION SERVICES
A2: Section I - General Information
A3: Name of Facility: | B3: Department of Corrections | E3: Physical Address of Facility: | H3: Juneau, Alaska
A4: Phone Number: | B4: (907) 465-3460
A5: Section II - Financial Data Summary
A6: Total Operating Cost for Jail:
A7: A. Time Frame | C7: From: | D7: 43647 | E7: To: | F7: 44012
D8: (month/year) | F8: (month/year) | H8: Annual Cost
A9: B. Total Personnel salary/wage costs (Schedule B - Part I) | H9: ='Sched-B1'!B17 -> 1.0040776e+08
A10: C. Total Personnel Benefits/Other Personnel Services (Schedule B - Part II) | H10: ='Sched-B1'!C17+'Sched-B1'!D17 -> 58617662
A11: D. Total Consultants and Contract Services (Schedule C) | H11: ='Sched-C'!D24 -> 23793328
A12: E. Other Direct Operating costs (Schedule D1 and D2) | H12: ='Sched-D1'!F661+'Sched-D2'!F143 -> 90854527
A13: F. Indirect Costs (Schedule E)* | H13: ='Sched-E'!E3 -> 13287037
A14: G. Equipment Depreciation costs (Schedule F) | H14: ='Sched-F-G'!C18 -> 766476.21
A15: H. Building Depreciation Costs (Schedule G) | H15: ='Sched-F-G'!D39 -> 9067145.9
A16: I. Total Operating Costs (Sum of Schedules B-G) | H16: =SUM(H9:H15) -> 2.9679394e+08
A17: Total Actual Operating Cost for Prior Fiscal Year | H17: 2.8369666e+08
A19: COST SHEET FOR DETENTION SERVICES (continued)
A20: Section III - Prisoner Population Information
A21: Time Frame of Prisoner Information | E21: FROM: | F21: 43647 | G21: TO: | H21: 44012
A22: (must correspond with time frame on previous page) | F22: (month/year) | H22: (month/year)
A23: Inmate Capacity of Jail: | D23: MALE | F23: FEMALE | H23: TOTAL
D24: - | F24: - | H24: 4838
A25: Average Daily Population: | D25: MALE | F25: FEMALE | H25: TOTAL
A26: Type of Prisoner | C26: Federal | D26: - | F26: -
C27: Local | D27: - | F27: -
C28: State | D28: - | F28: -
C29: Total | D29: =H29-F29 -> 4107.6501 | F29: ='IADP-By Gender'!J19 -> 439.1882 | H29: ='Inmate Avg Daily Population'!N18 -> 4546.8383
A30: Section IV - Per Diem
A31: Proposed Per Diem Rate for Federal Prisoners: | F31: ='BILLING RATE CALC'!G23 -> 175.84467
A32: State Prisoner Per Diem Rate: | F32: ='BILLING RATE CALC'!G23 -> 175.84467
A33: Section V - Local Government Contact
A34: Please provide the name of the individual authorized to represent and to act for the Local Government in jail day rate negotiations.
A35: Name | B35: April Wilkerson | E35: Department/Office | G35: State of Alaska, Dept of Corrections
A36: Title | B36: Director, Admin. Services | E36: Street | G36: PO Box 112000
A37: Phone | B37: (907) 465-3460 | E37: City | F37: Juneau | G37: State/Zip | H37: AK, 99811
A38: Fax | B38: (907) 465-3315
A39: Section VI - Certification Statement
A40: This is to certify that, to the vest of my knowledge and belief, the data furnished in Schedules B through G are accurate, complete and current, and do not include any unallocable, or unallowable costs prohibited by OMB Circular No. A-87 (Cost Principles for State and Local Governments) or any cost not related to the jail facility as discussed on Form USM-243 (Cost Sheet for Detention Services.) The records of this agency are available for review and audit by the authorized representative of the U.S. Government to verify any jail per diem rate negotiated.
A41: Signature | F41: Date
...

Sheet Sched-B1
A1: TOTAL PERSONAL SERVICES
A2: BY INDIVIDUAL INSTITUTIONS
A3: Facility | B3: Total Wages | C3: Total Benefits | D3: Other Personal Services | E3: Total Personal Services | F3: Number of Employees | G3: General Capacity
A4: Anchorage Complex | B4: 18496103 | C4: 11045761 | D4: -197624.93 | E4: =SUM(B4:D4) -> 29344239 | F4: 248 | G4: 829
A5: Anvil Mtn. CC | B5: 3918957.3 | C5: 2154463.9 | D5: 2629.43 | E5: =SUM(B5:D5) -> 6076050.6 | F5: 40 | G5: 126
A6: Comb Hiland Mtn. CC | B6: 8158636.9 | C6: 4845479 | D6: -41907.44 | E6: =SUM(B6:D6) -> 12962208 | F6: 102 | G6: 395
A7: Fairbanks CC | B7: 7930973 | C7: 4259417 | D7: -54481.12 | E7: =SUM(B7:D7) -> 12135909 | F7: 89 | G7: 248
A8: Goose Creek CC | B8: 20844905 | C8: 13070931 | D8: -58356.54 | E8: =SUM(B8:D8) -> 33857479 | F8: 329 | G8: 1408
A9: Ketchikan CC | B9: 2659716.3 | C9: 1608847.4 | D9: -20161.6 | E9: =SUM(B9:D9) -> 4248402.1 | F9: 35 | G9: 52
A10: Lemon Creek CC | B10: 5748580.3 | C10: 3478567.9 | D10: -128347.14 | E10: =SUM(B10:D10) -> 9098801 | F10: 75 | G10: 226
A11: Mat-Su CC | B11: 3716388.6 | C11: 2229940.7 | D11: -2494.54 | E11: =SUM(B11:D11) -> 5943834.8 | F11: 48 | G11: 98
A12: Palmer CC | B12: 40095.8 | C12: 33516.12 | D12: 27.49 | E12: =SUM(B12:D12) -> 73639.41 | F12: 104 | G12: 0
A13: Spring Creek CC | B13: 13155516 | C13: 7428459 | D13: -6404.81 | E13: =SUM(B13:D13) -> 20577570 | F13: 168 | G13: 535
A14: Wildwood CC | B14: 8162291.2 | C14: 4977592.4 | D14: -62633.09 | E14: =SUM(B14:D14) -> 13077251 | F14: 118 | G14: 465
A15: Yukon Kuskokwim CC | B15: 5445970.7 | C15: 2848808 | D15: -35778.27 | E15: =SUM(B15:D15) -> 8259000.4 | F15: 44 | G15: 189
A16: Pt. MacKenzie CF | B16: 2129625.8 | C16: 1260242.5 | D16: -18831 | E16: =SUM(B16:D16) -> 3371037.3 | F16: 29 | G16: 128
A17: Total | B17: =SUM(B4:B16) -> 1.0040776e+08 | C17: =SUM(C4:C16) -> 59242026 | D17: =SUM(D4:D16) -> -624363.56 | E17: =SUM(E4:E16) -> 1.5902542e+08 | F17: =SUM(F4:F16) -> 1429 | G17: =SUM(G4:G16) -> 4699
A19: Revised 9/18/20 lj

Sheet Sched-B2
A1: PERSONAL SERVICES BENEFITS BY INDIVIDUAL INSTITUTIONS
A2: Institution | B2: Benefit | C2: %Employer Contribution | D2: Annual Cost | E2: Sub-Total | F2: IRIS Codes
A3: Anchorage Complex | B3: Annual Physical Reimbursement | C3: not a set $ | F3: 1027
B4: AK Supplemental Benefit (SBS) | C4: 0.0613 | F4: 1028
B5: Public Employee's Retirement System Defined Benefits | C5: 0.22 | F5: 1029
B6: Public Employee's Retirement System Defined Contribution | C6: - | F6: 1030
B7: Public Employee's Retirement System Defined Cont Health Reim | C7: - | F7: 1034
B8: Public Employee's Retiremnt Sys Defined Cont Retiree Medical | C8: - | F8: 1035
B9: Public Employee's Retiremnt Sys Defined Benefit Unfnd Liab | C9: - | F9: 1037
B10: Unemployment Insurance | C10: 0.004 | F10: 1039
B11: Group Health Insurance | C11: 1542.5 | F11: 1040
B12: Basic Life and Travel | C12: $0.00/mo.pp | F12: 1041
B13: Worker's Compensation Insurance | C13: 0.0454 | F13: 1042
B14: Leave Cash In Employer Charge | C14: 0.0231 | F14: 1047
B15: Terminal Leave Employer Charge | C15: 0.015 | F15: 1048
B16: ACOA Injury Leave Contribution | C16: $8.00/mo | F16: 1049
B17: Leave- Holiday
B18: Medicare Tax | C18: 0.0145 | F18: 1053
B19: Other Personal Services | F19: 1004 | G19: :Total Object Category
E20: =11045761.43-197624.93 -> 10848136 | G20: ='Sched-B1'!C4+'Sched-B1'!D4 -> 10848136 | H20: =E20-G20 -> 0
A21: Anvil Mtn. CC | B21: Annual Physical Reimbursement | C21: not a set $ | D21: 0
B22: AK Supplemental Benefit (SBS) | C22: 0.0613
B23: Public Employee's Retirement System Defined Benefits | C23: 0.22
B24: Public Employee's Retirement System Defined Contribution | C24: -
B25: Public Employee's Retirement System Defined Cont Health Reim | C25: -
B26: Public Employee's Retiremnt Sys Defined Cont Retiree Medical | C26: -
B27: Public Employee's Retiremnt Sys Defined Benefit Unfnd Liab | C27: -
B28: Unemployment Insurance | C28: =C10 -> 0.004
B29: Group Health Insurance | C29: =C11 -> 1542.5
B30: Basic Life & Travel | C30: $0.00/mo.pp
B31: Workman's Compensation | C31: =C13 -> 0.0454
B32: Leave Cash-in/Payout | C32: =C14 -> 0.0231
B33: Terminal Leave Charge | C33: =C15 -> 0.015
B34: Injury Leave Contribution | C34: =C16 -> $8.00/mo
B35: Medicare Tax | C35: =C18 -> 0.0145
B36: Other Personal Services
E37: =2154463.85+2629.43 -> 2157093.3 | G37: ='Sched-B1'!C5+'Sched-B1'!D5 -> 2157093.3 | H37: =E37-G37 -> 0
A38: Comb Hiland Mt.CC | B38: Annual Physical Reimbursement | C38: not a set $
B39: AK Supplemental Benefit (SBS) | C39: 0.0613
B40: Public Employee's Retirement System Defined Benefits | C40: =C5 -> 0.22
...

Sheet Sched-C
A1: CONSULTANTS & CONTRACT SERVICES
A2: Type of Service | B2: Description of Service | C2: Number of Contracts | D2: DOC Annual Cost | E2: IRIS CODES
A3: MEDICAL | B3: Non-employee contracted | C3: =27+5+7 -> 39 | D3: 17621471 | E3: 3041
B4: physicians/nurses/PAs/X-ray
B5: Non-employee fee for services | C5: -
B6: physicians/nurses/PAs/X-ray
A8: DENTAL | B8: Non-employee contracted | C8: 4 | D8: 320190.59 | E8: 3042
B9: dentist/hygienist/assistant
B10: Non-employee fee for service | C10: -
B11: dentist/hygienist/assistant
A13: SOCIAL COUNSELING | B13: Non-employee contracted | C13: =0+2+19 -> 21 | D13: =2843625+1694778.35+68500+106200 -> 4713103.3 | E13: 3040 | F13: Batterer's RSA | G13: Fixed Cost: (BIP $ 68,500 /PBP $ 106,200) @ DPS
B14: substance abuse,batterers & | G14: =68500+106200 -> 174700
B15: sex offender treatment
A17: PSYCHOLOGICAL | B17: Non-employee contracted | C17: =2+12 -> 14 | D17: =5676966.13-2843625-1694778.35 -> 1138562.8 | E17: 3040
A18: COUNSELING | B18: mental health,psychiatric &
B19: psychological services
B20: Non-employee fee for service | C20: -
B21: mental health,psychiatric &
B22: psychological services
A24: TOTAL | C24: =SUM(C3:C23) -> 78 | D24: =SUM(D3:D23) -> 23793328
A26: Revised 9/24/20 lj

Sheet Sched-D1
A1: OTHER DIRECT JAIL OPERATING COSTS
A2: Institution | B2: Description of Cost | D2: Annual Cost | F2: Total | G2: IRIS CODES | H2: ck
A3: Anchorage Complex | B3: Travel/Moving Cost | E3: 147.2 | G3: 2000/2003
B4: Non-Interagency Svcs | D4: 348081.15 | E4: =SUM(D4:D33) -> 1576969.3
B5: Training/Conferences | G5: 3000
B6: Memberships | G6: 3002
B7: Penalties And Fines | G7: 3013
B8: Claim/Judgement Non-Taxable | G8: 3016
B9: Uncleared 1Card Transactions | G9: 3019
B10: Utilities | D10: 1228888.2 | G10: 2100 | H10: Utility Costs: Based on Alder Report Expenditures by Location
B11: Software Licensing | G11: 3032
B12: Software Maintenance | G12: 3033
B13: Long Distance | G13: 3035
B14: Local/Equipment Charges | G14: 3036
B15: Data/Network | G15: 3037
B16: Cellular Phones | G16: 3038
B17: Psychiatric | G17: 3040
B18: Medical | G18: 3041
B19: Freight | G19: 3043
B20: Courier | G20: 3044
B21: Postage | G21: 3045
B22: Water and Sewage | G22: 3049
... B32: Commission Sales | G32: 3069
B34: Interagency Services | D34: 5414052.2 | E34: =SUM(D34) -> 5414052.2 | G34: 3001
B35: Commodities / Supplies | E35: =SUM(D36:D41) -> 2566791.3
C36: Business | D36: 246780.92 | G36: 4000
C37: Agricultural | D37: 0
C38: Household/Institutional | D38: 1976010.5 | G38: 4002
C39: Scientific & Medical | D39: 7549.93 | G39: 4003
C40: Safety | D40: 118116.76 | G40: 4004
C41: Repair/Maintenance Supplies | D41: 218333.24 | G41: 4005
B42: Commodity/ Transfer | D42: -31117.39 | E42: =SUM(D42) -> -31117.39 | G42: 4970
B43: Equipment & Industrial | D43: 0 | E43: =D43 -> 0 | G43: 5000
F44: =SUM(E3:E43) -> 9526842.7 | H44: ='Sched-B1'!B4+'Sched-B2'!E20+'Sched-D1'!F44-37642193.93-1228888.18 -> 0
A45: Anvil Mtn. Correctional | B45: Travel/Moving Cost | E45: 9284.38
B46: Non-Interagency Svcs | D46: 170172.25 | E46: =SUM(D46:D78) -> 543931.51 | H46: =E46+10447.84 -> 554379.35
B47: Less: DHSS RS (2) Meals & Maint | D47: =-828.04-9619.8 -> -10447.84 | H47: =H46-E46 -> 10447.84 | I47: Budgeted
B48: Training/Conferences | G48: 3000
B49: Memberships | G49: 3002
B50: Penalties And Fines | G50: 3013
...

Sheet Sched-D2
A1: OTHER DIRECT JAIL OPERATING COSTS
A2: Institution | B2: Description of Cost | D2: Annual Cost | F2: Total | G2: IRIS CODES
A3: Prison System | B3: Personnel Services | E3: 0
A4: Expansion | B4: Travel | E4: 0
B5: Other Services & Charges | E5: =SUM(D6:D10) -> 0
C6: Education Services | D6: 0
C7: Telecommunications | D7: 0
C8: Delivery Services | D8: 0
C9: Equipment/Machinery | D9: 0
C10: Other Services | D10: 0
C11: Interagency Services | D11: 0 | E11: =SUM(D11) -> 0
B12: Commodities / Supplies | E12: =SUM(D13:D15) -> 0
C13: Business | D13: 0
C14: Safety | D14: 0
C15: Repair/Maintenance Supplies | D15: 0
B16: Capital Outlay | D16: 0 | E16: =SUM(D16) -> 0
F17: =SUM(E3:E16) -> 0 | H17: =F17-0 -> 0
A18: Facility-CAP Imp Unit | B18: Personnel Services | E18: =12910.19+317359.24+187305.56-9613.1 -> 507961.89 | G18: 1001/1002/1004
B19: Travel | E19: 436.75
B20: Non-Interagency Svcs | D20: 20642.1 | E20: =SUM(D20:D23) -> 20642.1
B21: Uncleared 1Card Transactions | D21: 0 | G21: 3019
B22: Software Maintenance | D22: 0 | G22: 3033
B23: Commission Sales | D23: 0 | G23: 3069
B24: Interagency Services | D24: 51497.32 | E24: =SUM(D24) -> 51497.32
B25: Commodities / Supplies | E25: =D26+D27 -> 254648.75
C26: Business/Safety | D26: 8450.34
C27: Repair/Maintenance Supplies | D27: 246198.41
B28: Commodity/ Transfer | D28: 18000 | E28: =D28 -> 18000
B29: Capital Outlay | D29: =291062.2+63085.04-35396 -> 318751.24 | E29: =SUM(D29) -> 318751.24 | G29: 5002
B30: Less: JCIM Unbudgeted (Multiple) | E30: -93115.19 | H30: =93115.19 -> 93115.19 | I30: FY20 Multiple Unbudgeted RS
F31: =SUM(E18:E30) -> 1078822.9 | H31: =F31+H30-1171938.05 -> 0
A32: Health & Rehabilitation | B32: Personnel Services | E32: =22908222.67+11727406.27-74129.47 -> 34561499 | H32: Grand Total of 6 components $ 69,776,361.98 BHC, PHC, HRDirector,Domestic V, Substance, Sex Offender)
A33: Services | B33: Travel / Moving Costs | E33: =393469.63+13218.84+15293.55-5873.9 -> 416108.12
B34: Non-Interagency Svcs | D34: 24605069 | E34: =D34 -> 24605069 | G34: 3000
B35: Interagency Services | D35: 3297922.6 | E35: =D35 -> 3297922.6 | G35: 3001
B36: Commodities / Supplies | E36: =SUM(D37:D41) -> 6753687.6
C37: Business | D37: 294056.75
C38: Household/Institutional | D38: 11755.97
C39: Scientific & Medical | D39: 6447748.9
C40: Safety | D40: 109.99
...

Sheet Sched-E
A1: COST ALLOCATION PLANS / INDIRECT COST PROPOSALS
A2: Organization Providing Service | B2: Appr Type | C2: Total Expenditures | D2: % of Time Spent in Support of Jail Operators | E2: Allowable Indirect Cost
A3: Administration & Support* | B3: JADS / JCOA JCOM / JINT JPAB / JREN JRRE | C3: ='Summary-Sched-E'!D10 -> 15781783 | D3: ='COST ALLOCATION'!H6 -> 0.84192242 | E3: =C3*D3 -> 13287037
A4: TOTAL | E4: =E3 -> 13287037
A6: Note*: Includes SF Rent, Correctional Academy, and Parole Board Expenditues
A7: Revised 9/24/20 lj

Sheet Summary-Sched-E
A2: BRU | B2: Appr Type | C2: RS/Budgeted & Unbudgeted | D2: Total Expenditures of FY2020
A3: Commissioner | B3: JCOM | D3: 1037965.9
A4: Admin Services | B4: JADS | C4: 2091826.6 | D4: 6577887.9
A5: Info Tech MIS | B5: JINT | C5: 1063689.8 | D5: 3747892.6
A6: Research & Rcrds | B6: JRRE | C6: 0 | D6: 851216.05
A7: Facilities Rent | B7: JREN | C7: 0 | D7: 289900
A8: Academy | B8: JCOA | C8: 0 | D8: 1542804.1
A9: Parole Board | B9: JPAB | C9: 0 | D9: 1734116.3
B10: Total | C10: =SUM(C3:C9) -> 3155516.4 | D10: =SUM(D3:D9) -> 15781783
A16: Revised: 9/24/20 lj
A18: Notes:
A19: FY2015: Total Exp AR less SB64 PACE RSA, less SB64 1st DUI (JCOM)
A20: FY2015: Total Exp AR less SB64 PACE RSA, less SB64 1st DUI (JCOM)
A21: FY2018: Total Exp AR less Unbudgeted RS (JCOM) Revenue 5200 - Statutory Designated Program ($97,432.00)
A22: FY2019: No RSAs
A23: FY2020 Core Service $837,000, Windows7 $226,689.79 (JINT)
A24: FY2020 Core Service $317,300, COVID19 $479,896.05, and COVI19 Disaster $ 1,294,630.60 (JADM)

Sheet Sched-F-G
A1: EQUIPMENT COST | D1: SCHEDULE F
A2: By Individual Institution
A3: Institutions | B3: Cost of Equipment | C3: Equipment Allowance 6.666%
A4: Anchorage Complex | B4: ='Property Inventory'!G13 -> 2084134.2 | C4: =B4*0.06666 -> 138928.38
A5: Anvil Mtn. Correctional | B5: ='Property Inventory'!G14 -> 269480.24 | C5: =B5*0.06666 -> 17963.553
A6: Hiland Mtn. Correctional | B6: ='Property Inventory'!G15 -> 554362.97 | C6: =B6*0.06666 -> 36953.836
A7: Fairbanks Correctional | B7: ='Property Inventory'!G16 -> 635268.13 | C7: =B7*0.06666 -> 42346.974
A8: Goose Creek Correctional | B8: ='Property Inventory'!G25 -> 1771656.5 | C8: =B8*0.06666 -> 118098.62
A9: Ketchikan Correctional | B9: ='Property Inventory'!G17 -> 116317.46 | C9: =B9*0.06666 -> 7753.7219
A10: Lemon Creek Correctional | B10: ='Property Inventory'!G18 -> 768315.26 | C10: =B10*0.06666 -> 51215.895
A11: Mat-Su Correctional | B11: ='Property Inventory'!G19 -> 123507.88 | C11: =B11*0.06666 -> 8233.0353
A12: Palmer Correctional | B12: ='Property Inventory'!G20 -> 1051854.4 | C12: =B12*0.06666 -> 70116.613
A13: Pt. MacKenzie Correctional Farm | B13: ='Property Inventory'!G24 -> 672331.84 | C13: =B13*0.06666 -> 44817.64
A14: Spring Creek Correctional | B14: ='Property Inventory'!G21 -> 2111954.1 | C14: =B14*0.06666 -> 140782.86
A15: Wildwood Correctional | B15: ='Property Inventory'!G22 -> 1148590 | C15: =B15*0.06666 -> 76565.009
A16: Yukon Kuskokwim Correctional | B16: ='Property Inventory'!G23 -> 190519.92 | C16: =B16*0.06666 -> 12700.058
A18: Total Equipment Cost | B18: =SUM(B4:B17) -> 11498293 | C18: =SUM(C4:C17) -> 766476.21
A22: BUILDING DEPRECIATION | D22: SCHEDULE G
A23: By Individual Institution (Based on FY2020 Actuals)
A24: Institutions | B24: All Buildings Construction Cost | C24: Additional Construction Cost | D24: Annual Depreciation @ 2%
A25: Anchorage Complex | B25: 36522437 | C25: 0 | D25: =B25*0.02 -> 730448.74
A26: Anvil Mt. CC | B26: 16192923 | C26: 0 | D26: =B26*0.02 -> 323858.46
A27: Comb Hiland Mt.CC | B27: 45066600 | C27: 0 | D27: =B27*0.02 -> 901332
A28: Fairbanks CC | B28: 34112840 | C28: 0 | D28: =B28*0.02 -> 682256.8
A29: Goose Creek CC | B29: 78705708 | C29: 0 | D29: =B29*0.02 -> 1574114.2
A30: Ketchikan CC | B30: 7691306 | C30: 0 | D30: =B30*0.02 -> 153826.12
A31: Lemon Creek CC | B31: 28845762 | C31: 0 | D31: =B31*0.02 -> 576915.24
A32: Mat-Su Pre-Trial | B32: 10392719 | C32: 0 | D32: =B32*0.02 -> 207854.38
A33: Palmer CC | B33: =41211974*1 -> 41211974 | C33: 0 | D33: =B33*0.02 -> 824239.48
A34: Pt. MacKenzie Correctional Farm | B34: 12269054 | C34: 0 | D34: =B34*0.02 -> 245381.08
A35: Spring Creek CC | B35: 78360986 | C35: 0 | D35: =B35*0.02 -> 1567219.7
A36: Wildwood CC | B36: 51709708 | C36: 0 | D36: =B36*0.02 -> 1034194.2
A37: Yukon Kuskokwim | B37: 12275277 | C37: 0 | D37: =B37*0.02 -> 245505.54
A39: Total Building Depreciation | B39: =SUM(B25:B38) -> 453357294 | C39: =SUM(C25:C38) -> 0 | D39: =SUM(D25:D38) -> 9067145.9
A41: Total Equipment Cost & Building Depreciation | B41: (Schedule F + Schedule G) | D41: =C18+D39 -> 9833622.1
A43: Revised 11/09/20 lj
A46: Notes:
A47: * FY18 / FY19 PCC Removed - as PCC Closed $ 41,211,974
A48: *FY20 PCC Included

Sheet Property Inventory
A1: PROPERTY INVENTORY
A2: Division | B2: Division/Institution | C2: IRIS Unit | D2: Total as of 6/30/20 | E2: Aquired in FY2020 | F2: FY2020 Vehicle Inventory Total | G2: Grand Total
A3: 3 | B3: Commissioner's Office Jnu/Anch | C3: 1000 | D3: 67038.48 | F3: 9605 | G3: =SUM(D3:F3) -> 76643.48
B4: Administration & Support | C4: 1001 | D4: 0 | G4: =SUM(D4:F4) -> 0
B5: Administrative Services | C5: 1100 | D5: 1271582.6 | G5: =SUM(D5:F5) -> 1271582.6
A6: 1 | B6: Juneau Admin Office / Anchorage | C6: 1100 | D6: 0 | F6: 8738 | G6: =SUM(D6:F6) -> 8738
B7: Research & Records | C7: 1200 | D7: 497947.18 | F7: 806 | G7: =SUM(D7:F7) -> 498753.18
B8: Information Technology | C8: 1300 | D8: 198836.63 | G8: =SUM(D8:F8) -> 198836.63
B9: Human Resources | C9: 1400 | D9: 3044.6 | G9: =SUM(D9:F9) -> 3044.6
B10: Procurement | C10: 1500 | D10: 5775.64 | G10: =SUM(D10:F10) -> 5775.64
B11: Recidivism Reduction Grants | C11: 1700 | D11: 1035.12 | F11: 0 | G11: =SUM(D11:F11) -> 1035.12
B12: Institution Director's Office (IDO) | C12: 2000 | D12: 21124.77 | F12: 9211 | G12: =SUM(D12:F12) -> 30335.77
A13: 8/9 | B13: Anchorage Complex | C13: 2100 | D13: 2024960.2 | F13: 59174 | G13: =SUM(D13:F13) -> 2084134.2
A14: 15 | B14: Anvil Mtn. Correctional | C14: 2101 | D14: 226049.24 | F14: 43431 | G14: =SUM(D14:F14) -> 269480.24
A15: 11 | B15: Hiland Mtn. Correctional | C15: 2102 | D15: 465307.97 | F15: 89055 | G15: =SUM(D15:F15) -> 554362.97
A16: 14 | B16: Fairbanks Correctional | C16: 2103 | D16: 596524.13 | F16: 38744 | G16: =SUM(D16:F16) -> 635268.13
A17: 5 | B17: Ketchikan Correctional | C17: 2104 | D17: 98835.46 | F17: 17482 | G17: =SUM(D17:F17) -> 116317.46
A18: 6 | B18: Lemon Creek Correctional | C18: 2105 | D18: 727279.26 | F18: 41036 | G18: =SUM(D18:F18) -> 768315.26
A19: 10 | B19: Mat-Su Correctional | C19: 2106 | D19: 102609.88 | F19: 20898 | G19: =SUM(D19:F19) -> 123507.88
A20: 13 | B20: Palmer Correctional | C20: 2107 | D20: 956248.38 | F20: 95606 | G20: =SUM(D20:F20) -> 1051854.4
A21: 16 | B21: Spring Creek Correctional | C21: 2108 | D21: 1886484.1 | F21: 225470 | G21: =SUM(D21:F21) -> 2111954.1
A22: 30 | B22: Wildwood Correctional | C22: 2109 | D22: 983561 | F22: 165029 | G22: =SUM(D22:F22) -> 1148590
A23: 18 | B23: Yukon Kuskokwim Correctional | C23: 2110 | D23: 159033.92 | F23: 31486 | G23: =SUM(D23:F23) -> 190519.92
A24: 31 | B24: Pt. Mackenzie Correctional | C24: 2111 | D24: 541369.84 | F24: 130962 | G24: =SUM(D24:F24) -> 672331.84
A25: 39 | B25: Goose Creek Correctional | C25: 2112 | D25: 1432728.5 | F25: 338928 | G25: =SUM(D25:F25) -> 1771656.5
B26: Classification & Furlough | C26: 2200 | D26: 1418.14 | F26: 7745 | G26: =SUM(D26:F26) -> 9163.14
A27: 7 | B27: Inmate Transportation | C27: 2210 | D27: 33357.54 | F27: 80759 | G27: =SUM(D27:F27) -> 114116.54
A28: 37 | B28: Out of State | C28: 2220 | D28: 31189 | G28: =SUM(D28:F28) -> 31189
B29: Prison System Expansion | C29: 2230 | D29: 5450 | G29: =SUM(D29:F29) -> 5450
B30: Facility Cap Imp Unit | C30: 2250 | D30: 66251.49 | F30: 4615 | G30: =SUM(D30:F30) -> 70866.49
A31: 4 | B31: Training Academy | C31: 2260 | D31: 256466.97 | F31: 12547 | G31: =SUM(D31:F31) -> 269013.97
B32: Education Programs | C32: 2300 | D32: 13381.04 | F32: 2812 | G32: =SUM(D32:F32) -> 16193.04
B33: Institution Education Programs | C33: 2310 | D33: 10072.48 | F33: 308 | G33: =SUM(D33:F33) -> 10380.48
B34: Vocation Education Programs | C34: 2355 | D34: 3021.16 | F34: 0 | G34: =SUM(D34:F34) -> 3021.16
B35: Probation & Parole Director Office | C35: 2400 | D35: 14990.33 | F35: 3195 | G35: =SUM(D35:F35) -> 18185.33
B36: Electronic Monitoring | C36: 2410 | D36: =3853.5+0 -> 3853.5 | F36: 17762 | G36: =SUM(D36:F36) -> 21615.5
B37: Probation Region ONE | C37: 2420 | D37: 12293.59 | G37: =SUM(D37:F37) -> 12293.59
A38: 19A | B38: Anchorage Probation | C38: 2421 | D38: 451490.62 | F38: 37588 | G38: =SUM(D38:F38) -> 489078.62
A39: 19C | B39: Kenai Probation | C39: 2422 | D39: 34749 | F39: 11392 | G39: =SUM(D39:F39) -> 46141
A40: 19B | B40: Kodiak Probation | C40: 2423 | D40: 7835.18 | G40: =SUM(D40:F40) -> 7835.18
...

Sheet CostReim
A1: Budgeted Revenue Interagency Receipts (I/A)
A2: Division/Institution | B2: Appr Group | C2: ApprType | D2: Total Reimbursement | E2: Outstanding Balance of RSA | F2: Total | G2: Revenue Code
A3: Commissioner's Office | D3: 0 | F3: =SUM(D3:E3) -> 0 | G3: 5200 | H3: Statutory Designated CRJ
A4: Parole Board | D4: 0 | F4: =SUM(D4:E4) -> 0
A5: Correctional Academy | D5: 0 | F5: =SUM(D5:E5) -> 0
A6: Administrative Services | D6: 2091826.6 | F6: =SUM(D6:E6) -> 2091826.6 | G6: 5301 | H6: (3) Unbudgeted RS FY20
A7: Information Tech MIS | C7: JINT | D7: 1063689.8 | F7: =SUM(D7:E7) -> 1063689.8 | G7: 5301 | H7: (2) Unbudgeted RS FY20
A8: Probation & Parole Director Office | B8: JPPD | D8: 15000 | F8: =SUM(D8:E8) -> 15000 | G8: 5014 | H8: Federal Receipts
A9: Facility-Capital Improvement | D9: =-'Sched-D2'!E30 -> 93115.19 | F9: =SUM(D9:E9) -> 93115.19 | H9: FY20 Multiple Unbudgeted RS
A10: Health & Rehabilitation Services | B10: JHRS | C10: JHDO | D10: =-'Sched-D2'!E48 -> 3200000 | F10: =SUM(D10:E10) -> 3200000 | G10: 5014 | H10: FY20 Core Service Unbudgeted RS
A11: Health & Rehabilitation Services | B11: JHRS | C11: JSAP | D11: =-'Sched-D2'!E45 -> 135770 | F11: =SUM(D11:E11) -> 135770 | G11: 5014
A12: Health & Rehabilitation Services | B12: JHRS | C12: JSAP | D12: =-'Sched-D2'!E47 -> 106428.69 | F12: =SUM(D12:E12) -> 106428.69 | G12: 5301
A13: Health & Rehabilitation Services | B13: JHRS | C13: JBHC | D13: =-'Sched-D2'!E46 -> 52400 | F13: =SUM(D13:E13) -> 52400 | G13: 5007
A14: Offender Habilitation Programs | B14: JOHP | C14: JEDP/JVEP | D14: =-'Sched-D2'!E64-'Sched-D2'!E65-'Sched-D2'!E66-'Sched-D2'!E63 -> 42916 | F14: =SUM(D14:E14) -> 42916 | G14: 5301 | H14: (3 budgeted RSA's) + Unbudgeted Step
A15: Correctional Academy | D15: 0 | F15: =SUM(D15:E15) -> 0
A16: Institution Director's Office | D16: 0 | F16: =SUM(D16:E16) -> 0
A17: Transportation Unit | B17: JPOP | C17: JTRN | D17: =-'Sched-D2'!E102 -> 140000 | F17: =SUM(D17:E17) -> 140000 | G17: 5301
A18: Out of State | D18: 0 | F18: =SUM(D18:E18) -> 0
A19: Anchorage Complex
A20: Anvil Mtn. Correctional | B20: JPOP | C20: JAMC | D20: =-'Sched-D1'!D47 -> 10447.84 | F20: =SUM(D20:E20) -> 10447.84 | G20: 5301 | H20: (2) RS Meals / Maint
A21: Hiland Mtn. Correctional | D21: 0 | F21: =SUM(D21:E21) -> 0
A22: Fairbanks Correctional | D22: 0 | F22: =SUM(D22:E22) -> 0
A23: Goose Creek Correctional | B23: JPOP | C23: JGCC | D23: =-'Sched-D1'!D193 -> 0 | F23: =SUM(D23:E23) -> 0 | H23: Unbudgeted
A24: Ketchikan Correctional | D24: 0 | F24: =SUM(D24:E24) -> 0
A25: Lemon Creek Correctional | B25: JPOP | C25: JLCC | D25: =-'Sched-D1'!D300-'Sched-D1'!D299 -> 285603.51 | F25: =SUM(D25:E25) -> 285603.51 | G25: 5301 | H25: (2 budgeted RSA's)
A26: Mat-Su Correctional | D26: 0 | F26: =SUM(D26:E26) -> 0
A27: Palmer Correctional | D27: 0 | F27: =SUM(D27:E27) -> 0
A28: Spring Creek Correctional | D28: 0 | F28: =SUM(D28:E28) -> 0
A29: Wildwood Correctional | D29: ='Sched-D1'!H504 -> 23194.9 | F29: =SUM(D29:E29) -> 23194.9 | H29: (1) FY20 Unbudgeted RS
A30: Yukon Kuskokwim Correctional | B30: JPOP | C30: JYKC | D30: =-'Sched-D1'!D559 -> 80358.99 | F30: =SUM(D30:E30) -> 80358.99 | G30: 5301
A31: Out-of-State Contractual | D31: 0 | F31: =SUM(D31:E31) -> 0
A32: Point Mackenzie Correctional | D32: 0 | F32: =SUM(D32:E32) -> 0
A33: Totals | D33: =SUM(D3:D32) -> 7340751.6 | E33: =SUM(E3:E32) -> 0 | F33: =SUM(F3:F32) -> 7340751.6 | I33: =D25+D20+D30 -> 376410.34 | J33: budgeted only
A35: Revised: 9/23/20 lj

Sheet COST ALLOCATION
A1: COST ALLOCATION
A2: COMPONENT | E2: Appr Type | F2: TOTAL COSTS | H2: % OF TOTAL | I2: ADMIN & SUPPORT | J2: TOTAL ALL COSTS
A3: INDIRECT COST | I3: TOTAL
B4: Administration & Support RDU | E4: JADS/JINT | F4: =-CostReim!D6-CostReim!D7 -> -3155516.4 | I4: ='Sched-E'!C3 -> 15781783 | K4: Less: Unbudgeted RS in FY2020 (Covid19)
A5: DIRECT COST | I5: % by entity
H6: =G7/$G$41 -> 0.84192242 | I6: =SUM($I$4*H6) -> 13287037
B7: INSTITUTIONS | G7: =SUM(F4:F33) -> 2.8032819e+08 | J7: =SUM(I6+G7) -> 2.9361522e+08
C8: 13 Institutions | F8: ='Sched-B1'!E17+'Sched-D1'!F661+'Sched-D2'!F141+CostReim!D20+CostReim!D25+CostReim!D30 -> 1.9885109e+08
C9: Less: (2) Laundry & Meals RS | E9: JLCC | F9: =-CostReim!D25 -> -285603.51
C10: Less: DNR/MMM&S RSA (Closed) | E10: JPCC
C11: Less: WCC Meals RS (Unbudgeted) | E11: JWCC | F11: =-CostReim!D29 -> -23194.9
C12: Less: GCCC Security DPS RS (Unbudgeted) | E12: JGCCC
C13: Less: (2) Meals + (1) AMCC Maint | E13: JAMC /JYKC | F13: =-CostReim!D20-CostReim!D30 -> -90806.83
C14: Facility Planning - Capital Improvement Program | E14: JCIM | F14: ='Sched-D2'!F31+'Sched-D2'!H30 -> 1171938
C15: Less: RS (Unbudgeted) | F15: =-CostReim!D9 -> -93115.19
B16: Health & Rehabilitation Services RDU | E16: JHRS | F16: ='Sched-D2'!F49+'Sched-D2'!H48 -> 69776362
C17: Less: RS (Unbudgeted RS) | E17: JHDO | F17: =-CostReim!D10 -> -3200000
C18: Less: FED Public Protection Grants | E18: JSAP | F18: =-CostReim!D11 -> -135770
C19: Less: Alcohol Tax RSA (SCCC Men's Sub-Acute & Juvenile Offender Pgm) | E19: JBHC | F19: =-CostReim!D13 -> -52400
C20: Less: (2) RSAT & Vivitrol RS | E20: JSAP | F20: =-CostReim!D12 -> -106428.69
B21: Offender Habilitation Programs RDU | E21: JOFH | F21: ='Sched-D2'!F67+'Sched-D2'!H66-'Sched-D2'!E63 -> 1337281.4 | K21: Decreased by 3 RSAs (ABE/CARL P/MOS)
C22: Less: 3 Education RSAs | E22: JEDP | F22: =-CostReim!D14 -> -42916
C23: Less: 1 Voc Ed Programs RSA's (Unbudgeted) | E23: JVEP | F23: ='Sched-D2'!E63 -> 0 | K23: Decreased by Unbud RSA's (No Step C - FY19)
B24: Institutions Director's Office | E24: JIDO | F24: ='Sched-D2'!F77 -> 1644257.4
C25: Less: DPS PREA RSA | E25: JIDO | F25: 0
B26: Prison System Expansion | E26: JPSE | F26: ='Sched-D2'!F17 -> 0
B27: Classification & Furlough | E27: JCLF | F27: ='Sched-D2'!F89 -> 1187694
B28: Inmate Transportation Unit | E28: JTRN | F28: ='Sched-D2'!F102+'Sched-D2'!H101 -> 2884554.9 | K28: Decreased by RSA
C29: Less: DPS Transportation RSA | F29: =-CostReim!D17 -> -140000
B30: Point of Arrest | E30: JPOA | F30: ='Sched-D2'!F108 -> 531847.71
B31: Recidivism Reduction Grant | E31: JRRG | F31: ='Sched-D2'!F133+'Sched-D2'!H132 -> 801844.51
C32: JRRG MultiYear: 2nd Chance Grant | F32: -366548.94 | K32: JRRG Major Program: 20SCFG / Program: 20SCAGFED/SCFG19
B33: Equipment & Building Depreciation | F33: ='Sched-F-G'!D41 -> 9833622.1
B34: Pretrial Services Division | E34: JPTS | G34: 10116253 | H34: =G34/$G$41 -> 0.030382605 | I34: =$I$4*H34 -> 479491.67 | J34: =SUM(I34+G34) -> 10595745
B35: Regional & Community Jails | E35: JCOJ | G35: 6962125 | H35: =G35/$G$41 -> 0.020909667 | I35: =$I$4*H35 -> 329991.83 | J35: =SUM(I35+G35) -> 7292116.8
B36: Probation & Parole Director's Office | E36: JPPD | G36: =723306.69-15000 -> 708306.69 | H36: =G36/$G$41 -> 0.0021272898 | I36: =$I$4*H36 -> 33572.425 | J36: =SUM(I36+G36) -> 741879.12 | K36: JPPD Total EXP less FED Receipts
B37: State-wide Probation & Parole | E37: JSPP | G37: 15835725 | H37: =G37/$G$41 -> 0.047560154 | I37: =$I$4*H37 -> 750584.03 | J37: =SUM(I37+G37) -> 16586309
B38: Out of State Contractual | E38: JOOS | G38: 257000 | H38: =G38/$G$41 -> 0.00077185982 | I38: =$I$4*H38 -> 12181.324 | J38: =SUM(I38+G38) -> 269181.32
B39: Electronic Monitoring | E39: JELM | G39: 2355227.2 | H39: =G39/$G$41 -> 0.0070735611 | I39: =$I$4*H39 -> 111633.41 | J39: =SUM(I39+G39) -> 2466860.6
B40: Community Residential Centers | E40: JCRC | G40: 16399191 | H40: =G40/$G$41 -> 0.049252438 | I40: =$I$4*H40 -> 777291.29 | J40: =SUM(I40+G40) -> 17176482
...

Sheet BILLING RATE CALC
A1: BILLING RATE CALCULATION
A2: ANNUAL TOTAL MANDAYS | E2: ='Qtrly''s-Cntsht Book'!Y19 -> 1664142.8
A3: COMPONENT | C3: TOTAL EXPENSES | E3: LESS REIMB | F3: ADJUSTED COSTS | G3: BILLING RATE
A4: INSTITUTIONS | D4: =SUM(C5:C7) -> 1.9885109e+08 | F4: =SUM(D4+E6+E7) -> 1.9845148e+08 | G4: =F4/$E$2 -> 119.25147
B5: Institutions | C5: ='COST ALLOCATION'!F8 -> 1.9885109e+08
B6: Less: DHSS & DOT RSAs | E6: ='COST ALLOCATION'!F13+'COST ALLOCATION'!F9 -> -376410.34
B7: Less: WCC Meals RS (Unbudgeted) | E7: ='COST ALLOCATION'!F11 -> -23194.9
A8: OFFENDER HABILITATION PROGRAMS | C8: ='COST ALLOCATION'!F21 -> 1337281.4 | D8: =SUM(C8:C8) -> 1337281.4 | F8: =SUM(D8,E9) -> 1294365.4 | G8: =F8/$E$2 -> 0.77779708
B9: Less: Education (3) RSAs , JVEP (unbudgeted) | E9: ='COST ALLOCATION'!F22+'COST ALLOCATION'!F23 -> -42916
A10: HEALTH & REHABILITATION SERVICES | C10: =D10 -> 69776362 | D10: ='COST ALLOCATION'!F16 -> 69776362 | E10: ='COST ALLOCATION'!F17+'COST ALLOCATION'!F18+'COST ALLOCATION'!F19+'COST ALLOCATION'!F20 -> -3494598.7 | F10: =SUM(D10:E10) -> 66281763 | G10: =F10/$E$2 -> 39.829372
A11: ADMIN & SUPPORT | D11: =SUM(C12) -> 13287037 | E11: ='COST ALLOCATION'!F4 -> -3155516.4 | F11: =SUM(D11:E11) -> 10131520 | G11: =F11/$E$2 -> 6.0881315
B12: % for Institution Operations | C12: ='COST ALLOCATION'!I6 -> 13287037
A13: STATEWIDE DIRECT COSTS | D13: =SUM(C15:C22) -> 17253914 | F13: =D13+SUM(E13:E21) -> 16471523 | G13: =F13/$E$2 -> 9.897902
B14: SCAAPGrant JADS-IDO/2nd Chance JRRG | E14: =-107717.4-60010-366548.94 -> -534276.34
B15: Institutions Director's Office | C15: ='COST ALLOCATION'!F24 -> 1644257.4
B16: P&PDO FED Receipts | E16: ='COST ALLOCATION'!F56 -> -15000
B17: Equipment & Bldg. Depreciation | C17: ='COST ALLOCATION'!F33 -> 9833622.1
B18: Facility Planning - CIP | C18: ='COST ALLOCATION'!F14 -> 1171938 | E18: ='COST ALLOCATION'!F15 -> -93115.19
B19: Classification & Furlough | C19: ='COST ALLOCATION'!F27 -> 1187694
B20: Transportation | C20: ='COST ALLOCATION'!F28 -> 2884554.9 | E20: ='COST ALLOCATION'!F29 -> -140000
B21: Point of Arrest | C21: ='COST ALLOCATION'!F30 -> 531847.71
A23: BILLING RATE | D23: =SUM(D4:D18) -> 3.0050568e+08 | E23: =SUM(E4:E22) -> -7875027.9 | F23: =SUM(F4:F21) -> 2.9263065e+08 | G23: =SUM(G4:G21) -> 175.84467
A24: INDIVIDUAL INSTITUTION RATES
A25: Institutions | C25: Total Cost | D25: Mandays | E25: Inst. Cost | F25: Inmate Programs | G25: Inmate Health Care | H25: Div.of Admin.& Support Cost | I25: Statewide Direct Cost | J25: TOTAL
A26: Anchorage Complex | C26: ='Sched-B1'!E4+'Sched-D1'!F44 -> 38871082 | D26: ='Inmate Avg Daily Population'!O4 -> 320939.3 | E26: =C26/D26 -> 121.11662 | F26: =$G$8 -> 0.77779708 | G26: =$G$10 -> 39.829372 | H26: =$G$11 -> 6.0881315 | I26: =$G$13 -> 9.897902 | J26: =SUM(E26:I26) -> 177.70982
A27: Anvil Mtn. Correctional | C27: ='Sched-B1'!E5+'Sched-D1'!F89 -> 7218523.9 | D27: ='Inmate Avg Daily Population'!O5 -> 45258.95 | E27: =C27/D27 -> 159.49384 | F27: =$G$8 -> 0.77779708 | G27: =$G$10 -> 39.829372 | H27: =$G$11 -> 6.0881315 | I27: =$G$13 -> 9.897902 | J27: =SUM(E27:I27) -> 216.08705
A28: Fairbanks Correctional | C28: ='Sched-B1'!E7+'Sched-D1'!F190 -> 14468136 | D28: ='Inmate Avg Daily Population'!O6 -> 100363.3 | E28: =C28/D28 -> 144.15764 | F28: =$G$8 -> 0.77779708 | G28: =$G$10 -> 39.829372 | H28: =$G$11 -> 6.0881315 | I28: =$G$13 -> 9.897902 | J28: =SUM(E28:I28) -> 200.75084
A29: Goose Creek Correctional | C29: ='Sched-B1'!E8+'Sched-D1'!F242 -> 44271288 | D29: ='Inmate Avg Daily Population'!O7 -> 493754.13 | E29: =C29/D29 -> 89.662618 | F29: =$G$8 -> 0.77779708 | G29: =$G$10 -> 39.829372 | H29: =$G$11 -> 6.0881315 | I29: =$G$13 -> 9.897902 | J29: =SUM(E29:I29) -> 146.25582
A30: Hiland Mtn. Correctional | C30: ='Sched-B1'!E6+'Sched-D1'!F138 -> 15148564 | D30: ='Inmate Avg Daily Population'!O8 -> 109922 | E30: =C30/D30 -> 137.81194 | F30: =$G$8 -> 0.77779708 | G30: =$G$10 -> 39.829372 | H30: =$G$11 -> 6.0881315 | I30: =$G$13 -> 9.897902 | J30: =SUM(E30:I30) -> 194.40514
A31: Ketchikan Correctional | C31: ='Sched-B1'!E9+'Sched-D1'!F296 -> 4955083.7 | D31: ='Inmate Avg Daily Population'!O9 -> 21325.6 | E31: =C31/D31 -> 232.35377 | F31: =$G$8 -> 0.77779708 | G31: =$G$10 -> 39.829372 | H31: =$G$11 -> 6.0881315 | I31: =$G$13 -> 9.897902 | J31: =SUM(E31:I31) -> 288.94698
A32: Lemon Creek Correctional | C32: ='Sched-B1'!E10+'Sched-D1'!F345 -> 11077541 | D32: ='Inmate Avg Daily Population'!O10 -> 85393.9 | E32: =C32/D32 -> 129.72286 | F32: =$G$8 -> 0.77779708 | G32: =$G$10 -> 39.829372 | H32: =$G$11 -> 6.0881315 | I32: =$G$13 -> 9.897902 | J32: =SUM(E32:I32) -> 186.31606
A33: Mat-Su Correctional | C33: ='Sched-B1'!E11+'Sched-D1'!F398 -> 6632456.6 | D33: ='Inmate Avg Daily Population'!O11 -> 33095.55 | E33: =C33/D33 -> 200.40327 | F33: =$G$8 -> 0.77779708 | G33: =$G$10 -> 39.829372 | H33: =$G$11 -> 6.0881315 | I33: =$G$13 -> 9.897902 | J33: =SUM(E33:I33) -> 256.99648
A34: Palmer Correctional | C34: ='Sched-B1'!E12+'Sched-D1'!F447 -> 1216570.7 | D34: ='Inmate Avg Daily Population'!O12 -> 0 | E34: 0 | F34: =$G$8*0 -> 0 | G34: =$G$10*0 -> 0 | H34: =$G$11*0 -> 0 | I34: =$G$13*0 -> 0 | J34: =SUM(E34:I34) -> 0
A35: Pt. MacKenzie Correctional Farm | C35: ='Sched-B1'!E16+'Sched-D1'!F660 -> 4614006.4 | D35: ='Inmate Avg Daily Population'!O13 -> 29060.4 | E35: =C35/D35 -> 158.77298 | F35: =$G$8 -> 0.77779708 | G35: =$G$10 -> 39.829372 | H35: =$G$11 -> 6.0881315 | I35: =$G$13 -> 9.897902 | J35: =SUM(E35:I35) -> 215.36619
A36: Spring Creek Correctional | C36: ='Sched-B1'!E13+'Sched-D1'!F501 -> 23990565 | D36: ='Inmate Avg Daily Population'!O14 -> 188413.75 | E36: =C36/D36 -> 127.32916 | F36: =$G$8 -> 0.77779708 | G36: =$G$10 -> 39.829372 | H36: =$G$11 -> 6.0881315 | I36: =$G$13 -> 9.897902 | J36: =SUM(E36:I36) -> 183.92237
A37: Wildwood Correctional | C37: ='Sched-B1'!E14+'Sched-D1'!F556 -> 15931896 | D37: ='Inmate Avg Daily Population'!O15 -> 162064.8 | E37: =C37/D37 -> 98.305712 | F37: =$G$8 -> 0.77779708 | G37: =$G$10 -> 39.829372 | H37: =$G$11 -> 6.0881315 | I37: =$G$13 -> 9.897902 | J37: =SUM(E37:I37) -> 154.89891
A38: Yukon Kuskokwim Correctional | C38: ='Sched-B1'!E15+'Sched-D1'!F606 -> 10035750 | D38: ='Inmate Avg Daily Population'!O16 -> 74551.15 | E38: =C38/D38 -> 134.61563 | F38: =$G$8 -> 0.77779708 | G38: =$G$10 -> 39.829372 | H38: =$G$11 -> 6.0881315 | I38: =$G$13 -> 9.897902 | J38: =SUM(E38:I38) -> 191.20883
A39: Totals | C39: =SUM(C26:C38) -> 1.9843146e+08 | D39: =SUM(D26:D38) -> 1664142.8 | E39: =G4 -> 119.25147 | F39: =G8 -> 0.77779708 | G39: =G10 -> 39.829372 | H39: =G11 -> 6.0881315 | I39: =G13 -> 9.897902 | J39: =SUM(E39:I39) -> 175.84467
A43: Revised: 11/24/20 lj

Sheet Inmate Avg Daily Population
A1: ANNUAL TOTAL MANDAYS
B2: AVERAGE DAILY INMATE POPULATION | N2: ANNUAL AVERAGE DAILY POPULATION | O2: ANNUAL TOTAL MANDAYS
A3: Institutions | B3: 43655 | C3: 43686 | D3: 43717 | E3: 43747 | F3: 43778 | G3: 43808 | H3: 43839 | I3: 43870 | J3: 43899 | K3: 43930 | L3: 43960 | M3: 43991
A4: Anchorage Complex | B4: ='Qtrly''s-Cntsht Book'!D5 -> 843 | C4: ='Qtrly''s-Cntsht Book'!E5 -> 863.3 | D4: ='Qtrly''s-Cntsht Book'!F5 -> 898.8 | E4: ='Qtrly''s-Cntsht Book'!I5 -> 907.5 | F4: ='Qtrly''s-Cntsht Book'!J5 -> 921.6 | G4: ='Qtrly''s-Cntsht Book'!K5 -> 878.2 | H4: ='Qtrly''s-Cntsht Book'!N5 -> 873.7 | I4: ='Qtrly''s-Cntsht Book'!O5 -> 891 | J4: ='Qtrly''s-Cntsht Book'!P5 -> 879.8 | K4: ='Qtrly''s-Cntsht Book'!S5 -> 815 | L4: ='Qtrly''s-Cntsht Book'!T5 -> 842.3 | M4: ='Qtrly''s-Cntsht Book'!U5 -> 908.4 | N4: =SUM(B4:M4)/12 -> 876.88333 | O4: =N4*366 -> 320939.3
A5: Anvil Mountain CC | B5: ='Qtrly''s-Cntsht Book'!D6 -> 132.2 | C5: ='Qtrly''s-Cntsht Book'!E6 -> 135.1 | D5: ='Qtrly''s-Cntsht Book'!F6 -> 136.7 | E5: ='Qtrly''s-Cntsht Book'!I6 -> 124.3 | F5: ='Qtrly''s-Cntsht Book'!J6 -> 120.6 | G5: ='Qtrly''s-Cntsht Book'!K6 -> 128.4 | H5: ='Qtrly''s-Cntsht Book'!N6 -> 120 | I5: ='Qtrly''s-Cntsht Book'!O6 -> 114.2 | J5: ='Qtrly''s-Cntsht Book'!P6 -> 113.5 | K5: ='Qtrly''s-Cntsht Book'!S6 -> 108.4 | L5: ='Qtrly''s-Cntsht Book'!T6 -> 120.3 | M5: ='Qtrly''s-Cntsht Book'!U6 -> 130.2 | N5: =SUM(B5:M5)/12 -> 123.65833 | O5: =N5*366 -> 45258.95
A6: Fairbanks CC | B6: ='Qtrly''s-Cntsht Book'!D7 -> 279.5 | C6: ='Qtrly''s-Cntsht Book'!E7 -> 286.3 | D6: ='Qtrly''s-Cntsht Book'!F7 -> 292.1 | E6: ='Qtrly''s-Cntsht Book'!I7 -> 269.9 | F6: ='Qtrly''s-Cntsht Book'!J7 -> 259.8 | G6: ='Qtrly''s-Cntsht Book'!K7 -> 263.3 | H6: ='Qtrly''s-Cntsht Book'!N7 -> 279.3 | I6: ='Qtrly''s-Cntsht Book'!O7 -> 288.3 | J6: ='Qtrly''s-Cntsht Book'!P7 -> 281.4 | K6: ='Qtrly''s-Cntsht Book'!S7 -> 244.6 | L6: ='Qtrly''s-Cntsht Book'!T7 -> 267.5 | M6: ='Qtrly''s-Cntsht Book'!U7 -> 278.6 | N6: =SUM(B6:M6)/12 -> 274.21667 | O6: =N6*366 -> 100363.3
A7: Goose Creek CC | B7: ='Qtrly''s-Cntsht Book'!D8 -> 1339.2 | C7: ='Qtrly''s-Cntsht Book'!E8 -> 1341.6 | D7: ='Qtrly''s-Cntsht Book'!F8 -> 1366.96 | E7: ='Qtrly''s-Cntsht Book'!I8 -> 1414.5 | F7: ='Qtrly''s-Cntsht Book'!J8 -> 1423.5 | G7: ='Qtrly''s-Cntsht Book'!K8 -> 1450.9 | H7: ='Qtrly''s-Cntsht Book'!N8 -> 1442.9 | I7: ='Qtrly''s-Cntsht Book'!O8 -> 1433.1 | J7: ='Qtrly''s-Cntsht Book'!P8 -> 1427 | K7: ='Qtrly''s-Cntsht Book'!S8 -> 1293.7 | L7: ='Qtrly''s-Cntsht Book'!T8 -> 1155.9 | M7: ='Qtrly''s-Cntsht Book'!U8 -> 1099.4 | N7: =SUM(B7:M7)/12 -> 1349.055 | O7: =N7*366 -> 493754.13
A8: Combined Hiland Mtn CC | B8: ='Qtrly''s-Cntsht Book'!D9 -> 292.6 | C8: ='Qtrly''s-Cntsht Book'!E9 -> 298.9 | D8: ='Qtrly''s-Cntsht Book'!F9 -> 325.3 | E8: ='Qtrly''s-Cntsht Book'!I9 -> 337.5 | F8: ='Qtrly''s-Cntsht Book'!J9 -> 331 | G8: ='Qtrly''s-Cntsht Book'!K9 -> 315.4 | H8: ='Qtrly''s-Cntsht Book'!N9 -> 310.6 | I8: ='Qtrly''s-Cntsht Book'!O9 -> 295.7 | J8: ='Qtrly''s-Cntsht Book'!P9 -> 322.2 | K8: ='Qtrly''s-Cntsht Book'!S9 -> 272.6 | L8: ='Qtrly''s-Cntsht Book'!T9 -> 244.3 | M8: ='Qtrly''s-Cntsht Book'!U9 -> 257.9 | N8: =SUM(B8:M8)/12 -> 300.33333 | O8: =N8*366 -> 109922
A9: Ketchikan CC | B9: ='Qtrly''s-Cntsht Book'!D10 -> 55.3 | C9: ='Qtrly''s-Cntsht Book'!E10 -> 61.6 | D9: ='Qtrly''s-Cntsht Book'!F10 -> 56 | E9: ='Qtrly''s-Cntsht Book'!I10 -> 61 | F9: ='Qtrly''s-Cntsht Book'!J10 -> 56.8 | G9: ='Qtrly''s-Cntsht Book'!K10 -> 59.9 | H9: ='Qtrly''s-Cntsht Book'!N10 -> 68.4 | I9: ='Qtrly''s-Cntsht Book'!O10 -> 68.4 | J9: ='Qtrly''s-Cntsht Book'!P10 -> 64.5 | K9: ='Qtrly''s-Cntsht Book'!S10 -> 47.2 | L9: ='Qtrly''s-Cntsht Book'!T10 -> 46.7 | M9: ='Qtrly''s-Cntsht Book'!U10 -> 53.4 | N9: =SUM(B9:M9)/12 -> 58.266667 | O9: =N9*366 -> 21325.6
A10: Lemon Creek CC | B10: ='Qtrly''s-Cntsht Book'!D11 -> 242.6 | C10: ='Qtrly''s-Cntsht Book'!E11 -> 256.8 | D10: ='Qtrly''s-Cntsht Book'!F11 -> 254.1 | E10: ='Qtrly''s-Cntsht Book'!I11 -> 226.7 | F10: ='Qtrly''s-Cntsht Book'!J11 -> 223.8 | G10: ='Qtrly''s-Cntsht Book'!K11 -> 230.9 | H10: ='Qtrly''s-Cntsht Book'!N11 -> 224.7 | I10: ='Qtrly''s-Cntsht Book'!O11 -> 250.3 | J10: ='Qtrly''s-Cntsht Book'!P11 -> 245.9 | K10: ='Qtrly''s-Cntsht Book'!S11 -> 217 | L10: ='Qtrly''s-Cntsht Book'!T11 -> 214.2 | M10: ='Qtrly''s-Cntsht Book'!U11 -> 212.8 | N10: =SUM(B10:M10)/12 -> 233.31667 | O10: =N10*366 -> 85393.9
A11: Mat-Su CC | B11: ='Qtrly''s-Cntsht Book'!D12 -> 89.7 | C11: ='Qtrly''s-Cntsht Book'!E12 -> 84.6 | D11: ='Qtrly''s-Cntsht Book'!F12 -> 87.2 | E11: ='Qtrly''s-Cntsht Book'!I12 -> 88.7 | F11: ='Qtrly''s-Cntsht Book'!J12 -> 93.4 | G11: ='Qtrly''s-Cntsht Book'!K12 -> 93.2 | H11: ='Qtrly''s-Cntsht Book'!N12 -> 91.4 | I11: ='Qtrly''s-Cntsht Book'!O12 -> 100.8 | J11: ='Qtrly''s-Cntsht Book'!P12 -> 94.1 | K11: ='Qtrly''s-Cntsht Book'!S12 -> 79.6 | L11: ='Qtrly''s-Cntsht Book'!T12 -> 89 | M11: ='Qtrly''s-Cntsht Book'!U12 -> 93.4 | N11: =SUM(B11:M11)/12 -> 90.425 | O11: =N11*366 -> 33095.55
A12: Palmer CC | B12: ='Qtrly''s-Cntsht Book'!D13 -> 0 | C12: ='Qtrly''s-Cntsht Book'!E13 -> 0 | D12: ='Qtrly''s-Cntsht Book'!F13 -> 0 | E12: ='Qtrly''s-Cntsht Book'!I13 -> 0 | F12: ='Qtrly''s-Cntsht Book'!J13 -> 0 | G12: ='Qtrly''s-Cntsht Book'!K13 -> 0 | H12: ='Qtrly''s-Cntsht Book'!N13 -> 0 | I12: ='Qtrly''s-Cntsht Book'!O13 -> 0 | J12: ='Qtrly''s-Cntsht Book'!P13 -> 0 | K12: ='Qtrly''s-Cntsht Book'!S13 -> 0 | L12: ='Qtrly''s-Cntsht Book'!T13 -> 0 | M12: ='Qtrly''s-Cntsht Book'!U13 -> 0 | N12: =SUM(B12:M12)/4 -> 0 | O12: =N12*366 -> 0
A13: Pt. MacKenzie | B13: ='Qtrly''s-Cntsht Book'!D14 -> 100 | C13: ='Qtrly''s-Cntsht Book'!E14 -> 98.9 | D13: ='Qtrly''s-Cntsht Book'!F14 -> 89.8 | E13: ='Qtrly''s-Cntsht Book'!I14 -> 87.5 | F13: ='Qtrly''s-Cntsht Book'!J14 -> 80.4 | G13: ='Qtrly''s-Cntsht Book'!K14 -> 73.5 | H13: ='Qtrly''s-Cntsht Book'!N14 -> 74.9 | I13: ='Qtrly''s-Cntsht Book'!O14 -> 68.1 | J13: ='Qtrly''s-Cntsht Book'!P14 -> 75.8 | K13: ='Qtrly''s-Cntsht Book'!S14 -> 76.1 | L13: ='Qtrly''s-Cntsht Book'!T14 -> 64.9 | M13: ='Qtrly''s-Cntsht Book'!U14 -> 62.9 | N13: =SUM(B13:M13)/12 -> 79.4 | O13: =N13*366 -> 29060.4
A14: Spring Creek CC | B14: ='Qtrly''s-Cntsht Book'!D15 -> 475.2 | C14: ='Qtrly''s-Cntsht Book'!E15 -> 488.9 | D14: ='Qtrly''s-Cntsht Book'!F15 -> 492.6 | E14: ='Qtrly''s-Cntsht Book'!I15 -> 502.4 | F14: ='Qtrly''s-Cntsht Book'!J15 -> 512.9 | G14: ='Qtrly''s-Cntsht Book'!K15 -> 535.9 | H14: ='Qtrly''s-Cntsht Book'!N15 -> 533.1 | I14: ='Qtrly''s-Cntsht Book'!O15 -> 533.4 | J14: ='Qtrly''s-Cntsht Book'!P15 -> 543.1 | K14: ='Qtrly''s-Cntsht Book'!S15 -> 529.5 | L14: ='Qtrly''s-Cntsht Book'!T15 -> 515.7 | M14: ='Qtrly''s-Cntsht Book'!U15 -> 514.8 | N14: =SUM(B14:M14)/12 -> 514.79167 | O14: =N14*366 -> 188413.75
A15: Wildwood CC | B15: ='Qtrly''s-Cntsht Book'!D16 -> 423.5 | C15: ='Qtrly''s-Cntsht Book'!E16 -> 440.1 | D15: ='Qtrly''s-Cntsht Book'!F16 -> 459.7 | E15: ='Qtrly''s-Cntsht Book'!I16 -> 444.8 | F15: ='Qtrly''s-Cntsht Book'!J16 -> 449.3 | G15: ='Qtrly''s-Cntsht Book'!K16 -> 462.9 | H15: ='Qtrly''s-Cntsht Book'!N16 -> 467.4 | I15: ='Qtrly''s-Cntsht Book'!O16 -> 467.6 | J15: ='Qtrly''s-Cntsht Book'!P16 -> 460.2 | K15: ='Qtrly''s-Cntsht Book'!S16 -> 417.2 | L15: ='Qtrly''s-Cntsht Book'!T16 -> 412.2 | M15: ='Qtrly''s-Cntsht Book'!U16 -> 408.7 | N15: =SUM(B15:M15)/12 -> 442.8 | O15: =N15*366 -> 162064.8
A16: Yukon-Kuskokwim CC | B16: ='Qtrly''s-Cntsht Book'!D17 -> 202.5 | C16: ='Qtrly''s-Cntsht Book'!E17 -> 197 | D16: ='Qtrly''s-Cntsht Book'!F17 -> 204.6 | E16: ='Qtrly''s-Cntsht Book'!I17 -> 223.9 | F16: ='Qtrly''s-Cntsht Book'!J17 -> 214.6 | G16: ='Qtrly''s-Cntsht Book'!K17 -> 215.5 | H16: ='Qtrly''s-Cntsht Book'!N17 -> 223.9 | I16: ='Qtrly''s-Cntsht Book'!O17 -> 213.6 | J16: ='Qtrly''s-Cntsht Book'!P17 -> 208.9 | K16: ='Qtrly''s-Cntsht Book'!S17 -> 175.6 | L16: ='Qtrly''s-Cntsht Book'!T17 -> 176.4 | M16: ='Qtrly''s-Cntsht Book'!U17 -> 187.8 | N16: =SUM(B16:M16)/12 -> 203.69167 | O16: =N16*366 -> 74551.15
A17: Tents | B17: ='Qtrly''s-Cntsht Book'!D18 -> 0 | C17: ='Qtrly''s-Cntsht Book'!E18 -> 0 | D17: ='Qtrly''s-Cntsht Book'!F18 -> 0 | E17: ='Qtrly''s-Cntsht Book'!I18 -> 0 | F17: ='Qtrly''s-Cntsht Book'!J18 -> 0 | G17: ='Qtrly''s-Cntsht Book'!K18 -> 0 | H17: ='Qtrly''s-Cntsht Book'!N18 -> 0 | I17: ='Qtrly''s-Cntsht Book'!O18 -> 0 | J17: ='Qtrly''s-Cntsht Book'!P18 -> 0 | K17: ='Qtrly''s-Cntsht Book'!S18 -> - | L17: ='Qtrly''s-Cntsht Book'!T18 -> - | M17: ='Qtrly''s-Cntsht Book'!U18 -> - | N17: =SUM(B17:M17)/12 -> 0 | O17: =N17*366 -> 0
A18: TOTAL INSTITUTIONS | B18: =SUM(B4:B17) -> 4475.3 | C18: =SUM(C4:C17) -> 4553.1 | D18: =SUM(D4:D17) -> 4663.86 | E18: =SUM(E4:E17) -> 4688.7 | F18: =SUM(F4:F17) -> 4687.7 | G18: =SUM(G4:G17) -> 4708 | H18: =SUM(H4:H17) -> 4710.3 | I18: =SUM(I4:I17) -> 4724.5 | ... M18: =SUM(M4:M17) -> 4208.3 | N18: =SUM(B18:M18)/12 -> 4546.8383 | O18: =SUM(O4:O17) -> 1664142.8
A19: Other
A20: CRC's | B20: ='Qtrly''s-Cntsht Book'!D21 -> 239.78 | C20: ='Qtrly''s-Cntsht Book'!E21 -> 239.77 | D20: ='Qtrly''s-Cntsht Book'!F21 -> 240.8 | E20: ='Qtrly''s-Cntsht Book'!I21 -> 239.29 | F20: ='Qtrly''s-Cntsht Book'!J21 -> 201.73 | G20: ='Qtrly''s-Cntsht Book'!K21 -> 201.73 | H20: ='Qtrly''s-Cntsht Book'!N21 -> 248.16 | I20: ='Qtrly''s-Cntsht Book'!O21 -> 270.9 | J20: ='Qtrly''s-Cntsht Book'!P21 -> 259.71 | K20: ='Qtrly''s-Cntsht Book'!S21 -> 267.9 | L20: ='Qtrly''s-Cntsht Book'!T21 -> 268.87 | M20: ='Qtrly''s-Cntsht Book'!U21 -> 275.37 | N20: =SUM(B20:M20)/12 -> 246.1675 | O20: =N20*366 -> 90097.305
A21: CRC Offender Supervision | B21: ='Qtrly''s-Cntsht Book'!D22 -> 0 | C21: ='Qtrly''s-Cntsht Book'!E22 -> 0 | D21: ='Qtrly''s-Cntsht Book'!F22 -> 0 | E21: ='Qtrly''s-Cntsht Book'!I22 -> 0 | F21: ='Qtrly''s-Cntsht Book'!J22 -> 0 | G21: ='Qtrly''s-Cntsht Book'!K22 -> 0 | H21: ='Qtrly''s-Cntsht Book'!N22 -> 0 | I21: ='Qtrly''s-Cntsht Book'!O22 -> 0 | J21: ='Qtrly''s-Cntsht Book'!P22 -> 0 | K21: ='Qtrly''s-Cntsht Book'!S22 -> 0 | L21: ='Qtrly''s-Cntsht Book'!T22 -> 0 | M21: ='Qtrly''s-Cntsht Book'!U22 -> 0 | N21: =SUM(B21:M21)/12 -> 0 | O21: =N21*366 -> 0
A22: Treatment Beds | B22: ='Qtrly''s-Cntsht Book'!D23 -> 11.87 | C22: ='Qtrly''s-Cntsht Book'!E23 -> 11.87 | D22: ='Qtrly''s-Cntsht Book'!F23 -> 9.24 | E22: ='Qtrly''s-Cntsht Book'!I23 -> 8.9 | F22: ='Qtrly''s-Cntsht Book'!J23 -> 9.13 | G22: ='Qtrly''s-Cntsht Book'!K23 -> 9.13 | H22: ='Qtrly''s-Cntsht Book'!N23 -> 6.94 | I22: ='Qtrly''s-Cntsht Book'!O23 -> 7.83 | J22: ='Qtrly''s-Cntsht Book'!P23 -> 8.61 | K22: ='Qtrly''s-Cntsht Book'!S23 -> 11.27 | L22: ='Qtrly''s-Cntsht Book'!T23 -> 13.61 | M22: ='Qtrly''s-Cntsht Book'!U23 -> 11.6 | N22: =SUM(B22:M22)/12 -> 10 | O22: =N22*366 -> 3660
A23: Electronic Monitoring | B23: ='Qtrly''s-Cntsht Book'!D24 -> 153 | C23: ='Qtrly''s-Cntsht Book'!E24 -> 153 | D23: ='Qtrly''s-Cntsht Book'!F24 -> 150 | E23: ='Qtrly''s-Cntsht Book'!I24 -> 137 | F23: ='Qtrly''s-Cntsht Book'!J24 -> 140 | G23: ='Qtrly''s-Cntsht Book'!K24 -> 140 | H23: ='Qtrly''s-Cntsht Book'!N24 -> 141 | I23: ='Qtrly''s-Cntsht Book'!O24 -> 153 | J23: ='Qtrly''s-Cntsht Book'!P24 -> 169 | K23: ='Qtrly''s-Cntsht Book'!S24 -> 168 | L23: ='Qtrly''s-Cntsht Book'!T24 -> 156 | M23: ='Qtrly''s-Cntsht Book'!U24 -> 161 | N23: =SUM(B23:M23)/12 -> 151.75 | O23: =N23*366 -> 55540.5
A24: TWO (New) | B24: ='Qtrly''s-Cntsht Book'!D25 -> 3 | C24: ='Qtrly''s-Cntsht Book'!E25 -> 3 | D24: ='Qtrly''s-Cntsht Book'!F25 -> 1 | E24: ='Qtrly''s-Cntsht Book'!I25 -> 0 | F24: ='Qtrly''s-Cntsht Book'!J25 -> 0 | G24: ='Qtrly''s-Cntsht Book'!K25 -> 0 | H24: ='Qtrly''s-Cntsht Book'!N25 -> 0 | I24: ='Qtrly''s-Cntsht Book'!O25 -> 0 | J24: ='Qtrly''s-Cntsht Book'!P25 -> 0 | K24: ='Qtrly''s-Cntsht Book'!S25 -> 0 | L24: ='Qtrly''s-Cntsht Book'!T25 -> 0 | M24: ='Qtrly''s-Cntsht Book'!U25 -> 0 | N24: =SUM(B24:M24)/12 -> 0.58333333 | O24: =N24*366 -> 213.5
A25: Pretrial EM (New) | B25: ='Qtrly''s-Cntsht Book'!D26 -> 1048 | C25: ='Qtrly''s-Cntsht Book'!E26 -> 1048 | D25: ='Qtrly''s-Cntsht Book'!F26 -> 1121 | E25: ='Qtrly''s-Cntsht Book'!I26 -> 1121 | F25: ='Qtrly''s-Cntsht Book'!J26 -> 1121 | G25: ='Qtrly''s-Cntsht Book'!K26 -> 1121 | H25: ='Qtrly''s-Cntsht Book'!N26 -> 1121 | I25: ='Qtrly''s-Cntsht Book'!O26 -> 1121 | J25: ='Qtrly''s-Cntsht Book'!P26 -> 1121 | K25: ='Qtrly''s-Cntsht Book'!S26 -> 1133 | L25: ='Qtrly''s-Cntsht Book'!T26 -> 1121 | M25: ='Qtrly''s-Cntsht Book'!U26 -> 1121 | N25: =SUM(B25:M25)/12 -> 1109.8333 | O25: =N25*366 -> 406199
A26: Colorado | B26: ='Qtrly''s-Cntsht Book'!D27 -> N/A | C26: ='Qtrly''s-Cntsht Book'!E27 -> N/A | D26: ='Qtrly''s-Cntsht Book'!F27 -> N/A | E26: ='Qtrly''s-Cntsht Book'!I27 -> N/A | F26: ='Qtrly''s-Cntsht Book'!J27 -> N/A | G26: ='Qtrly''s-Cntsht Book'!K27 -> N/A | H26: ='Qtrly''s-Cntsht Book'!N27 -> N/A | I26: ='Qtrly''s-Cntsht Book'!O27 -> N/A | J26: ='Qtrly''s-Cntsht Book'!P27 -> N/A | K26: ='Qtrly''s-Cntsht Book'!S27 -> N/A | L26: ='Qtrly''s-Cntsht Book'!T27 -> N/A | M26: ='Qtrly''s-Cntsht Book'!U27 -> N/A | N26: =SUM(B26:M26)/12 -> 0 | O26: =N26*366 -> 0
A27: Other Out Of State | B27: ='Qtrly''s-Cntsht Book'!D28 -> 12 | C27: ='Qtrly''s-Cntsht Book'!E28 -> 12 | D27: ='Qtrly''s-Cntsht Book'!F28 -> 11 | E27: ='Qtrly''s-Cntsht Book'!I28 -> 12 | F27: ='Qtrly''s-Cntsht Book'!J28 -> 12 | G27: ='Qtrly''s-Cntsht Book'!K28 -> 12 | H27: ='Qtrly''s-Cntsht Book'!N28 -> 11 | I27: ='Qtrly''s-Cntsht Book'!O28 -> 11 | J27: ='Qtrly''s-Cntsht Book'!P28 -> 11 | K27: ='Qtrly''s-Cntsht Book'!S28 -> 11 | L27: ='Qtrly''s-Cntsht Book'!T28 -> 11 | M27: ='Qtrly''s-Cntsht Book'!U28 -> 11 | N27: =SUM(B27:M27)/12 -> 11.416667 | O27: =N27*366 -> 4178.5
A28: TOTAL OTHER | B28: =SUM(B20:B27) -> 1467.65 | C28: =SUM(C20:C27) -> 1467.64 | D28: =SUM(D20:D27) -> 1533.04 | E28: =SUM(E20:E27) -> 1518.19 | F28: =SUM(F20:F27) -> 1483.86 | G28: =SUM(G20:G27) -> 1483.86 | H28: =SUM(H20:H27) -> 1528.1 | I28: =SUM(I20:I27) -> 1563.73 | ... O28: =SUM(O20:O27) -> 559888.8
A29: GRAND TOTAL | B29: =B18+B28 -> 5942.95 | C29: =C18+C28 -> 6020.74 | D29: =D18+D28 -> 6196.9 | E29: =E18+E28 -> 6206.89 | F29: =F18+F28 -> 6171.56 | G29: =G18+G28 -> 6191.86 | H29: =H18+H28 -> 6238.4 | I29: =I18+I28 -> 6288.23 | ... M29: =M18+M28 -> 5788.27 | N29: =SUM(B29:M29)/12 -> 6076.5892 | O29: =O18+O28 -> 2224031.6
A35: Updated: 09/25/20 lj

Sheet Avg Daily Community Jails
A1: JULY 2019 TO JUNE 2020-NUMBER OF PERSONS
A3: BEDS | B3: 4 | C3: 6 | D3: 7 | E3: 8 | F3: 6 | G3: 7 | H3: 22 | I3: 12 | J3: 9 | K3: 12 | L3: 14 | M3: 15 | N3: 10 | O3: 13 | P3: 12 | Q3: =SUM(B3:P3) -> 157
B4: Bristol Bay | C4: Cordova | D4: Craig | E4: Dillingham | F4: Haines | G4: Homer | H4: Kodiak | I4: Kotzebue | J4: NSB | K4: Petersburg | L4: Seward | M4: Sitka | N4: Unalaska | O4: Valdez | P4: Wrangell
A5: July | B5: 29 | C5: 10 | D5: 29 | E5: 81 | F5: 8 | G5: 52 | H5: 38 | I5: 68 | J5: 44 | K5: 10 | L5: 15 | M5: 47 | N5: 6 | O5: 18 | P5: 8
A6: August | B6: 10 | C6: 7 | D6: 37 | E6: 78 | F6: 3 | G6: 42 | H6: 71 | I6: 63 | J6: 51 | K6: 8 | L6: 15 | M6: 36 | N6: 12 | O6: 20 | P6: 9
A7: September | B7: 14 | C7: 3 | D7: 30 | E7: 51 | F7: 5 | G7: 31 | H7: 65 | I7: 59 | J7: 30 | K7: 7 | L7: 14 | M7: 49 | N7: 24 | O7: 9 | P7: 10
A8: October | B8: 11 | C8: 2 | D8: 34 | E8: 62 | F8: 3 | G8: 57 | H8: 64 | I8: 54 | J8: 32 | K8: 8 | L8: 11 | M8: 28 | N8: 18 | O8: 24 | P8: 9
A9: November | B9: 6 | C9: 2 | D9: 32 | E9: 61 | F9: 2 | G9: 56 | H9: 49 | I9: 56 | J9: 46 | K9: 9 | L9: 18 | M9: 33 | N9: 18 | O9: 10 | P9: 6
A10: December | B10: 6 | C10: 1 | D10: 29 | E10: 53 | F10: 1 | G10: 48 | H10: 45 | I10: 50 | J10: 65 | K10: 12 | L10: 14 | M10: 27 | N10: 9 | O10: 15 | P10: 7
A11: January | B11: 7 | C11: 1 | D11: 28 | E11: 44 | F11: 2 | G11: 36 | H11: 41 | I11: 45 | J11: 43 | K11: 8 | L11: 9 | M11: 29 | N11: 6 | O11: 17 | P11: 6
A12: February | B12: 8 | C12: 2 | D12: 36 | E12: 40 | F12: 1 | G12: 23 | H12: 53 | I12: 24 | J12: 30 | K12: 11 | L12: 15 | M12: 39 | N12: 13 | O12: 18 | P12: 8
A13: March | B13: 5 | C13: 2 | D13: 26 | E13: 48 | F13: 1 | G13: 28 | H13: 53 | I13: 26 | J13: 21 | K13: 9 | L13: 13 | M13: 28 | N13: 10 | O13: 13 | P13: 7
A14: April | B14: 4 | C14: 0 | D14: 19 | E14: 48 | F14: 1 | G14: 24 | H14: 26 | I14: 6 | J14: 31 | K14: 5 | L14: 7 | M14: 14 | N14: 2 | O14: 7 | P14: 2
A15: May | B15: 13 | C15: 4 | D15: 29 | E15: 24 | F15: 1 | G15: 30.5 | H15: 48 | I15: 26 | J15: 35 | K15: 10 | L15: 22 | M15: 31 | N15: 5 | O15: 8 | P15: 3
A16: June | B16: 17 | C16: 4 | D16: 25 | E16: 30 | F16: 0 | G16: 27 | H16: 42 | I16: 12 | J16: 44 | K16: 9 | L16: 29 | M16: 23 | N16: 6 | O16: 8 | P16: 11 | Q16: Total
A17: Total | B17: =SUM(B5:B16) -> 130 | C17: =SUM(C5:C16) -> 38 | D17: =SUM(D5:D16) -> 354 | E17: =SUM(E5:E16) -> 620 | F17: =SUM(F5:F16) -> 28 | G17: =SUM(G5:G16) -> 454.5 | H17: =SUM(H5:H16) -> 595 | I17: =SUM(I5:I16) -> 489 | ... P17: =SUM(P5:P16) -> 86 | Q17: Persons
A18: Average | B18: =AVERAGE(B5:B16) -> 10.833333 | C18: =AVERAGE(C5:C16) -> 3.1666667 | D18: =AVERAGE(D5:D16) -> 29.5 | E18: =AVERAGE(E5:E16) -> 51.666667 | F18: =AVERAGE(F5:F16) -> 2.3333333 | G18: =AVERAGE(G5:G16) -> 37.875 | H18: =AVERAGE(H5:H16) -> 49.583333 | I18: =AVERAGE(I5:I16) -> 40.75 | ... P18: =AVERAGE(P5:P16) -> 7.1666667 | Q18: =SUM(B17:P17) -> 4234.5
A20: JULY 2019 TO JUNE 2020--NUMBER OF MAN-DAYS
A22: CAP DAYS | B22: 15 | C22: 7 | D22: 15 | E22: 20 | F22: 14 | G22: 10 | H22: 30 | I22: 30 | J22: 30 | K22: 15 | L22: 30 | M22: 10 | N22: 30 | O22: 10 | P22: 30 | Q22: =SUM(B22:O22) -> 266
B23: Bristol Bay | C23: Cordova | D23: Craig | E23: Dillingham | F23: Haines | G23: Homer | H23: Kodiak | I23: Kotzebue | J23: NSB | K23: Petersburg | L23: Seward | M23: Sitka | N23: Unalaska | O23: Valdez | P23: Wrangell
A24: July | B24: 39 | C24: 10.5 | D24: 97.5 | E24: 127.5 | F24: 5.5 | G24: 45 | H24: 792 | I24: 277.5 | J24: 267.5 | K24: 58 | L24: 42 | M24: 171.5 | N24: 9.5 | O24: 73.5 | P24: 22
A25: August | B25: 16 | C25: 13.5 | D25: 201 | E25: 186 | F25: 1 | G25: 50.5 | H25: 585 | I25: 224.5 | J25: 274.5 | K25: 49 | L25: 27 | M25: 106 | N25: 42.5 | O25: 69.5 | P25: 43
A26: September | B26: 29.5 | C26: 4 | D26: 171 | E26: 162 | F26: 9 | G26: 61.5 | H26: 636 | I26: 201 | J26: 221.5 | K26: 28 | L26: 25.5 | M26: 217.5 | N26: 31.5 | O26: 14.5 | P26: 112
A27: October | B27: 26.5 | C27: 25.5 | D27: 171.5 | E27: 155.5 | F27: 5 | G27: 85.5 | H27: 453 | I27: 193 | J27: 259.5 | K27: 34 | L27: 53.5 | M27: 89.5 | N27: 69.5 | O27: 72.5 | P27: 69
A28: November | B28: 9 | C28: 6 | D28: 162 | E28: 105.5 | F28: 2 | G28: 81 | H28: 242 | I28: 181.5 | J28: 345 | K28: 53 | L28: 76 | M28: 173 | N28: 48 | O28: 51 | P28: 93
A29: December | B29: 9 | C29: 1 | D29: 233 | E29: 202 | F29: 0.5 | G29: 65 | H29: 246 | I29: 187.5 | J29: 341 | K29: 55 | L29: 21 | M29: 130 | N29: 18 | O29: 31.5 | P29: 48
A30: January | B30: 33 | C30: 0.5 | D30: 222 | E30: 174 | F30: 2 | G30: 59 | H30: 263 | I30: 163 | J30: 316 | K30: 56 | L30: 19 | M30: 138 | N30: 11 | O30: 118.5 | P30: 42
A31: February | B31: 14 | C31: 2 | D31: 229 | E31: 135 | F31: 7 | G31: 57.5 | H31: 269 | I31: 60 | J31: 277 | K31: 35 | L31: 33.5 | M31: 123.5 | N31: 40.5 | O31: 95.5 | P31: 146
A32: March | B32: 12 | C32: 6 | D32: 159.5 | E32: 127 | F32: 7 | G32: 58.5 | H32: 210 | I32: 40 | J32: 169.5 | K32: 48 | L32: 40.5 | M32: 90 | N32: 31.5 | O32: 40.5 | P32: 47
A33: April | B33: 13 | C33: 0 | D33: 62 | E33: 53 | F33: 4 | G33: 29 | H33: 73 | I33: 10.5 | J33: 153.5 | K33: 14 | L33: 11.5 | M33: 27 | N33: 9 | O33: 39 | P33: 31
A34: May | B34: 23 | C34: 10 | D34: 110 | E34: 91 | F34: 1 | G34: 30 | H34: 142 | I34: 43.5 | J34: 140 | K34: 35 | L34: 68.5 | M34: 63 | N34: 43 | O34: 46 | P34: 47
A35: June | B35: 24.5 | C35: 3 | D35: 125 | E35: 107 | F35: 0 | G35: 30.5 | H35: 209 | I35: 19.5 | J35: 196 | K35: 38 | L35: 87.5 | M35: 61.5 | N35: 13.5 | O35: 13.5 | P35: 84 | Q35: Total
A36: Total | B36: =SUM(B24:B35) -> 248.5 | C36: =SUM(C24:C35) -> 82 | D36: =SUM(D24:D35) -> 1943.5 | E36: =SUM(E24:E35) -> 1625.5 | F36: =SUM(F24:F35) -> 44 | G36: =SUM(G24:G35) -> 653 | H36: =SUM(H24:H35) -> 4120 | I36: =SUM(I24:I35) -> 1601.5 | ... P36: =SUM(P24:P35) -> 784 | Q36: Man-days
