Workbook

Sheet Daily Cost Calc
A1: DAILY COST OF CARE CALCULATIONS
A2: Total Institutional Costs | B2: ='BILLING RATE CALC'!F24 -> 2.6413967e+08
A3: Daily Cost (Divided by 365 days) | B3: =B2/365 -> 723670.34
A4: Average Daily Institutional Population for Fiscal Year 2018 | B4: ='Inmate Avg Daily Population'!N18 -> 4288.6917
A5: Annual Total Mandays for Fiscal Year 2018 | B5: =B4*365 -> 1565372.5
A6: Daily Cost per Institutional Prisoner | B6: ='BILLING RATE CALC'!G24 -> 168.73919
A9: Total Community Residential Centers Costs | B9: ='COST ALLOCATION'!J36 -> 18170910
A10: Daily Cost (Divided by 365 days) | B10: =B9/365 -> 49783.316
A11: Average Daily CRC Population for Fiscal Year 2018 | B11: ='Inmate Avg Daily Population'!N20+'Inmate Avg Daily Population'!N21 -> 324.485
A12: Annual Total Mandays for Fiscal Year 2018 | B12: =B11*365 -> 118437.02
A13: Daily Cost Per Community Residential Center Inmate | B13: =B10/B11 -> 153.42255
A16: Total Probation/Parole Costs | B16: ='COST ALLOCATION'!J33+'COST ALLOCATION'!J32 -> 17500171
A17: Daily Cost (Divided by 365 days) | B17: =B16/365 -> 47945.675
A18: Average Daily Probationers/Parole Served for Fiscal Year 2018 | B18: ='Monthly PO Workload Stats'!G314 -> 4302 | C18: ?
A19: Annual Total Mandays for Fiscal Year 2018 | B19: =B18*365 -> 1570230
A20: Daily Cost per Probationer/Parolee | B20: =B17/B18 -> 11.144973
A23: Total Community Jail Costs | B23: ='COST ALLOCATION'!J31 -> 7272057.6
A24: Daily Cost (Divided by 365 days) | B24: =B23/365 -> 19923.445
A25: Average Daily Community Jail Population for Fiscal Year 2018 | B25: ='Avg Daily Community Jails'!H41 -> 54.80411 | C25: ?
A26: Annual Total Mandays for Fiscal Year 2018 | B26: =B25*365 -> 20003.5
A27: Daily Cost per Prisoner | B27: =B24/B25 -> 363.53926
A30: Total Electronic Monitoring Costs | B30: ='COST ALLOCATION'!J35 -> 2651350.3
A31: Daily Cost (Divided by 365 days) | B31: =B30/365 -> 7263.9733
A32: Average Daily Electronic Monitoring Population for Fiscal Year 2018 | B32: ='Inmate Avg Daily Population'!N23 -> 217.41667 | C32: ?
A33: Annual Total Mandays for Fiscal Year 2018 | B33: =B32*365 -> 79357.083
A34: Daily Cost per Prisoner | B34: =B31/B32 -> 33.410379
A37: Total Out-of-State Contractual Costs | B37: ='COST ALLOCATION'!J34 -> 312161.04
A38: Daily Cost (Divided by 365 days) | B38: =B37/365 -> 855.23572
A39: Average Daily Out-of-State Population for Fiscal Year 2018 | B39: ='Inmate Avg Daily Population'!N24+'Inmate Avg Daily Population'!N25 -> 10.75
A40: Annual Total Mandays for Fiscal Year 2018 | B40: =B39*365 -> 3923.75
A41: Daily Cost Per Prisoner | B41: =B38/B39 -> 79.556811
A44: Revised 11/21/18 lj

Sheet Sched-A
A1: COST SHEET FOR DETENTION SERVICES
A2: Section I - General Information
A3: Name of Facility: | B3: Department of Corrections | E3: Physical Address of Facility: | H3: Juneau, Alaska
A4: Phone Number: | B4: (907) 465-3460
A5: Section II - Financial Data Summary
A6: Total Operating Cost for Jail:
A7: A. Time Frame | C7: From: | D7: 42917 | E7: To: | F7: 43281
D8: (month/year) | F8: (month/year) | H8: Annual Cost
A9: B. Total Personnel salary/wage costs (Schedule B - Part I) | H9: ='Sched-B1'!B17 -> 91270755
A10: C. Total Personnel Benefits/Other Personnel Services (Schedule B - Part II) | H10: ='Sched-B1'!C17+'Sched-B1'!D17 -> 54779071
A11: D. Total Consultants and Contract Services (Schedule C) | H11: ='Sched-C'!D24 -> 23573090
A12: E. Other Direct Operating costs (Schedule D1 and D2) | H12: ='Sched-D1'!F660+'Sched-D2'!F134 -> 76533266
A13: F. Indirect Costs (Schedule E)* | H13: ='Sched-E'!E3 -> 11288153
A14: G. Equipment Depreciation costs (Schedule F) | H14: ='Sched-F-G'!C18 -> 744789.69
A15: H. Building Depreciation Costs (Schedule G) | H15: ='Sched-F-G'!D38 -> 6668792.2
A16: I. Total Operating Costs (Sum of Schedules B-G) | H16: =SUM(H9:H15) -> 2.6485792e+08
A17: Total Actual Operating Cost for Prior Fiscal Year | H17: 2.6115356e+08
A19: COST SHEET FOR DETENTION SERVICES (continued)
A20: Section III - Prisoner Population Information
A21: Time Frame of Prisoner Information | E21: FROM: | F21: 42917 | G21: TO: | H21: 43281
A22: (must correspond with time frame on previous page) | F22: (month/year) | H22: (month/year)
A23: Inmate Capacity of Jail: | D23: MALE | F23: FEMALE | H23: TOTAL
D24: - | F24: - | H24: 4838
A25: Average Daily Population: | D25: MALE | F25: FEMALE | H25: TOTAL
A26: Type of Prisoner | C26: Federal | D26: - | F26: -
C27: Local | D27: - | F27: -
C28: State | D28: - | F28: -
C29: Total | D29: =H29-F29 -> 3899.6196 | F29: ='IADP-By Gender'!J19 -> 389.0721 | H29: ='Inmate Avg Daily Population'!N18 -> 4288.6917
A30: Section IV - Per Diem
A31: Proposed Per Diem Rate for Federal Prisoners: | F31: ='BILLING RATE CALC'!G24 -> 168.73919
A32: State Prisoner Per Diem Rate: | F32: ='BILLING RATE CALC'!G24 -> 168.73919
A33: Section V - Local Government Contact
A34: Please provide the name of the individual authorized to represent and to act for the Local Government in jail day rate negotiations.
A35: Name | B35: April Wilkerson | E35: Department/Office | G35: State of Alaska, Dept of Corrections
A36: Title | B36: Director, Admin. Services | E36: Street | G36: PO Box 112000
A37: Phone | B37: (907) 269-7397 | E37: City | F37: Juneau | G37: State/Zip | H37: AK, 99811
A38: Fax | B38: (907) 465-3315
A39: Section VI - Certification Statement
A40: This is to certify that, to the vest of my knowledge and belief, the data furnished in Schedules B through G are accurate, complete and current, and do not include any unallocable, or unallowable costs prohibited by OMB Circular No. A-87 (Cost Principles for State and Local Governments) or any cost not related to the jail facility as discussed on Form USM-243 (Cost Sheet for Detention Services.) The records of this agency are available for review and audit by the authorized representative of the U.S. Government to verify any jail per diem rate negotiated.
A41: Signature | F41: Date
...

Sheet Sched-B1
A1: TOTAL PERSONAL SERVICES
A2: BY INDIVIDUAL INSTITUTIONS
A3: Facility | B3: Total Wages | C3: Total Benefits | D3: Other Personal Services | E3: Total Personal Services | F3: Number of Employees | G3: General Capacity
A4: Anchorage Complex | B4: 17150339 | C4: 10324493 | D4: 18090.64 | E4: =SUM(B4:D4) -> 27492923 | F4: 248 | G4: 829
A5: Anvil Mtn. CC | B5: 3619767.9 | C5: 1996487.9 | D5: 3027.7 | E5: =SUM(B5:D5) -> 5619283.6 | F5: 40 | G5: 126
A6: Comb Hiland Mtn. CC | B6: 7349730 | C6: 4394977.1 | D6: 3588.19 | E6: =SUM(B6:D6) -> 11748295 | F6: 102 | G6: 395
A7: Fairbanks CC | B7: =6353529.25-200 -> 6353329.2 | C7: 3735100.4 | D7: 7570.19 | E7: =SUM(B7:D7) -> 10096000 | F7: 89 | G7: 248
A8: Goose Creek CC | B8: 18654225 | C8: 11986993 | D8: 23949.45 | E8: =SUM(B8:D8) -> 30665168 | F8: 329 | G8: 1408
A9: Ketchikan CC | B9: 2491717 | C9: 1515241.1 | D9: 2264.26 | E9: =SUM(B9:D9) -> 4009222.3 | F9: 35 | G9: 52
A10: Lemon Creek CC | B10: 5502645.7 | C10: 3244308.9 | D10: 6279.18 | E10: =SUM(B10:D10) -> 8753233.8 | F10: 75 | G10: 226
A11: Mat-Su CC | B11: 3584292.5 | C11: 2153388.4 | D11: 17180.96 | E11: =SUM(B11:D11) -> 5754861.8 | F11: 49 | G11: 98
A12: Palmer CC | B12: 67763.84 | C12: 42838.32 | D12: -15781.43 | E12: =SUM(B12:D12) -> 94820.73 | F12: 1 | G12: 0
A13: Spring Creek CC | B13: 11866090 | C13: 6920568.5 | D13: 12146.34 | E13: =SUM(B13:D13) -> 18798805 | F13: 169 | G13: 535
A14: Wildwood CC | B14: 7787243.4 | C14: 4725387.7 | D14: 5894.26 | E14: =SUM(B14:D14) -> 12518525 | F14: 116 | G14: =320+110 -> 430
A15: Yukon Kuskokwim CC | B15: 4996584.8 | C15: 2486369.6 | D15: 64584.89 | E15: =SUM(B15:D15) -> 7547539.3 | F15: 43 | G15: 189
A16: Pt. MacKenzie CF | B16: 1847025.2 | C16: 1094067.1 | D16: 10055.77 | E16: =SUM(B16:D16) -> 2951148 | F16: 27 | G16: 128
A17: Total | B17: =SUM(B4:B16) -> 91270755 | C17: =SUM(C4:C16) -> 54620221 | D17: =SUM(D4:D16) -> 158850.4 | E17: =SUM(E4:E16) -> 1.4604983e+08 | F17: =SUM(F4:F16) -> 1323 | G17: =SUM(G4:G16) -> 4664
A19: Revised 10/15/18 lj

Sheet Sched-B2
A1: PERSONAL SERVICES BENEFITS BY INDIVIDUAL INSTITUTIONS
A2: Institution | B2: Benefit | C2: %Employer Contribution | D2: Annual Cost | E2: Sub-Total | F2: IRIS Codes
A3: Anchorage Complex | B3: Annual Physical Reimbursement | C3: not a set $ | F3: 1027
B4: AK Supplemental Benefit (SBS) | C4: 0.0613 | F4: 1028
B5: Public Employee's Retirement System Defined Benefits | C5: 0.22 | F5: 1029
B6: Public Employee's Retirement System Defined Contribution | C6: - | F6: 1030
B7: Public Employee's Retirement System Defined Cont Health Reim | C7: - | F7: 1034
B8: Public Employee's Retiremnt Sys Defined Cont Retiree Medical | C8: - | F8: 1035
B9: Public Employee's Retiremnt Sys Defined Benefit Unfnd Liab | C9: - | F9: 1037
B10: Unemployment Insurance | C10: 0.004 | F10: 1039
B11: Group Health Insurance | C11: $1482.75/mo | F11: 1040
B12: Basic Life and Travel | C12: $0.00/mo.pp | F12: 1041
B13: Worker's Compensation Insurance | C13: 0.0412 | F13: 1042
B14: Leave Cash In Employer Charge | C14: 0.0231 | F14: 1047
B15: Terminal Leave Employer Charge | C15: 0.012 | F15: 1048
B16: ACOA Injury Leave Contribution | C16: $8.00/mo | F16: 1049
B17: Leave- Holiday
B18: Medicare Tax | C18: 0.0145 | F18: 1053
B19: Other Personal Services | F19: 1004 | G19: :Total Object Category
E20: 10342584 | G20: ='Sched-B1'!C4+'Sched-B1'!D4 -> 10342584 | H20: =E20-G20 -> 0
A21: Anvil Mtn. CC | B21: Annual Physical Reimbursement | C21: not a set $ | D21: 0
B22: AK Supplemental Benefit (SBS) | C22: 0.0613
B23: Public Employee's Retirement System Defined Benefits | C23: 0.22
B24: Public Employee's Retirement System Defined Contribution | C24: -
B25: Public Employee's Retirement System Defined Cont Health Reim | C25: -
B26: Public Employee's Retiremnt Sys Defined Cont Retiree Medical | C26: -
B27: Public Employee's Retiremnt Sys Defined Benefit Unfnd Liab | C27: -
B28: Unemployment Insurance | C28: =C10 -> 0.004
B29: Group Health Insurance | C29: =C11 -> $1482.75/mo
B30: Basic Life & Travel | C30: $0.00/mo.pp
B31: Workman's Compensation | C31: =C13 -> 0.0412
B32: Leave Cash-in/Payout | C32: =C14 -> 0.0231
B33: Terminal Leave Charge | C33: =C15 -> 0.012
B34: Injury Leave Contribution | C34: =C16 -> $8.00/mo
B35: Medicare Tax | C35: =C18 -> 0.0145
B36: Other Personal Services
E37: 1999515.6 | G37: ='Sched-B1'!C5+'Sched-B1'!D5 -> 1999515.6 | H37: =E37-G37 -> 0
A38: Comb Hiland Mt.CC | B38: Annual Physical Reimbursement | C38: not a set $
B39: AK Supplemental Benefit (SBS) | C39: 0.0613
B40: Public Employee's Retirement System Defined Benefits | C40: =C5 -> 0.22
...

Sheet Sched-C
A1: CONSULTANTS & CONTRACT SERVICES
A2: Type of Service | B2: Description of Service | C2: Number of Contracts | D2: DOC Annual Cost | E2: IRIS CODES
A3: MEDICAL | B3: Non-employee contracted | C3: =27+5+8 -> 40 | D3: 18708633 | E3: 3041
B4: physicians/nurses/PAs/X-ray
B5: Non-employee fee for services | C5: -
B6: physicians/nurses/PAs/X-ray
A8: DENTAL | B8: Non-employee contracted | C8: =6 -> 6 | D8: 331963.93 | E8: 3042
B9: dentist/hygienist/assistant
B10: Non-employee fee for service | C10: -
B11: dentist/hygienist/assistant
A13: SOCIAL COUNSELING | B13: Non-employee contracted | C13: =1+1+23 -> 25 | D13: =1471183.32+1890942.96+22078.83+101430.35 -> 3485635.5 | E13: 3040 | F13: Batterer's RSA | G13: Fixed Cost: (BIP $ 68,500 /PBP $ 106,200) @ DPS
B14: substance abuse,batterers & | G14: =68500+106200 -> 174700
B15: sex offender treatment
A17: PSYCHOLOGICAL | B17: Non-employee contracted | C17: =3+12+2 -> 17 | D17: =4408983.87-1471183.32-1890942.96 -> 1046857.6 | E17: 3040
A18: COUNSELING | B18: mental health,psychiatric &
B19: psychological services
B20: Non-employee fee for service | C20: -
B21: mental health,psychiatric &
B22: psychological services
A24: TOTAL | C24: =SUM(C3:C23) -> 88 | D24: =SUM(D3:D23) -> 23573090
A26: Revised 10/19/18 lj

Sheet Sched-D1
A1: OTHER DIRECT JAIL OPERATING COSTS
A2: Institution | B2: Description of Cost | D2: Annual Cost | F2: Total | G2: IRIS CODES | H2: ck
A3: Anchorage Complex | B3: Travel/Moving Cost | E3: 1723.13 | G3: 2000/2003
B4: Non-Interagency Svcs | D4: 388691.42 | E4: =SUM(D4:D33) -> 1938115.5
B5: Training/Conferences | G5: 3000
B6: Memberships | G6: 3002
B7: Penalties And Fines | G7: 3013
B8: Claim/Judgement Non-Taxable | G8: 3016
B9: Uncleared 1Card Transactions | G9: 3019
B10: Utilities | D10: 1549424.1 | G10: 2100 | H10: Utility Costs: Based on Alder Report Expenditures by Location
B11: Software Licensing | G11: 3032
B12: Software Maintenance | G12: 3033
B13: Long Distance | G13: 3035
B14: Local/Equipment Charges | G14: 3036
B15: Data/Network | G15: 3037
B16: Cellular Phones | G16: 3038
B17: Psychiatric | G17: 3040
B18: Medical | G18: 3041
B19: Freight | G19: 3043
B20: Courier | G20: 3044
B21: Postage | G21: 3045
B22: Water and Sewage | G22: 3049
... B32: Commission Sales | G32: 3069
B34: Interagency Services | D34: 571257.71 | E34: =SUM(D34) -> 571257.71 | G34: 3001
B35: Commodities / Supplies | E35: =SUM(D36:D41) -> 2626106.5
C36: Business | D36: 309946.69 | G36: 4000
C37: Agricultural | D37: 0
C38: Household/Institutional | D38: 1964915.8 | G38: 4002
C39: Scientific & Medical | D39: 10874.96 | G39: 4003
C40: Safety | D40: 136217.77 | G40: 4004
C41: Repair/Maintenance Supplies | D41: 204151.19 | G41: 4005
B42: Commodity/ Transfer | D42: -60000 | E42: =SUM(D42) -> -60000 | G42: 4970
B43: Equipment & Industrial | D43: 0 | E43: =D43 -> 0 | G43: 5000
F44: =SUM(E3:E43) -> 5077202.8 | H44: ='Sched-B1'!B4+'Sched-B2'!E20+'Sched-D1'!F44-31020701.91-1549424.09 -> 0
A45: Anvil Mtn. Correctional | B45: Travel/Moving Cost | E45: =14794.74+33 -> 14827.74
B46: Non-Interagency Svcs | D46: 144197.14 | E46: =SUM(D46:D78) -> 477209.86 | H46: =E46+31113 -> 508322.86
B47: Less: DHSS RSA Youth Meals | D47: -31113 | H47: =H46-E46 -> 31113 | I47: Budgeted
B48: Training/Conferences | G48: 3000
B49: Memberships | G49: 3002
B50: Penalties And Fines | G50: 3013
...

Sheet Sched-D2
A1: OTHER DIRECT JAIL OPERATING COSTS
A2: Institution | B2: Description of Cost | D2: Annual Cost | F2: Total | G2: IRIS CODES
A3: Prison System | B3: Personnel Services | E3: 0
A4: Expansion | B4: Travel | E4: 0
B5: Other Services & Charges | E5: =SUM(D6:D10) -> 0
C6: Education Services | D6: 0
C7: Telecommunications | D7: 0
C8: Delivery Services | D8: 0
C9: Equipment/Machinery | D9: 0
C10: Other Services | D10: 0
C11: Interagency Services | D11: 0 | E11: =SUM(D11) -> 0
B12: Commodities / Supplies | E12: =SUM(D13:D15) -> 0
C13: Business | D13: 0
C14: Safety | D14: 0
C15: Repair/Maintenance Supplies | D15: 0
B16: Capital Outlay | D16: 0 | E16: =SUM(D16) -> 0
F17: =SUM(E3:E16) -> 0 | H17: =F17-0 -> 0
A18: Facility-CAP Imp Unit | B18: Personnel Services | E18: =331676.98+187047.53+667.22 -> 519391.73 | G18: 1001/1002/1004
B19: Travel | D19: 0
B20: Non-Interagency Svcs | D20: 4532.61 | E20: =SUM(D20:D23) -> 4532.61
B21: Uncleared 1Card Transactions | D21: 0 | G21: 3019
B22: Software Maintenance | D22: 0 | G22: 3033
B23: Commission Sales | D23: 0 | G23: 3069
B24: Interagency Services | D24: 36954.98 | E24: =SUM(D24) -> 36954.98
B25: Commodities / Supplies | E25: =D26+D27 -> 0
C26: Business | D26: 0
C27: Repair/Maintenance Supplies | D27: 0
F28: =SUM(E18:E27) -> 560879.32 | H28: =F28-560879.32 -> 0
A29: Health & Rehabilitation | B29: Personnel Services | E29: =18364334.87+9573066.29+41180.42 -> 27978582 | H29: Grand Total of 6 components $ 57,925,921.03 BHC, PHC, HRDirector,Domestic V, Substance, Sex Offender)
A30: Services | B30: Travel / Moving Costs | E30: =226369.63+22453.4+22968.98 -> 271792.01
B31: Non-Interagency Svcs | D31: 24055987 | E31: =D31 -> 24055987 | G31: 3000
B32: Interagency Services | D32: 1811583.5 | E32: =D32 -> 1811583.5
B33: Commodities / Supplies | E33: =SUM(D34:D38) -> 3807976.8
C34: Business | D34: 202034.94
C35: Household/Institutional | D35: 3408.36
C36: Scientific & Medical | D36: 3593194.8
C37: Safety | D37: 0
C38: Repair/Maintenance Supplies | D38: 9338.75
B39: Capital Outlay | D39: 0 | E39: =SUM(D39) -> 0
B40: Less: Reimb Courts (Mental Health Court) | E40: 0
...

Sheet Sched-E
A1: COST ALLOCATION PLANS / INDIRECT COST PROPOSALS
A2: Organization Providing Service | B2: Appr Type | C2: Total Expenditures | D2: % of Time Spent in Support of Jail Operators | E2: Allowable Indirect Cost
A3: Administration & Support* | B3: JADS / JCOA JCOM / JINT JPAB / JREN JRRE | C3: ='Summary-Sched-E'!C10 -> 13244679 | D3: ='COST ALLOCATION'!H6 -> 0.85227836 | E3: =C3*D3 -> 11288153
A4: TOTAL | E4: =E3 -> 11288153
A6: Note*: Includes SF Rent, Correctional Academy, and Parole Board Expenditues
A7: Revised 11/28/18 lj

Sheet Summary-Sched-E
A2: BRU | B2: Appr Type | C2: Total Expenditures of FY2018
A3: Commissioner | B3: JCOM | C3: =2030051.39-97432 -> 1932619.4
A4: Admin Services | B4: JADS | C4: 4185509.4
A5: Info Tech MIS | B5: JINT | C5: 2745893.1
A6: Research & Rcrds | B6: JRRE | C6: 736583.07
A7: Facilities Rent | B7: JREN | C7: 289900
A8: Academy | B8: JCOA | C8: 1601820
A9: Parole Board | B9: JPAB | C9: 1752354.2
B10: Total | C10: =SUM(C3:C9) -> 13244679
A16: Revised: 11/28/18 lj
A18: Notes: FY2015: Total Exp AR less SB64 PACE RSA, less SB64 1st DUI (JCOM)
A19: FY2015: Total Exp AR less SB64 PACE RSA, less SB64 1st DUI (JCOM)
A20: FY2018: Total Exp AR less Unbudgeted RS (JCOM) Revenue 5200 - Statutory Designated Program ($97,432.00)

Sheet Sched-F-G
A1: EQUIPMENT COST | D1: SCHEDULE F
A2: By Individual Institution
A3: Institutions | B3: Cost of Equipment | C3: Equipment Allowance 6.666%
A4: Anchorage Complex | B4: ='Property Inventory'!D35+'Property Inventory'!F35 -> 2072699.1 | C4: =B4*0.06666 -> 138166.12
A5: Anvil Mtn. Correctional | B5: ='Property Inventory'!D26+'Property Inventory'!F26 -> 266075.24 | C5: =B5*0.06666 -> 17736.575
A6: Hiland Mtn. Correctional | B6: ='Property Inventory'!D34+'Property Inventory'!F34 -> 444820.55 | C6: =B6*0.06666 -> 29651.738
A7: Fairbanks Correctional | B7: ='Property Inventory'!D25+'Property Inventory'!F25 -> 442530.16 | C7: =B7*0.06666 -> 29499.06
A8: Goose Creek Correctional | B8: ='Property Inventory'!D38+'Property Inventory'!F38 -> 1717596 | C8: =B8*0.06666 -> 114494.95
A9: Ketchikan Correctional | B9: ='Property Inventory'!D47+'Property Inventory'!F47 -> 99018.96 | C9: =B9*0.06666 -> 6600.6039
A10: Lemon Creek Correctional | B10: ='Property Inventory'!D46+'Property Inventory'!F46 -> 775618.26 | C10: =B10*0.06666 -> 51702.713
A11: Mat-Su Correctional | B11: ='Property Inventory'!D33+'Property Inventory'!F33 -> 121882.88 | C11: =B11*0.06666 -> 8124.7128
A12: Palmer Correctional | B12: ='Property Inventory'!D32+'Property Inventory'!F32 -> 1100926.4 | C12: =B12*0.06666 -> 73387.752
A13: Pt. MacKenzie Correctional Farm | B13: ='Property Inventory'!D52+'Property Inventory'!F52 -> 682827 | C13: =B13*0.06666 -> 45517.248
A14: Spring Creek Correctional | B14: ='Property Inventory'!D37+'Property Inventory'!F37 -> 2075184 | C14: =B14*0.06666 -> 138331.77
A15: Wildwood Correctional | B15: ='Property Inventory'!D36+'Property Inventory'!F36 -> 1182580 | C15: =B15*0.06666 -> 78830.783
A16: Yukon Kuskokwim Correctional | B16: ='Property Inventory'!D27+'Property Inventory'!F27 -> 191204.14 | C16: =B16*0.06666 -> 12745.668
A18: Total Equipment Cost | B18: =SUM(B4:B17) -> 11172963 | C18: =SUM(C4:C17) -> 744789.69
A22: BUILDING DEPRECIATION | D22: SCHEDULE G
A23: By Individual Institution (Based on FY2018 Actuals)
A24: Institutions | B24: All Buildings Construction Cost | C24: Additional Construction Cost | D24: Annual Depreciation @ 2%
A25: Anchorage Complex | B25: 36522437 | C25: 0 | D25: =B25*0.02 -> 730448.74
A26: Anvil Mt. CC | B26: 16192923 | C26: 0 | D26: =B26*0.02 -> 323858.46
A27: Comb Hiland Mt.CC | B27: 45066600 | C27: 0 | D27: =B27*0.02 -> 901332
A28: Fairbanks CC | B28: 34112840 | C28: 0 | D28: =B28*0.02 -> 682256.8
A29: Ketchikan CC | B29: 7691306 | C29: 0 | D29: =B29*0.02 -> 153826.12
A30: Lemon Creek CC | B30: 28845762 | C30: 0 | D30: =B30*0.02 -> 576915.24
A31: Mat-Su Pre-Trial | B31: 10392719 | C31: 0 | D31: =B31*0.02 -> 207854.38
A32: Palmer CC | B32: =41211974*0 -> 0 | C32: 0 | D32: =B32*0.02 -> 0
A33: Pt. MacKenzie Correctional Farm | B33: 12269054 | C33: 0 | D33: =B33*0.02 -> 245381.08
A34: Spring Creek CC | B34: 78360986 | C34: 0 | D34: =B34*0.02 -> 1567219.7
A35: Wildwood CC | B35: 51709708 | C35: 0 | D35: =B35*0.02 -> 1034194.2
A36: Yukon Kuskokwim | B36: 12275277 | C36: 0 | D36: =B36*0.02 -> 245505.54
A38: Total Building Depreciation | B38: =SUM(B25:B37) -> 333439612 | C38: =SUM(C25:C37) -> 0 | D38: =SUM(D25:D37) -> 6668792.2
A40: Total Equipment Cost & Building Depreciation | B40: (Schedule F + Schedule G) | D40: =C18+D38 -> 7413581.9
A42: Revised 10/18/18 lj
A45: Notes:
A46: * FY18 PCC Removed - as PCC Closed $ 41,211,974

Sheet Property Inventory
A1: PROPERTY INVENTORY
A2: Division | B2: Division/Institution | C2: IRIS Unit | D2: Total as of 6/30/18 | E2: Aquired in FY2018 | F2: FY2018 Vehicle Inventory Total | G2: Grand Total
A3: 3 | B3: Commissioner's Office Jnu/Anch | C3: 1000 | D3: 50775.43 | F3: 27819 | G3: =SUM(D3:F3) -> 78594.43
B4: Human Resources | C4: 1400 | D4: 3044.6 | F4: 0 | G4: =SUM(D4:F4) -> 3044.6
B5: Procurement | C5: 1500 | D5: 13145.64 | F5: 0 | G5: =SUM(D5:F5) -> 13145.64
B6: Research & Records | C6: 1200 | D6: 500414.25 | F6: 806 | G6: =SUM(D6:F6) -> 501220.25
A7: 28A | B7: Parole Board | C7: 3000 | D7: 22837.78 | F7: 4433 | G7: =SUM(D7:F7) -> 27270.78
B8: Facility Cap Imp Unit | C8: 2250 | D8: 66251.49 | F8: 4615 | G8: =SUM(D8:F8) -> 70866.49
B9: Prison System Expansion | C9: 2230 | D9: 5450 | G9: =SUM(D9:F9) -> 5450
A10: 1 | B10: Juneau Admin Office / Anchorage | C10: 1100 | D10: 1328243.2 | F10: =15303+11154 -> 26457 | G10: =SUM(D10:F10) -> 1354700.2
B11: Information Technology | C11: 1300 | D11: 133179.14 | G11: =SUM(D11:F11) -> 133179.14
A12: 4 | B12: Training Academy | C12: 2260 | D12: 263815.95 | F12: 20442 | G12: =SUM(D12:F12) -> 284257.95
B13: Education Programs | C13: 2300 | D13: 16005.04 | F13: 2812 | G13: =SUM(D13:F13) -> 18817.04
B14: Institution Education Programs | D14: 0 | F14: 308 | G14: =SUM(D14:F14) -> 308
A15: 7 | B15: Inmate Transportation | C15: 2210 | D15: 34240 | F15: 91142 | G15: =SUM(D15:F15) -> 125382
B16: Classification & Furlough | C16: 2200 | D16: 709.07 | F16: 7745 | G16: =SUM(D16:F16) -> 8454.07
B17: Electronic Monitoring | C17: 2410 | D17: 0 | F17: 29365 | G17: =SUM(D17:F17) -> 29365
A18: 36B | B18: Laundry - Lemon Creek | D18: 0 | F18: 10573 | G18: =SUM(D18:F18) -> 10573
A19: 37 | B19: Out of State | C19: 2220 | D19: 31189 | F19: 0 | G19: =SUM(D19:F19) -> 31189
B20: Behavioral Health Care | C20: 4000 | D20: 709.07 | F20: 0 | G20: =SUM(D20:F20) -> 709.07
B21: Physical Health Care | C21: 4100 | D21: 55953.27 | F21: 0 | G21: =SUM(D21:F21) -> 55953.27
B22: Health & Rehabilitation Services | C22: 4001 | D22: 73557.24 | F22: 0 | G22: =SUM(D22:F22) -> 73557.24
B23: Sex Offender Managemnet Pr | C23: 4400 | D23: 709.07 | F23: 0 | G23: =SUM(D23:F23) -> 709.07
B24: Institution Director's Office (IDO) | C24: 2000 | D24: 15647 | F24: 12288 | G24: =SUM(D24:F24) -> 27935
A25: 14 | B25: Fairbanks Correctional | C25: 2103 | D25: 408026.16 | F25: 34504 | G25: =SUM(D25:F25) -> 442530.16
A26: 15 | B26: Anvil Mtn. Correctional | C26: 2101 | D26: 216990.24 | F26: 49085 | G26: =SUM(D26:F26) -> 266075.24
A27: 18 | B27: Yukon Kuskokwim Correctional | C27: 2110 | D27: 159718.14 | F27: 31486 | G27: =SUM(D27:F27) -> 191204.14
A28: 21A | B28: Fairbanks Probation | C28: 2441 | D28: 66306 | F28: 17737 | G28: =SUM(D28:F28) -> 84043
A29: 21C | B29: Nome Probation | C29: 2442 | D29: 24536 | F29: 12170 | G29: =SUM(D29:F29) -> 36706
A30: 21D | B30: Barrow Probation | C30: 2443 | D30: 28466 | F30: 2938 | G30: =SUM(D30:F30) -> 31404
A31: 21E | B31: Kotzebue Probation | C31: 2444 | D31: 17475 | F31: 5023 | G31: =SUM(D31:F31) -> 22498
A32: 13 | B32: Palmer Correctional | C32: 2107 | D32: 966960.38 | F32: 133966 | G32: =SUM(D32:F32) -> 1100926.4
A33: 10 | B33: Mat-Su Correctional | C33: 2106 | D33: 106775.88 | F33: 15107 | G33: =SUM(D33:F33) -> 121882.88
A34: 11 | B34: Hiland Mtn. Correctional | C34: 2102 | D34: 317423.55 | F34: 127397 | G34: =SUM(D34:F34) -> 444820.55
A35: 8/9 | B35: Anchorage Complex | C35: 2100 | D35: 2014721.1 | F35: 57978 | G35: =SUM(D35:F35) -> 2072699.1
A36: 30 | B36: Wildwood Correctional | C36: 2109 | D36: 980888 | F36: 201692 | G36: =SUM(D36:F36) -> 1182580
A37: 16 | B37: Spring Creek Correctional | C37: 2108 | D37: 1772569 | F37: 302615 | G37: =SUM(D37:F37) -> 2075184
A38: 39 | B38: Goose Creek Correctional | C38: 2112 | D38: 1400033 | F38: 317563 | G38: =SUM(D38:F38) -> 1717596
B39: Probation Region ONE | C39: 2420 | D39: 7063.56 | F39: 0 | G39: =SUM(D39:F39) -> 7063.56
A40: 19A | B40: Anchorage Probation | C40: 2421 | D40: 442011 | F40: 53074 | G40: =SUM(D40:F40) -> 495085
...

Sheet CostReim
A1: Budgeted Revenue Interagency Receipts (I/A)
A2: Division/Institution | B2: Appr Group | C2: ApprType | D2: Total Reimbursement | E2: Outstanding Balance of RSA | F2: Total | G2: Revenue Code
A3: Commissioner's Office | D3: 97432 | F3: =SUM(D3:E3) -> 97432 | G3: 5200 | H3: Statutory Designated CRJ
A4: Parole Board | D4: 0 | F4: =SUM(D4:E4) -> 0
A5: Correctional Academy | D5: 0 | F5: =SUM(D5:E5) -> 0
A6: Administrative Services | D6: 0 | F6: =SUM(D6:E6) -> 0
A7: Probation & Parole Director Office | B7: JPPD | D7: 119512.32 | F7: =SUM(D7:E7) -> 119512.32 | G7: 5002 | H7: Federal Receipts
A8: Facility-Capital Improvement | D8: 0 | F8: =SUM(D8:E8) -> 0
A9: Health & Rehabilitation Services | B9: JHRS | C9: JSAP | D9: =-'Sched-D2'!E41 -> 64559 | F9: =SUM(D9:E9) -> 64559 | G9: 5014
A10: Health & Rehabilitation Services | B10: JHRS | C10: JSAP | D10: =-'Sched-D2'!E43 -> 116576.99 | F10: =SUM(D10:E10) -> 116576.99 | G10: 5301
A11: Health & Rehabilitation Services | B11: JHRS | C11: JBHC | D11: =-'Sched-D2'!E42 -> 52400 | F11: =SUM(D11:E11) -> 52400 | G11: 5007
A12: Offender Habilitation Programs | B12: JOHP | C12: JEDP/JVEP | D12: =-'Sched-D2'!E59-'Sched-D2'!E60-'Sched-D2'!E61-'Sched-D2'!E58 -> 155474.23 | F12: =SUM(D12:E12) -> 155474.23 | G12: 5301 | H12: (3 budgeted RSA's) + Unbudgeted Step
A13: Correctional Academy | D13: 0 | F13: =SUM(D13:E13) -> 0
A14: Institution Director's Office | D14: 0 | F14: =SUM(D14:E14) -> 0
A15: Transportation Unit | B15: JPOP | C15: JTRN | D15: =-'Sched-D2'!E94 -> 140000 | F15: =SUM(D15:E15) -> 140000 | G15: 5301
A16: Out of State | D16: 0 | F16: =SUM(D16:E16) -> 0
A17: Anchorage Complex
A18: Anvil Mtn. Correctional | B18: JPOP | C18: JAMC | D18: =-'Sched-D1'!D47 -> 31113 | F18: =SUM(D18:E18) -> 31113 | G18: 5301
A19: Hiland Mtn. Correctional | D19: 0 | F19: =SUM(D19:E19) -> 0
A20: Fairbanks Correctional | D20: 0 | F20: =SUM(D20:E20) -> 0
A21: Goose Creek Correctional | B21: JPOP | C21: JGCC | D21: =-'Sched-D1'!D193 -> 7986 | F21: =SUM(D21:E21) -> 7986 | H21: Unbudgeted
A22: Ketchikan Correctional | D22: 0 | F22: =SUM(D22:E22) -> 0
A23: Lemon Creek Correctional | B23: JPOP | C23: JLCC | D23: =-'Sched-D1'!D300-'Sched-D1'!D299 -> 372870.5 | F23: =SUM(D23:E23) -> 372870.5 | G23: 5301 | H23: (2 budgeted RSA's)
A24: Mat-Su Correctional | D24: 0 | F24: =SUM(D24:E24) -> 0
A25: Palmer Correctional | D25: 0 | F25: =SUM(D25:E25) -> 0
A26: Spring Creek Correctional | D26: 0 | F26: =SUM(D26:E26) -> 0
A27: Wildwood Correctional | D27: 0 | F27: =SUM(D27:E27) -> 0
A28: Yukon Kuskokwim Correctional | B28: JPOP | C28: JYKC | D28: =-'Sched-D1'!D558 -> 51528 | F28: =SUM(D28:E28) -> 51528 | G28: 5301
A29: Out-of-State Contractual | D29: 0 | F29: =SUM(D29:E29) -> 0
A30: Point Mackenzie Correctional | D30: 0 | F30: =SUM(D30:E30) -> 0
A31: Totals | D31: =SUM(D3:D30) -> 1209452 | E31: =SUM(E3:E30) -> 0 | F31: =SUM(F3:F30) -> 1209452
A33: Revised: 11/29/18 lj

Sheet COST ALLOCATION
A1: COST ALLOCATION
A2: COMPONENT | E2: Appr Type | F2: TOTAL COSTS | H2: % OF TOTAL | I2: ADMIN & SUPPORT | J2: TOTAL ALL COSTS
A3: INDIRECT COST | I3: TOTAL
B4: Administration & Support RDU | E4: JCOM | I4: ='Sched-E'!C3 -> 13244679 | K4: Cost decreased by Statutory Designated Programs - CRJ
A5: DIRECT COST | I5: % by entity | K5: No RS in FY2018
H6: =G7/$G$37 -> 0.85227836 | I6: =SUM($I$4*H6) -> 11288153
B7: INSTITUTIONS | G7: =SUM(F4:F30) -> 2.5356976e+08 | J7: =SUM(I6+G7) -> 2.6485792e+08
C8: 13 Institutions | F8: ='Sched-B1'!E17+'Sched-D1'!F660+CostReim!D18+CostReim!D23+CostReim!D28+CostReim!D21 -> 1.8075417e+08 | K8: Decreased by RSAs
C9: Less: DOT/Laundry RSA | E9: JLCC | F9: ='Sched-D1'!D300 -> -302805.5
C10: Less: DNR/MMM&S RSA (Closed) | E10: JPCC | F10: 0
C11: Less: GCCC Security DPS RS (Unbudgeted) | E11: JGCCC | F11: ='Sched-D1'!D193 -> -7986
C12: Less: DHSS 3 RSAs Youth Meals | E12: JAMC /JLCC/ JYKC | F12: ='Sched-D1'!D47+'Sched-D1'!D558+'Sched-D1'!D299 -> -152706
C13: Facility Planning - Capital Improvement Program | E13: JCIM | F13: ='Sched-D2'!F28 -> 560879.32
C14: Pretrial Services Division | E14: JPTS | F14: ='Sched-D2'!F112 -> 0
B15: Health & Rehabilitation Services RDU | E15: JHRS | F15: ='Sched-D2'!F45+'Sched-D2'!H44 -> 57925921
C16: Less: Reimb. from Federal Public Protection: RSAT Grant | E16: JSAP | F16: ='Sched-D2'!E41 -> -64559
C17: Less: Alcohol Tax RSA (SCCC Men's Sub-Acute & Juvenile Offender Pgm) | E17: JBHC | F17: ='Sched-D2'!E42 -> -52400
C18: Less: DH&S/ RSAT RSA | E18: JSAP | F18: ='Sched-D2'!E43 -> -116576.99
B19: Offender Habilitation Programs RDU | E19: JOFH | F19: ='Sched-D2'!F62+'Sched-D2'!H61-'Sched-D2'!E58 -> 1497481.3 | K19: Decreased by 3 RSAs (ABE/CARL P/MOS)
C20: Less: 3 Education RSAs | E20: JEDP | F20: ='Sched-D2'!E59+'Sched-D2'!E60+'Sched-D2'!E61 -> -103619
C21: Less: 1 Voc Ed Programs RSA's (Unbudgeted) | E21: JVEP | F21: ='Sched-D2'!E58 -> -51855.23 | K21: Decreased by Unbud RSA's (Step C FY18
B22: Institutions Director's Office | E22: JIDO | F22: ='Sched-D2'!F72 -> 1712954.4
C23: Less: DPS PREA RSA | E23: JIDO | F23: 0 | K23: No RSA in FY2018
B24: Prison System Expansion | E24: JPSE | F24: ='Sched-D2'!F17 -> 0
B25: Classification & Furlough | E25: JCLF | F25: ='Sched-D2'!F82 -> 1083646.7
B26: Inmate Transportation Unit | E26: JTRN | F26: ='Sched-D2'!F94+'Sched-D2'!H93 -> 2629990.7 | K26: Decreased by RSA
C27: Less: DPS Transportation RSA | F27: ='Sched-D2'!E94 -> -140000
B28: Point of Arrest | E28: JPOA | F28: ='Sched-D2'!F100 -> 482344.02
B29: Recidivism Reduction Grant | E29: JRRG | F29: ='Sched-D2'!F124 -> 501300
B30: Equipment & Building Depreciation | F30: ='Sched-F-G'!D40 -> 7413581.9
B31: Regional & Community Jails | E31: JCOJ | G31: 6962125 | H31: =G31/$G$37 -> 0.023400536 | I31: =$I$4*H31 -> 309932.6 | J31: =SUM(I31+G31) -> 7272057.6
B32: Probation & Parole Director's Office | E32: JPPD | G32: =1023011.44-119512.32 -> 903499.12 | H32: =G32/$G$37 -> 0.0030367688 | I32: =$I$4*H32 -> 40221.028 | J32: =SUM(I32+G32) -> 943720.15 | K32: FY2018 Decreased by FED Receipts - Grants
B33: State-wide Probation & Parole | E33: JSPP | G33: 15850821 | H33: =G33/$G$37 -> 0.053276509 | I33: =$I$4*H33 -> 705630.26 | J33: =SUM(I33+G33) -> 16556451 | K33: No RSA in FY2018 | L33: SB64 PACE RSA
B34: Out of State Contractual | E34: JOOS | G34: 298856.84 | H34: =G34/$G$37 -> 0.0010044937 | I34: =$I$4*H34 -> 13304.196 | J34: =SUM(I34+G34) -> 312161.04
B35: Electronic Monitoring | E35: JELM | G35: 2538350.6 | H35: =G35/$G$37 -> 0.0085317006 | I35: =$I$4*H35 -> 112999.64 | J35: =SUM(I35+G35) -> 2651350.3 | K35: No RSA in FY2018 | L35: SB64 1st DUI
B36: Community Residential Centers | E36: JCRC | G36: 17396472 | H36: =G36/$G$37 -> 0.058471628 | I36: =$I$4*H36 -> 774437.95 | J36: =SUM(I36+G36) -> 18170910
A37: TOTAL: | G37: =SUM(G3:G36) -> 2.9751989e+08 | H37: =SUM(H3:H36) -> 1 | I37: =SUM(I6:I36) -> 13244679 | J37: =SUM(J7:J36) -> 3.1076457e+08
C38: Reconciliation to Actuals
C39: DOC Total Cost: ( By Appr Type Alder Report ) | F39: 3.1362087e+08
C40: Add: Depreciation Calculation | F40: =F30 -> 7413581.9
...

Sheet BILLING RATE CALC
A1: BILLING RATE CALCULATION
A2: ANNUAL TOTAL MANDAYS | E2: ='Qtrly''s-Cntsht Book'!Y20 -> 1565372.5
A3: COMPONENT | C3: TOTAL EXPENSES | E3: LESS REIMB | F3: ADJUSTED COSTS | G3: BILLING RATE
A4: INSTITUTIONS | D4: =SUM(C5:C7) -> 1.8075417e+08 | F4: =SUM(D4+E6+E7) -> 1.8029067e+08 | G4: =F4/$E$2 -> 115.1743
B5: Institutions | C5: ='COST ALLOCATION'!F8 -> 1.8075417e+08
B6: Less: DHSS & DOT RSAs | E6: ='COST ALLOCATION'!F12+'COST ALLOCATION'!F9 -> -455511.5
B7: Less: GCCC Unbudgeted | C7: 0 | E7: ='COST ALLOCATION'!F11 -> -7986
A8: OFFENDER HABILITATION PROGRAMS | C8: ='COST ALLOCATION'!F19 -> 1497481.3 | D8: =SUM(C8:C8) -> 1497481.3 | F8: =SUM(D8,E9) -> 1342007.1 | G8: =F8/$E$2 -> 0.85730849
B9: Less: Education (3) RSAs , JVEP (unbudgeted) | E9: ='COST ALLOCATION'!F20+'COST ALLOCATION'!F21 -> -155474.23
A10: HEALTH & REHABILITATION SERVICES | C10: =D10 -> 57925921 | D10: ='COST ALLOCATION'!F15 -> 57925921 | E10: ='COST ALLOCATION'!F16+'COST ALLOCATION'!F17+'COST ALLOCATION'!F18 -> -233535.99 | F10: =SUM(D10:E10) -> 57692385 | G10: =F10/$E$2 -> 36.855372
A11: ADMIN & SUPPORT | D11: =SUM(C12) -> 11288153 | E11: ='COST ALLOCATION'!F47 -> -97432 | F11: =SUM(D11:E11) -> 11190721 | G11: =F11/$E$2 -> 7.1489193
B12: % for Institution Operations | C12: ='COST ALLOCATION'!I6 -> 11288153
A13: STATEWIDE DIRECT COSTS | D13: =SUM(C14:C23) -> 13883397 | E13: -119512.32 | F13: =SUM(D13+E13+E14+E15+E16+E17+E18+E19+E20+E22+E21+E23) -> 13623885 | G13: =F13/$E$2 -> 8.7032864
B14: Institutions Director's Office | C14: ='COST ALLOCATION'!F22 -> 1712954.4
B15: Prison System Expansion | C15: ='COST ALLOCATION'!F24 -> 0
B16: Equipment & Bldg. Depreciation | C16: ='COST ALLOCATION'!F30 -> 7413581.9
B17: Facility Planning - CIP | C17: ='COST ALLOCATION'!F13 -> 560879.32
B18: Pretrial Services Unit | C18: ='COST ALLOCATION'!F14 -> 0
B19: Classification & Furlough | C19: ='COST ALLOCATION'!F25 -> 1083646.7
B20: Transportation | C20: ='COST ALLOCATION'!F26 -> 2629990.7
B21: Less: DPS RSA Transport | E21: ='COST ALLOCATION'!F27 -> -140000
B22: Point of Arrest | C22: ='COST ALLOCATION'!F28 -> 482344.02
A24: BILLING RATE | D24: =SUM(D4:D17) -> 2.6534913e+08 | E24: =SUM(E4:E23) -> -1209452 | F24: =SUM(F4:F22) -> 2.6413967e+08 | G24: =SUM(G4:G22) -> 168.73919
A25: INDIVIDUAL INSTITUTION RATES
A26: Institutions | C26: Total Cost | D26: Mandays | E26: Inst. Cost | F26: Inmate Programs | G26: Inmate Health Care | H26: Div.of Admin.& Support Cost | I26: Statewide Direct Cost | J26: TOTAL
A27: Anchorage Complex | C27: ='Sched-B1'!E4+'Sched-D1'!F44 -> 32570126 | D27: ='Inmate Avg Daily Population'!O4 -> 310268.25 | E27: =C27/D27 -> 104.97409 | F27: =$G$8 -> 0.85730849 | G27: =$G$10 -> 36.855372 | H27: =$G$11 -> 7.1489193 | I27: =$G$13 -> 8.7032864 | J27: =SUM(E27:I27) -> 158.53897
A28: Anvil Mtn. Correctional | C28: ='Sched-B1'!E5+'Sched-D1'!F89 -> 6919676.4 | D28: ='Inmate Avg Daily Population'!O5 -> 45399.917 | E28: =C28/D28 -> 152.41606 | F28: =$G$8 -> 0.85730849 | G28: =$G$10 -> 36.855372 | H28: =$G$11 -> 7.1489193 | I28: =$G$13 -> 8.7032864 | J28: =SUM(E28:I28) -> 205.98095
A29: Fairbanks Correctional | C29: ='Sched-B1'!E7+'Sched-D1'!F190 -> 12690108 | D29: ='Inmate Avg Daily Population'!O6 -> 98385.75 | E29: =C29/D29 -> 128.98319 | F29: =$G$8 -> 0.85730849 | G29: =$G$10 -> 36.855372 | H29: =$G$11 -> 7.1489193 | I29: =$G$13 -> 8.7032864 | J29: =SUM(E29:I29) -> 182.54808
A30: Goose Creek Correctional | C30: ='Sched-B1'!E8+'Sched-D1'!F242 -> 40528060 | D30: ='Inmate Avg Daily Population'!O7 -> 486837 | E30: =C30/D30 -> 83.247698 | F30: =$G$8 -> 0.85730849 | G30: =$G$10 -> 36.855372 | H30: =$G$11 -> 7.1489193 | I30: =$G$13 -> 8.7032864 | J30: =SUM(E30:I30) -> 136.81258
A31: Hiland Mtn. Correctional | C31: ='Sched-B1'!E6+'Sched-D1'!F138 -> 14155037 | D31: ='Inmate Avg Daily Population'!O8 -> 113162.17 | E31: =C31/D31 -> 125.0863 | F31: =$G$8 -> 0.85730849 | G31: =$G$10 -> 36.855372 | H31: =$G$11 -> 7.1489193 | I31: =$G$13 -> 8.7032864 | J31: =SUM(E31:I31) -> 178.65119
A32: Ketchikan Correctional | C32: ='Sched-B1'!E9+'Sched-D1'!F296 -> 4602921.4 | D32: ='Inmate Avg Daily Population'!O9 -> 18922.208 | E32: =C32/D32 -> 243.25498 | F32: =$G$8 -> 0.85730849 | G32: =$G$10 -> 36.855372 | H32: =$G$11 -> 7.1489193 | I32: =$G$13 -> 8.7032864 | J32: =SUM(E32:I32) -> 296.81987
A33: Lemon Creek Correctional | C33: ='Sched-B1'!E10+'Sched-D1'!F345 -> 10625942 | D33: ='Inmate Avg Daily Population'!O10 -> 76084.25 | E33: =C33/D33 -> 139.6602 | F33: =$G$8 -> 0.85730849 | G33: =$G$10 -> 36.855372 | H33: =$G$11 -> 7.1489193 | I33: =$G$13 -> 8.7032864 | J33: =SUM(E33:I33) -> 193.22509
A34: Mat-Su Correctional | C34: ='Sched-B1'!E11+'Sched-D1'!F398 -> 6495487.2 | D34: ='Inmate Avg Daily Population'!O11 -> 31837.125 | E34: =C34/D34 -> 204.02242 | F34: =$G$8 -> 0.85730849 | G34: =$G$10 -> 36.855372 | H34: =$G$11 -> 7.1489193 | I34: =$G$13 -> 8.7032864 | J34: =SUM(E34:I34) -> 257.58731
A35: Palmer Correctional | C35: ='Sched-B1'!E12+'Sched-D1'!F447 -> 94820.73 | D35: ='Inmate Avg Daily Population'!O12 -> 0 | E35: 0 | F35: =$G$8*0 -> 0 | G35: =$G$10*0 -> 0 | H35: =$G$11*0 -> 0 | I35: =$G$13*0 -> 0 | J35: =SUM(E35:I35) -> 0
A36: Pt. MacKenzie Correctional Farm | C36: ='Sched-B1'!E16+'Sched-D1'!F659 -> 4294759 | D36: ='Inmate Avg Daily Population'!O13 -> 31824.958 | E36: =C36/D36 -> 134.9494 | F36: =$G$8 -> 0.85730849 | G36: =$G$10 -> 36.855372 | H36: =$G$11 -> 7.1489193 | I36: =$G$13 -> 8.7032864 | J36: =SUM(E36:I36) -> 188.51428
A37: Spring Creek Correctional | C37: ='Sched-B1'!E13+'Sched-D1'!F501 -> 22400761 | D37: ='Inmate Avg Daily Population'!O14 -> 143332.46 | E37: =C37/D37 -> 156.28533 | F37: =$G$8 -> 0.85730849 | G37: =$G$10 -> 36.855372 | H37: =$G$11 -> 7.1489193 | I37: =$G$13 -> 8.7032864 | J37: =SUM(E37:I37) -> 209.85022
A38: Wildwood Correctional | C38: ='Sched-B1'!E14+'Sched-D1'!F555 -> 15506331 | D38: ='Inmate Avg Daily Population'!O15 -> 148795.29 | E38: =C38/D38 -> 104.21251 | F38: =$G$8 -> 0.85730849 | G38: =$G$10 -> 36.855372 | H38: =$G$11 -> 7.1489193 | I38: =$G$13 -> 8.7032864 | J38: =SUM(E38:I38) -> 157.7774
A39: Yukon Kuskokwim Correctional | C39: ='Sched-B1'!E15+'Sched-D1'!F605 -> 9406646.4 | D39: ='Inmate Avg Daily Population'!O16 -> 60523.083 | E39: =C39/D39 -> 155.42246 | F39: =$G$8 -> 0.85730849 | G39: =$G$10 -> 36.855372 | H39: =$G$11 -> 7.1489193 | I39: =$G$13 -> 8.7032864 | J39: =SUM(E39:I39) -> 208.98735
A40: Totals | C40: =SUM(C27:C39) -> 1.8029067e+08 | D40: =SUM(D27:D39) -> 1565372.5 | E40: =G4 -> 115.1743 | F40: =G8 -> 0.85730849 | G40: =G10 -> 36.855372 | H40: =G11 -> 7.1489193 | I40: =G13 -> 8.7032864 | J40: =SUM(E40:I40) -> 168.73919
A44: Revised: 11/29/18 lj

Sheet Inmate Avg Daily Population
A1: ANNUAL TOTAL MANDAYS
B2: AVERAGE DAILY INMATE POPULATION | N2: ANNUAL AVERAGE DAILY POPULATION | O2: ANNUAL TOTAL MANDAYS
A3: Institutions | B3: 42925 | C3: 42956 | D3: 42987 | E3: 43017 | F3: 43048 | G3: 43078 | H3: 43109 | I3: 43140 | J3: 43168 | K3: 43199 | L3: 43229 | M3: 43260
A4: Anchorage Complex | B4: ='Qtrly''s-Cntsht Book'!D6 -> 846.2 | C4: ='Qtrly''s-Cntsht Book'!E6 -> 842 | D4: ='Qtrly''s-Cntsht Book'!F6 -> 871.8 | E4: ='Qtrly''s-Cntsht Book'!I6 -> 842.8 | F4: ='Qtrly''s-Cntsht Book'!J6 -> 846.5 | G4: ='Qtrly''s-Cntsht Book'!K6 -> 831.2 | H4: ='Qtrly''s-Cntsht Book'!N6 -> 847.8 | I4: ='Qtrly''s-Cntsht Book'!O6 -> 862.6 | J4: ='Qtrly''s-Cntsht Book'!P6 -> 854.7 | K4: ='Qtrly''s-Cntsht Book'!S6 -> 850.7 | L4: ='Qtrly''s-Cntsht Book'!T6 -> 834.8 | M4: ='Qtrly''s-Cntsht Book'!U6 -> 869.5 | N4: =SUM(B4:M4)/12 -> 850.05 | O4: =N4*365 -> 310268.25
A5: Anvil Mountain CC | B5: ='Qtrly''s-Cntsht Book'!D7 -> 120.1 | C5: ='Qtrly''s-Cntsht Book'!E7 -> 123.7 | D5: ='Qtrly''s-Cntsht Book'!F7 -> 121.5 | E5: ='Qtrly''s-Cntsht Book'!I7 -> 125.1 | F5: ='Qtrly''s-Cntsht Book'!J7 -> 116.2 | G5: ='Qtrly''s-Cntsht Book'!K7 -> 125.3 | H5: ='Qtrly''s-Cntsht Book'!N7 -> 120.4 | I5: ='Qtrly''s-Cntsht Book'!O7 -> 130.9 | J5: ='Qtrly''s-Cntsht Book'!P7 -> 121.8 | K5: ='Qtrly''s-Cntsht Book'!S7 -> 122.2 | L5: ='Qtrly''s-Cntsht Book'!T7 -> 128.8 | M5: ='Qtrly''s-Cntsht Book'!U7 -> 136.6 | N5: =SUM(B5:M5)/12 -> 124.38333 | O5: =N5*365 -> 45399.917
A6: Fairbanks CC | B6: ='Qtrly''s-Cntsht Book'!D8 -> 300 | C6: ='Qtrly''s-Cntsht Book'!E8 -> 305.8 | D6: ='Qtrly''s-Cntsht Book'!F8 -> 291.1 | E6: ='Qtrly''s-Cntsht Book'!I8 -> 271.1 | F6: ='Qtrly''s-Cntsht Book'!J8 -> 256.7 | G6: ='Qtrly''s-Cntsht Book'!K8 -> 261 | H6: ='Qtrly''s-Cntsht Book'!N8 -> 252.7 | I6: ='Qtrly''s-Cntsht Book'!O8 -> 271.1 | J6: ='Qtrly''s-Cntsht Book'!P8 -> 262.6 | K6: ='Qtrly''s-Cntsht Book'!S8 -> 258.6 | L6: ='Qtrly''s-Cntsht Book'!T8 -> 252.5 | M6: ='Qtrly''s-Cntsht Book'!U8 -> 251.4 | N6: =SUM(B6:M6)/12 -> 269.55 | O6: =N6*365 -> 98385.75
A7: Goose Creek CC | B7: ='Qtrly''s-Cntsht Book'!D9 -> 1305.6 | C7: ='Qtrly''s-Cntsht Book'!E9 -> 1303.5 | D7: ='Qtrly''s-Cntsht Book'!F9 -> 1336.9 | E7: ='Qtrly''s-Cntsht Book'!I9 -> 1419 | F7: ='Qtrly''s-Cntsht Book'!J9 -> 1378.4 | G7: ='Qtrly''s-Cntsht Book'!K9 -> 1382.7 | H7: ='Qtrly''s-Cntsht Book'!N9 -> 1377.7 | I7: ='Qtrly''s-Cntsht Book'!O9 -> 1347.6 | J7: ='Qtrly''s-Cntsht Book'!P9 -> 1320.5 | K7: ='Qtrly''s-Cntsht Book'!S9 -> 1297.8 | L7: ='Qtrly''s-Cntsht Book'!T9 -> 1276.7 | M7: ='Qtrly''s-Cntsht Book'!U9 -> 1259.2 | N7: =SUM(B7:M7)/12 -> 1333.8 | O7: =N7*365 -> 486837
A8: Combined Hiland Mtn CC | B8: ='Qtrly''s-Cntsht Book'!D10 -> 301.8 | C8: ='Qtrly''s-Cntsht Book'!E10 -> 299.9 | D8: ='Qtrly''s-Cntsht Book'!F10 -> 306.2 | E8: ='Qtrly''s-Cntsht Book'!I10 -> 312.9 | F8: ='Qtrly''s-Cntsht Book'!J10 -> 320.8 | G8: ='Qtrly''s-Cntsht Book'!K10 -> 308.1 | H8: ='Qtrly''s-Cntsht Book'!N10 -> 311.8 | I8: ='Qtrly''s-Cntsht Book'!O10 -> 316.3 | J8: ='Qtrly''s-Cntsht Book'!P10 -> 307.7 | K8: ='Qtrly''s-Cntsht Book'!S10 -> 317.8 | L8: ='Qtrly''s-Cntsht Book'!T10 -> 309.1 | M8: ='Qtrly''s-Cntsht Book'!U10 -> 308 | N8: =SUM(B8:M8)/12 -> 310.03333 | O8: =N8*365 -> 113162.17
A9: Ketchikan CC | B9: ='Qtrly''s-Cntsht Book'!D11 -> 46.5 | C9: ='Qtrly''s-Cntsht Book'!E11 -> 39 | D9: ='Qtrly''s-Cntsht Book'!F11 -> 45.6 | E9: ='Qtrly''s-Cntsht Book'!I11 -> 49.6 | F9: ='Qtrly''s-Cntsht Book'!J11 -> 47.8 | G9: ='Qtrly''s-Cntsht Book'!K11 -> 58.2 | H9: ='Qtrly''s-Cntsht Book'!N11 -> 55.3 | I9: ='Qtrly''s-Cntsht Book'!O11 -> 57.2 | J9: ='Qtrly''s-Cntsht Book'!P11 -> 57.8 | K9: ='Qtrly''s-Cntsht Book'!S11 -> 57.2 | L9: ='Qtrly''s-Cntsht Book'!T11 -> 58.2 | M9: ='Qtrly''s-Cntsht Book'!U11 -> 49.7 | N9: =SUM(B9:M9)/12 -> 51.841667 | O9: =N9*365 -> 18922.208
A10: Lemon Creek CC | B10: ='Qtrly''s-Cntsht Book'!D12 -> 200.5 | C10: ='Qtrly''s-Cntsht Book'!E12 -> 217.5 | D10: ='Qtrly''s-Cntsht Book'!F12 -> 204.1 | E10: ='Qtrly''s-Cntsht Book'!I12 -> 212.4 | F10: ='Qtrly''s-Cntsht Book'!J12 -> 217 | G10: ='Qtrly''s-Cntsht Book'!K12 -> 206.3 | H10: ='Qtrly''s-Cntsht Book'!N12 -> 197.5 | I10: ='Qtrly''s-Cntsht Book'!O12 -> 196.4 | J10: ='Qtrly''s-Cntsht Book'!P12 -> 202.8 | K10: ='Qtrly''s-Cntsht Book'!S12 -> 209.8 | L10: ='Qtrly''s-Cntsht Book'!T12 -> 223.9 | M10: ='Qtrly''s-Cntsht Book'!U12 -> 213.2 | N10: =SUM(B10:M10)/12 -> 208.45 | O10: =N10*365 -> 76084.25
A11: Mat-Su CC | B11: ='Qtrly''s-Cntsht Book'!D13 -> 86.7 | C11: ='Qtrly''s-Cntsht Book'!E13 -> 86.4 | D11: ='Qtrly''s-Cntsht Book'!F13 -> 85.4 | E11: ='Qtrly''s-Cntsht Book'!I13 -> 87.3 | F11: ='Qtrly''s-Cntsht Book'!J13 -> 91.6 | G11: ='Qtrly''s-Cntsht Book'!K13 -> 85.1 | H11: ='Qtrly''s-Cntsht Book'!N13 -> 83.4 | I11: ='Qtrly''s-Cntsht Book'!O13 -> 84.3 | J11: ='Qtrly''s-Cntsht Book'!P13 -> 90.5 | K11: ='Qtrly''s-Cntsht Book'!S13 -> 92.8 | L11: ='Qtrly''s-Cntsht Book'!T13 -> 84.5 | M11: ='Qtrly''s-Cntsht Book'!U13 -> 88.7 | N11: =SUM(B11:M11)/12 -> 87.225 | O11: =N11*365 -> 31837.125
A12: Palmer CC | B12: ='Qtrly''s-Cntsht Book'!D14 -> 0 | C12: ='Qtrly''s-Cntsht Book'!E14 -> 0 | D12: ='Qtrly''s-Cntsht Book'!F14 -> 0 | E12: ='Qtrly''s-Cntsht Book'!I14 -> 0 | F12: ='Qtrly''s-Cntsht Book'!J14 -> 0 | G12: ='Qtrly''s-Cntsht Book'!K14 -> 0 | H12: ='Qtrly''s-Cntsht Book'!N14 -> 0 | I12: ='Qtrly''s-Cntsht Book'!O14 -> 0 | J12: ='Qtrly''s-Cntsht Book'!P14 -> 0 | K12: ='Qtrly''s-Cntsht Book'!S14 -> 0 | L12: ='Qtrly''s-Cntsht Book'!T14 -> 0 | M12: ='Qtrly''s-Cntsht Book'!U14 -> 0 | N12: =SUM(B12:M12)/4 -> 0 | O12: =N12*123 -> 0
A13: Pt. MacKenzie | B13: ='Qtrly''s-Cntsht Book'!D15 -> 81.6 | C13: ='Qtrly''s-Cntsht Book'!E15 -> 91.6 | D13: ='Qtrly''s-Cntsht Book'!F15 -> 86.3 | E13: ='Qtrly''s-Cntsht Book'!I15 -> 81.7 | F13: ='Qtrly''s-Cntsht Book'!J15 -> 87.9 | G13: ='Qtrly''s-Cntsht Book'!K15 -> 84.4 | H13: ='Qtrly''s-Cntsht Book'!N15 -> 79 | I13: ='Qtrly''s-Cntsht Book'!O15 -> 77.4 | J13: ='Qtrly''s-Cntsht Book'!P15 -> 90.8 | K13: ='Qtrly''s-Cntsht Book'!S15 -> 97.5 | L13: ='Qtrly''s-Cntsht Book'!T15 -> 94.7 | M13: ='Qtrly''s-Cntsht Book'!U15 -> 93.4 | N13: =SUM(B13:M13)/12 -> 87.191667 | O13: =N13*365 -> 31824.958
A14: Spring Creek CC | B14: ='Qtrly''s-Cntsht Book'!D16 -> 395.9 | C14: ='Qtrly''s-Cntsht Book'!E16 -> 397.8 | D14: ='Qtrly''s-Cntsht Book'!F16 -> 395.5 | E14: ='Qtrly''s-Cntsht Book'!I16 -> 390.9 | F14: ='Qtrly''s-Cntsht Book'!J16 -> 396.5 | G14: ='Qtrly''s-Cntsht Book'!K16 -> 393 | H14: ='Qtrly''s-Cntsht Book'!N16 -> 392.2 | I14: ='Qtrly''s-Cntsht Book'!O16 -> 373.7 | J14: ='Qtrly''s-Cntsht Book'!P16 -> 387.5 | K14: ='Qtrly''s-Cntsht Book'!S16 -> 389.5 | L14: ='Qtrly''s-Cntsht Book'!T16 -> 393.3 | M14: ='Qtrly''s-Cntsht Book'!U16 -> 406.5 | N14: =SUM(B14:M14)/12 -> 392.69167 | O14: =N14*365 -> 143332.46
A15: Wildwood CC | B15: ='Qtrly''s-Cntsht Book'!D17 -> 422.7 | C15: ='Qtrly''s-Cntsht Book'!E17 -> 418.1 | D15: ='Qtrly''s-Cntsht Book'!F17 -> 407.9 | E15: ='Qtrly''s-Cntsht Book'!I17 -> 407.7 | F15: ='Qtrly''s-Cntsht Book'!J17 -> 414.2 | G15: ='Qtrly''s-Cntsht Book'!K17 -> 409.8 | H15: ='Qtrly''s-Cntsht Book'!N17 -> 408.1 | I15: ='Qtrly''s-Cntsht Book'!O17 -> 407.6 | J15: ='Qtrly''s-Cntsht Book'!P17 -> 389.2 | K15: ='Qtrly''s-Cntsht Book'!S17 -> 398.1 | L15: ='Qtrly''s-Cntsht Book'!T17 -> 406.2 | M15: ='Qtrly''s-Cntsht Book'!U17 -> 402.3 | N15: =SUM(B15:M15)/12 -> 407.65833 | O15: =N15*365 -> 148795.29
A16: Yukon-Kuskokwim CC | B16: ='Qtrly''s-Cntsht Book'!D18 -> 150.4 | C16: ='Qtrly''s-Cntsht Book'!E18 -> 157.8 | D16: ='Qtrly''s-Cntsht Book'!F18 -> 156.2 | E16: ='Qtrly''s-Cntsht Book'!I18 -> 163.8 | F16: ='Qtrly''s-Cntsht Book'!J18 -> 158.9 | G16: ='Qtrly''s-Cntsht Book'!K18 -> 165.8 | H16: ='Qtrly''s-Cntsht Book'!N18 -> 182 | I16: ='Qtrly''s-Cntsht Book'!O18 -> 177.8 | J16: ='Qtrly''s-Cntsht Book'!P18 -> 170.1 | K16: ='Qtrly''s-Cntsht Book'!S18 -> 169.6 | L16: ='Qtrly''s-Cntsht Book'!T18 -> 167.4 | M16: ='Qtrly''s-Cntsht Book'!U18 -> 170 | N16: =SUM(B16:M16)/12 -> 165.81667 | O16: =N16*365 -> 60523.083
A17: Tents | B17: ='Qtrly''s-Cntsht Book'!D49 -> 0 | C17: ='Qtrly''s-Cntsht Book'!E49 -> 0 | D17: ='Qtrly''s-Cntsht Book'!F49 -> 0 | E17: ='Qtrly''s-Cntsht Book'!I49 -> 0 | F17: ='Qtrly''s-Cntsht Book'!J49 -> 0 | G17: ='Qtrly''s-Cntsht Book'!K49 -> 0 | H17: ='Qtrly''s-Cntsht Book'!N49 -> 0 | I17: ='Qtrly''s-Cntsht Book'!O49 -> 0 | J17: ='Qtrly''s-Cntsht Book'!P49 -> 0 | K17: ='Qtrly''s-Cntsht Book'!S49 -> - | L17: ='Qtrly''s-Cntsht Book'!T49 -> - | M17: ='Qtrly''s-Cntsht Book'!U49 -> - | N17: =SUM(B17:M17)/12 -> 0 | O17: =N17*365 -> 0
A18: TOTAL INSTITUTIONS | B18: =SUM(B4:B17) -> 4258 | C18: =SUM(C4:C17) -> 4283.1 | D18: =SUM(D4:D17) -> 4308.5 | E18: =SUM(E4:E17) -> 4364.3 | F18: =SUM(F4:F17) -> 4332.5 | G18: =SUM(G4:G17) -> 4310.9 | H18: =SUM(H4:H17) -> 4307.9 | I18: =SUM(I4:I17) -> 4302.9 | ... M18: =SUM(M4:M17) -> 4248.5 | N18: =SUM(B18:M18)/12 -> 4288.6917 | O18: =SUM(O4:O17) -> 1565372.5
A19: Other
A20: CRC's | B20: ='Qtrly''s-Cntsht Book'!D22 -> 369.55 | C20: ='Qtrly''s-Cntsht Book'!E22 -> 363.84 | D20: ='Qtrly''s-Cntsht Book'!F22 -> 360.67 | E20: ='Qtrly''s-Cntsht Book'!I22 -> 343.19 | F20: ='Qtrly''s-Cntsht Book'!J22 -> 316.9 | G20: ='Qtrly''s-Cntsht Book'!K22 -> 295.35 | H20: ='Qtrly''s-Cntsht Book'!N22 -> 265.35 | I20: ='Qtrly''s-Cntsht Book'!O22 -> 317.61 | J20: ='Qtrly''s-Cntsht Book'!P22 -> 322.52 | K20: ='Qtrly''s-Cntsht Book'!S22 -> 304.6 | L20: ='Qtrly''s-Cntsht Book'!T22 -> 286.19 | M20: ='Qtrly''s-Cntsht Book'!U22 -> 286.19 | N20: =SUM(B20:M20)/12 -> 319.33 | O20: =N20*365 -> 116555.45
A21: CRC Offender Supervision | B21: ='Qtrly''s-Cntsht Book'!D23 -> 11.87 | C21: ='Qtrly''s-Cntsht Book'!E23 -> 11.06 | D21: ='Qtrly''s-Cntsht Book'!F23 -> 8.17 | E21: ='Qtrly''s-Cntsht Book'!I23 -> 7 | F21: ='Qtrly''s-Cntsht Book'!J23 -> 5.63 | G21: ='Qtrly''s-Cntsht Book'!K23 -> 4 | H21: ='Qtrly''s-Cntsht Book'!N23 -> 4 | I21: ='Qtrly''s-Cntsht Book'!O23 -> 4 | J21: ='Qtrly''s-Cntsht Book'!P23 -> 4 | K21: ='Qtrly''s-Cntsht Book'!S23 -> 2.13 | L21: ='Qtrly''s-Cntsht Book'!T23 -> 0 | M21: ='Qtrly''s-Cntsht Book'!U23 -> 0 | N21: =SUM(B21:M21)/12 -> 5.155 | O21: =N21*365 -> 1881.575
A22: Treatment Beds | B22: ='Qtrly''s-Cntsht Book'!D24 -> 18.16 | C22: ='Qtrly''s-Cntsht Book'!E24 -> 21.29 | D22: ='Qtrly''s-Cntsht Book'!F24 -> 23.03 | E22: ='Qtrly''s-Cntsht Book'!I24 -> 25.32 | F22: ='Qtrly''s-Cntsht Book'!J24 -> 21.13 | G22: ='Qtrly''s-Cntsht Book'!K24 -> 18 | H22: ='Qtrly''s-Cntsht Book'!N24 -> 20.35 | I22: ='Qtrly''s-Cntsht Book'!O24 -> 25.43 | J22: ='Qtrly''s-Cntsht Book'!P24 -> 22.09 | K22: ='Qtrly''s-Cntsht Book'!S24 -> 19.3 | L22: ='Qtrly''s-Cntsht Book'!T24 -> 18 | M22: ='Qtrly''s-Cntsht Book'!U24 -> 18.03 | N22: =SUM(B22:M22)/12 -> 20.844167 | O22: =N22*365 -> 7608.1208
A23: Electronic Monitoring | B23: ='Qtrly''s-Cntsht Book'!D25 -> 258 | C23: ='Qtrly''s-Cntsht Book'!E25 -> 236 | D23: ='Qtrly''s-Cntsht Book'!F25 -> 229 | E23: ='Qtrly''s-Cntsht Book'!I25 -> 226 | F23: ='Qtrly''s-Cntsht Book'!J25 -> 222 | G23: ='Qtrly''s-Cntsht Book'!K25 -> 212 | H23: ='Qtrly''s-Cntsht Book'!N25 -> 204 | I23: ='Qtrly''s-Cntsht Book'!O25 -> 196 | J23: ='Qtrly''s-Cntsht Book'!P25 -> 199 | K23: ='Qtrly''s-Cntsht Book'!S25 -> 203 | L23: ='Qtrly''s-Cntsht Book'!T25 -> 212 | M23: ='Qtrly''s-Cntsht Book'!U25 -> 212 | N23: =SUM(B23:M23)/12 -> 217.41667 | O23: =N23*365 -> 79357.083
A24: Colorado | B24: ='Qtrly''s-Cntsht Book'!D26 -> N/A | C24: ='Qtrly''s-Cntsht Book'!E26 -> N/A | D24: ='Qtrly''s-Cntsht Book'!F26 -> N/A | E24: ='Qtrly''s-Cntsht Book'!I26 -> N/A | F24: ='Qtrly''s-Cntsht Book'!J26 -> N/A | G24: ='Qtrly''s-Cntsht Book'!K26 -> N/A | H24: ='Qtrly''s-Cntsht Book'!N26 -> N/A | I24: ='Qtrly''s-Cntsht Book'!O26 -> N/A | J24: ='Qtrly''s-Cntsht Book'!P26 -> N/A | K24: ='Qtrly''s-Cntsht Book'!S26 -> N/A | L24: ='Qtrly''s-Cntsht Book'!T26 -> N/A | M24: ='Qtrly''s-Cntsht Book'!U26 -> N/A | N24: =SUM(B24:M24)/3 -> 0 | O24: =N24*365 -> 0
A25: Other Out Of State | B25: ='Qtrly''s-Cntsht Book'!D27 -> 9 | C25: ='Qtrly''s-Cntsht Book'!E27 -> 10 | D25: ='Qtrly''s-Cntsht Book'!F27 -> 11 | E25: ='Qtrly''s-Cntsht Book'!I27 -> 11 | F25: ='Qtrly''s-Cntsht Book'!J27 -> 11 | G25: ='Qtrly''s-Cntsht Book'!K27 -> 11 | H25: ='Qtrly''s-Cntsht Book'!N27 -> 11 | I25: ='Qtrly''s-Cntsht Book'!O27 -> 11 | J25: ='Qtrly''s-Cntsht Book'!P27 -> 11 | K25: ='Qtrly''s-Cntsht Book'!S27 -> 11 | L25: ='Qtrly''s-Cntsht Book'!T27 -> 11 | M25: ='Qtrly''s-Cntsht Book'!U27 -> 11 | N25: =SUM(B25:M25)/12 -> 10.75 | O25: =N25*365 -> 3923.75
A26: TOTAL OTHER | B26: =SUM(B20:B25) -> 666.58 | C26: =SUM(C20:C25) -> 642.19 | D26: =SUM(D20:D25) -> 631.87 | E26: =SUM(E20:E25) -> 612.51 | F26: =SUM(F20:F25) -> 576.66 | G26: =SUM(G20:G25) -> 540.35 | H26: =SUM(H20:H25) -> 504.7 | I26: =SUM(I20:I25) -> 554.04 | ... O26: =SUM(O20:O25) -> 209325.98
A27: GRAND TOTAL | B27: =B18+B26 -> 4924.58 | C27: =C18+C26 -> 4925.29 | D27: =D18+D26 -> 4940.37 | E27: =E18+E26 -> 4976.81 | F27: =F18+F26 -> 4909.16 | G27: =G18+G26 -> 4851.25 | H27: =H18+H26 -> 4812.6 | I27: =I18+I26 -> 4856.94 | ... M27: =M18+M26 -> 4775.72 | N27: =SUM(B27:M27)/12 -> 4862.1875 | O27: =O18+O26 -> 1774698.4
A33: Updated: 10/18/18 lj

Sheet Avg Daily Community Jails
A2: JULY 2017 TO JUNE 2018-NUMBER OF PERSONS
A4: BEDS | B4: 4 | C4: 6 | D4: 7 | E4: 8 | F4: 6 | G4: 7 | H4: 22 | I4: 12 | J4: 9 | K4: 12 | L4: 14 | M4: 15 | N4: 10 | O4: 13 | P4: 12 | Q4: =SUM(B4:P4) -> 157
B5: Bristol Bay | C5: Cordova | D5: Craig | E5: Dillingham | F5: Haines | G5: Homer | H5: Kodiak | I5: Kotzebue | J5: NSB | K5: Petersburg | L5: Seward | M5: Sitka | N5: Unalaska | O5: Valdez | P5: Wrangell
A6: July | B6: 12 | C6: 5 | D6: 34 | E6: 77 | F6: 5 | G6: 35 | H6: 50 | I6: 93 | J6: 58 | K6: 8 | L6: 31 | M6: 56 | N6: 12 | O6: 24 | P6: 8
A7: August | B7: 8 | C7: 4 | D7: 31 | E7: 71 | F7: 1 | G7: 41 | H7: 54 | I7: 103 | J7: 75 | K7: 4 | L7: 33 | M7: 66 | N7: 12 | O7: 8 | P7: 5
A8: September | B8: 6 | C8: 3 | D8: 26 | E8: 86 | F8: 1 | G8: 33 | H8: 62 | I8: 96 | J8: 51 | K8: 4 | L8: 21 | M8: 55 | N8: 6 | O8: 12 | P8: 7
A9: October | B9: 1 | C9: 0 | D9: 31 | E9: 54 | F9: 5 | G9: 39 | H9: 48 | I9: 77 | J9: 50 | K9: 3 | L9: 22 | M9: 44 | N9: 9 | O9: 8 | P9: 5
A10: November | B10: 3 | C10: 1 | D10: 23 | E10: 41 | F10: 5 | G10: 38 | H10: 48 | I10: 84 | J10: 48 | K10: 3 | L10: 18 | M10: 29 | N10: 10 | O10: 14 | P10: 1
A11: December | B11: 3 | C11: 1 | D11: 30 | E11: 36 | F11: 3 | G11: 36 | H11: 43 | I11: 89 | J11: 74 | K11: 1 | L11: 8 | M11: 40 | N11: 8 | O11: 8 | P11: 9
A12: January | B12: 5 | C12: 2 | D12: 29 | E12: 35 | F12: 7 | G12: 28 | H12: 36 | I12: 70 | J12: 53 | K12: 3 | L12: 9 | M12: 63 | N12: 8 | O12: 10 | P12: 11
A13: February | B13: 3 | C13: 5 | D13: 27 | E13: 50 | F13: 4 | G13: 35 | H13: 34 | I13: 79 | J13: 44 | K13: 6 | L13: 6 | M13: 44 | N13: 11 | O13: 11 | P13: 5
A14: March | B14: 4 | C14: 1 | D14: 28 | E14: 84 | F14: 2 | G14: 33 | H14: 70 | I14: 65 | J14: 41 | K14: 7 | L14: 10 | M14: 53 | N14: 13 | O14: 18 | P14: 6
A15: April | B15: 3 | C15: 4 | D15: 24 | E15: 25 | F15: 1 | G15: 29 | H15: 52 | I15: 91 | J15: 53 | K15: 3 | L15: 12 | M15: 58 | N15: 9 | O15: 13 | P15: 10
A16: May | B16: 9 | C16: 5 | D16: 41 | E16: 47 | F16: 3 | G16: 32 | H16: 58 | I16: 103 | J16: 54 | K16: 5 | L16: 22 | M16: 61 | N16: 9 | O16: 20 | P16: 9
A17: June | B17: 13 | C17: 12 | D17: 40 | E17: 70 | F17: 2 | G17: 49 | H17: 36 | I17: 80 | J17: 41 | K17: 8 | L17: 10 | M17: 50 | N17: 17 | O17: 29 | P17: 11 | Q17: Total
A18: Total | B18: =SUM(B6:B17) -> 70 | C18: =SUM(C6:C17) -> 43 | D18: =SUM(D6:D17) -> 364 | E18: =SUM(E6:E17) -> 676 | F18: =SUM(F6:F17) -> 39 | G18: =SUM(G6:G17) -> 428 | H18: =SUM(H6:H17) -> 591 | I18: =SUM(I6:I17) -> 1030 | ... P18: =SUM(P6:P17) -> 87 | Q18: Persons
A19: Average | B19: =AVERAGE(B6:B17) -> 5.8333333 | C19: =AVERAGE(C6:C17) -> 3.5833333 | D19: =AVERAGE(D6:D17) -> 30.333333 | E19: =AVERAGE(E6:E17) -> 56.333333 | F19: =AVERAGE(F6:F17) -> 3.25 | G19: =AVERAGE(G6:G17) -> 35.666667 | H19: =AVERAGE(H6:H17) -> 49.25 | I19: =AVERAGE(I6:I17) -> 85.833333 | ... P19: =AVERAGE(P6:P17) -> 7.25 | Q19: =SUM(B18:P18) -> 5145
A21: JULY 2017 TO JUNE 2018--NUMBER OF MAN-DAYS
A23: CAP DAYS | B23: 15 | C23: 7 | D23: 15 | E23: 20 | F23: 14 | G23: 10 | H23: 30 | I23: 30 | J23: 30 | K23: 15 | L23: 30 | M23: 10 | N23: 30 | O23: 10 | P23: 30 | Q23: =SUM(B23:O23) -> 266
B24: Bristol Bay | C24: Cordova | D24: Craig | E24: Dillingham | F24: Haines | G24: Homer | H24: Kodiak | I24: Kotzebue | J24: NSB | K24: Petersburg | L24: Seward | M24: Sitka | N24: Unalaska | O24: Valdez | P24: Wrangell
A25: July | B25: 31 | C25: 9.5 | D25: 137 | E25: 209 | F25: 5.5 | G25: 46 | H25: 314.5 | I25: 287.5 | J25: 188.5 | K25: 25 | L25: 67 | M25: 218 | N25: 39.5 | O25: 90.5 | P25: 42
A26: August | B26: 28.5 | C26: 7.5 | D26: 149 | E26: 197 | F26: 1 | G26: 62.5 | H26: 326.5 | I26: 295.5 | J26: 281.5 | K26: 9 | L26: 58 | M26: 251 | N26: 42 | O26: 68.5 | P26: 44
A27: September | B27: 12.5 | C27: 2 | D27: 166.5 | E27: 185 | F27: 3 | G27: 50 | H27: 371.5 | I27: 271.5 | J27: 321.5 | K27: 20 | L27: 49 | M27: 189 | N27: 28.5 | O27: 59 | P27: 51
A28: October | B28: 1 | C28: 0 | D28: 117 | E28: 133 | F28: 1.5 | G28: 73 | H28: 302 | I28: 243 | J28: 313.5 | K28: 12 | L28: 79.5 | M28: 133 | N28: 10.5 | O28: 61 | P28: 35
A29: November | B29: 14 | C29: 9 | D29: 97 | E29: 89 | F29: 7 | G29: 58 | H29: 304 | I29: 283.5 | J29: 311.5 | K29: 27 | L29: 39 | M29: 59.5 | N29: 48 | O29: 39.5 | P29: 10
A30: December | B30: 6 | C30: 1.5 | D30: 141 | E30: 115 | F30: 9 | G30: 60 | H30: 377 | I30: 296.5 | J30: 316.5 | K30: 4 | L30: 18 | M30: 182.5 | N30: 10 | O30: 71.5 | P30: 12
A31: January | B31: 16 | C31: 2 | D31: 135 | E31: 93 | F31: 2 | G31: 24 | H31: 285 | I31: 245.5 | J31: 390 | K31: 15 | L31: 25.5 | M31: 265 | N31: 29.5 | O31: 60.5 | P31: 59
A32: February | B32: 10 | C32: 13.5 | D32: 141.5 | E32: 114 | F32: 4.5 | G32: 51.5 | H32: 201 | I32: 234 | J32: 419.5 | K32: 26 | L32: 12 | M32: 146.5 | N32: 24 | O32: 34 | P32: 27
A33: March | B33: 26 | C33: 1 | D33: 128.5 | E33: 166 | F33: 0.5 | G33: 49.5 | H33: 416 | I33: 247 | J33: 405 | K33: 29 | L33: 32 | M33: 303 | N33: 25.5 | O33: 103 | P33: 35
A34: April | B34: 4 | C34: 6 | D34: 122 | E34: 70 | F34: 0.5 | G34: 46 | H34: 360.5 | I34: 265 | J34: 366.5 | K34: 24 | L34: 32 | M34: 311.5 | N34: 8 | O34: 99 | P34: 19
A35: May | B35: 31 | C35: 8 | D35: 174 | E35: 158 | F35: 4.5 | G35: 31 | H35: 319 | I35: 282 | J35: 402.5 | K35: 22 | L35: 52.5 | M35: 207 | N35: 16 | O35: 47 | P35: 31
A36: June | B36: 30 | C36: 21 | D36: 151.5 | E36: 70 | F36: 1 | G36: 91.5 | H36: 234.5 | I36: 249 | J36: 300.5 | K36: 35 | L36: 30.5 | M36: 188 | N36: 23.5 | O36: 82.5 | P36: 59 | Q36: Total
A37: Total | B37: =SUM(B25:B36) -> 210 | C37: =SUM(C25:C36) -> 81 | D37: =SUM(D25:D36) -> 1660 | E37: =SUM(E25:E36) -> 1599 | F37: =SUM(F25:F36) -> 40 | G37: =SUM(G25:G36) -> 643 | H37: =SUM(H25:H36) -> 3811.5 | I37: =SUM(I25:I36) -> 3200 | ... P37: =SUM(P25:P36) -> 424 | Q37: Man-days
A38: Average | B38: =AVERAGE(B25:B36) -> 17.5 | C38: =AVERAGE(C25:C36) -> 6.75 | D38: =AVERAGE(D25:D36) -> 138.33333 | E38: =AVERAGE(E25:E36) -> 133.25 | F38: =AVERAGE(F25:F36) -> 3.3333333 | G38: =AVERAGE(G25:G36) -> 53.583333 | H38: =AVERAGE(H25:H36) -> 317.625 | I38: =AVERAGE(I25:I36) -> 266.66667 | ... P38: =AVERAGE(P25:P36) -> 35.333333 | Q38: =SUM(B37:P37) -> 20003.5
A40: COC 2019 | B40: =Q38/365 -> 54.80411
A41: Average Daily Community Jail Population for Fiscal Year 2018 | H41: =B40 -> 54.80411

Sheet IADP-By Gender
A1: DAILY AVERAGE BY INSTITUTION BY SEX BY CRIME DEGREE: FY2018
A3: LOCATION | B3: Misd Male Sent | C3: Misd Male Unsent | D3: Misd Female Sent | E3: Misd Female Unsent | F3: Felony Female Sent | G3: Felony Female Unsent | H3: Grand Total
A4: ANCHORAGE CC EAST | B4: 1.0296 | C4: 89.015 | D4: 0.0172 | E4: 5.9725 | F4: 0.0102 | G4: 6.177 | H4: =SUM(B4:G4) -> 102.2215
A5: ANCHORAGE CC WEST | B5: 0.8734 | C5: 26.517 | D5: 0 | E5: 0 | F5: 0 | G5: 0 | H5: =SUM(B5:G5) -> 27.3904
A6: ANVIL MTN CC | B6: 1.9989 | C6: 12.134 | D6: 0.2411 | E6: 2.7847 | F6: 0.0273 | G6: 7.359 | H6: =SUM(B6:G6) -> 24.545
A7: FAIRBANKS CC | B7: 1.4193 | C7: 56.512 | D7: 0.1746 | E7: 13.3317 | F7: 1.6676 | G7: 15.791 | H7: =SUM(B7:G7) -> 88.8962
A8: GOOSE CREEK CC | B8: 13.6523 | C8: 33.659 | D8: 0 | E8: 0.4977 | F8: 0 | G8: 0.079 | H8: =SUM(B8:G8) -> 47.888
A9: HILAND MTN CC | B9: 0 | C9: 0.003 | D9: 2.1483 | E9: 42.901 | F9: 75.8729 | G9: 161.06 | H9: =SUM(B9:G9) -> 281.9852
A10: KETCHIKAN CC | B10: 1.4394 | C10: 3.054 | D10: 0.0575 | E10: 0.6383 | F10: 0.6777 | G10: 4.001 | H10: =SUM(B10:G10) -> 9.8679
A11: LEMON CREEK CC | B11: 3.7008 | C11: 12.325 | D11: 0.2575 | E11: 2.1824 | F11: 2.4625 | G11: 7.514 | H11: =SUM(B11:G11) -> 28.4422
A12: MATSU PRETRIAL | B12: 0.1144 | C12: 18.981 | D12: 0.045 | E12: 2.7054 | F12: 0.1674 | G12: 5.795 | H12: =SUM(B12:G12) -> 27.8082
A13: PT. MACKENZIE CF | B13: 1.9434 | C13: 0 | D13: 0 | E13: 0 | F13: 0 | G13: 0 | H13: =SUM(B13:G13) -> 1.9434
A14: SPRING CREEK CC | B14: 11.4608 | C14: 0.66 | D14: 0 | E14: 0 | F14: 0 | G14: 0 | H14: =SUM(B14:G14) -> 12.1208
A15: WILDWOOD CC | B15: 3.5977 | C15: 4.668 | D15: 0 | E15: 0.0016 | F15: 0 | G15: 0 | H15: =SUM(B15:G15) -> 8.2673 | J15: AVG Daily
A16: WILDWOOD PRETRIAL | B16: 0.0411 | C16: 6.311 | D16: 0.0215 | E16: 3.8703 | F16: 0.1395 | G16: 16.619 | H16: =SUM(B16:G16) -> 27.0024 | J16: Female
