Workbook

Sheet Daily Cost Calc
A1: DAILY COST OF CARE CALCULATIONS
A2: Total Institutional Costs | B2: ='BILLING RATE CALC'!F24 -> 2.6065306e+08
A3: Daily Cost (Divided by 365 days) | B3: =B2/365 -> 714117.98
A4: Average Daily Institutional Population for Fiscal Year 2017 | B4: =B5/365 -> 4394.9592
A5: Annual Total Mandays for Fiscal Year 2017 | B5: ='Inmate Avg Daily Population'!O18 -> 1604160.1
A6: Daily Cost per Institutional Prisoner | B6: ='BILLING RATE CALC'!G24 -> 162.48569
A9: Total Community Residential Centers Costs | B9: ='COST ALLOCATION'!J36 -> 20743454
A10: Daily Cost (Divided by 365 days) | B10: =B9/365 -> 56831.381
A11: Average Daily CRC Population for Fiscal Year 2017 | B11: ='Inmate Avg Daily Population'!N20+'Inmate Avg Daily Population'!N21 -> 443.80167
A12: Annual Total Mandays for Fiscal Year 2017 | B12: =B11*365 -> 161987.61
A13: Daily Cost Per Community Residential Center Inmate | B13: =B10/B11 -> 128.05581
A16: Total Probation/Parole Costs | B16: ='COST ALLOCATION'!J33+'COST ALLOCATION'!J32 -> 18125814
A17: Daily Cost (Divided by 365 days) | B17: =B16/365 -> 49659.766
A18: Average Daily Probationers/Parole Served for Fiscal Year 2017 | B18: ='Monthly PO Workload Stats'!O297 -> 5187.0833 | C18: ?
A19: Annual Total Mandays for Fiscal Year 2017 | B19: =B18*365 -> 1893285.4
A20: Daily Cost per Probationer/Parolee | B20: =B17/B18 -> 9.5737359
A23: Total Community Jail Costs | B23: ='COST ALLOCATION'!J31 -> 7254130.1
A24: Daily Cost (Divided by 365 days) | B24: =B23/365 -> 19874.329
A25: Average Daily Community Jail Population for Fiscal Year 2017 | B25: ='Avg Daily Community Jails'!H105 -> 60.238904 | C25: ?
A26: Annual Total Mandays for Fiscal Year 2017 | B26: =B25*365 -> 21987.2
A27: Daily Cost per Prisoner | B27: =B24/B25 -> 329.92514
A30: Total Electronic Monitoring Costs | B30: ='COST ALLOCATION'!J35 -> 3011001
A31: Daily Cost (Divided by 365 days) | B31: =B30/365 -> 8249.3178
A32: Average Daily Electronic Monitoring Population for Fiscal Year 2017 | B32: ='Inmate Avg Daily Population'!N23 -> 286.83333 | C32: ?
A33: Annual Total Mandays for Fiscal Year 2017 | B33: =B32*365 -> 104694.17
A34: Daily Cost per Prisoner | B34: =B31/B32 -> 28.759969
A37: Total Out-of-State Contractual Costs | B37: ='COST ALLOCATION'!J34 -> 248874.41
A38: Daily Cost (Divided by 365 days) | B38: =B37/365 -> 681.84771
A39: Average Daily Out-of-State Population for Fiscal Year 2017 | B39: ='Inmate Avg Daily Population'!N24+'Inmate Avg Daily Population'!N25 -> 9
A40: Annual Total Mandays for Fiscal Year 2017 | B40: =B39*365 -> 3285
A41: Daily Cost Per Prisoner | B41: =B38/B39 -> 75.760857
A44: Revised 10/26/17 lj

Sheet Sched-A
A1: COST SHEET FOR DETENTION SERVICES
A2: Section I - General Information
A3: Name of Facility: | B3: Department of Corrections | E3: Physical Address of Facility: | H3: Juneau, Alaska
A4: Phone Number: | B4: (907) 465-3460
A5: Section II - Financial Data Summary
A6: Total Operating Cost for Jail:
A7: A. Time Frame | C7: From: | D7: 42552 | E7: To: | F7: 42916
D8: (month/year) | F8: (month/year) | H8: Annual Cost
A9: B. Total Personnel salary/wage costs (Schedule B - Part I) | H9: ='Sched-B1'!B17 -> 90461084
A10: C. Total Personnel Benefits/Other Personnel Services (Schedule B - Part II) | H10: ='Sched-B1'!C17+'Sched-B1'!D17 -> 54585144
A11: D. Total Consultants and Contract Services (Schedule C) | H11: ='Sched-C'!D24 -> 23049571
A12: E. Other Direct Operating costs (Schedule D1 and D2) | H12: ='Sched-D1'!F659+'Sched-D2'!F123 -> 74540064
A13: F. Indirect Costs (Schedule E)* | H13: ='Sched-E'!E3 -> 10413322
A14: G. Equipment Depreciation costs (Schedule F) | H14: ='Sched-F-G'!C18 -> 611345
A15: H. Building Depreciation Costs (Schedule G) | H15: ='Sched-F-G'!D38 -> 7493031.7
A16: I. Total Operating Costs (Sum of Schedules B-G) | H16: =SUM(H9:H15) -> 2.6115356e+08
A17: Total Actual Operating Cost for Prior Fiscal Year
A19: COST SHEET FOR DETENTION SERVICES (continued)
A20: Section III - Prisoner Population Information
A21: Time Frame of Prisoner Information | E21: FROM: | F21: 42552 | G21: TO: | H21: 42916
A22: (must correspond with time frame on previous page) | F22: (month/year) | H22: (month/year)
A23: Inmate Capacity of Jail: | D23: MALE | F23: FEMALE | H23: TOTAL
D24: - | F24: - | H24: 4838
A25: Average Daily Population: | D25: MALE | F25: FEMALE | H25: TOTAL
A26: Type of Prisoner | C26: Federal | D26: - | F26: -
C27: Local | D27: - | F27: -
C28: State | D28: - | F28: -
C29: Total | D29: =H29-F29 -> 3957.6003 | F29: ='IADP-By Gender'!J21 -> 436.2414 | H29: ='Inmate Avg Daily Population'!N18 -> 4393.8417
A30: Section IV - Per Diem
A31: Proposed Per Diem Rate for Federal Prisoners: | F31: ='BILLING RATE CALC'!G24 -> 162.48569
A32: State Prisoner Per Diem Rate: | F32: ='BILLING RATE CALC'!G24 -> 162.48569
A33: Section V - Local Government Contact
A34: Please provide the name of the individual authorized to represent and to act for the Local Government in jail day rate negotiations.
A35: Name | B35: April Wilkerson | E35: Department/Office | G35: State of Alaska, Dept of Corrections
A36: Title | B36: Director, Admin. Services | E36: Street | G36: PO Box 112000
A37: Phone | B37: (907) 269-7397 | E37: City | F37: Juneau | G37: State/Zip | H37: AK, 99811
A38: Fax | B38: (907) 465-3315
A39: Section VI - Certification Statement
A40: This is to certify that, to the vest of my knowledge and belief, the data furnished in Schedules B through G are accurate, complete and current, and do not include any unallocable, or unallowable costs prohibited by OMB Circular No. A-87 (Cost Principles for State and Local Governments) or any cost not related to the jail facility as discussed on Form USM-243 (Cost Sheet for Detention Services.) The records of this agency are available for review and audit by the authorized representative of the U.S. Government to verify any jail per diem rate negotiated.
A41: Signature | F41: Date
...

Sheet Sched-B1
A1: TOTAL PERSONAL SERVICES
A2: BY INDIVIDUAL INSTITUTIONS
A3: Facility | B3: Total Wages | C3: Total Benefits | D3: Other Personal Services | E3: Total Personal Services | F3: Number of Employees | G3: General Capacity
A4: Anchorage Complex | B4: 16161220 | C4: 9864166.8 | D4: 13252.86 | E4: =SUM(B4:D4) -> 26038640 | F4: 240 | G4: 829
A5: Anvil Mtn. CC | B5: 3368640.4 | C5: 1848353.5 | D5: -20.1 | E5: =SUM(B5:D5) -> 5216973.9 | F5: 39 | G5: 126
A6: Comb Hiland Mtn. CC | B6: 7063369.5 | C6: 4189129.8 | D6: 2723.97 | E6: =SUM(B6:D6) -> 11255223 | F6: 96 | G6: 395
A7: Fairbanks CC | B7: 6040861 | C7: 3649796.3 | D7: 3638.88 | E7: =SUM(B7:D7) -> 9694296.1 | F7: 89 | G7: 248
A8: Goose Creek CC | B8: 19390841 | C8: 12538097 | D8: 14653.67 | E8: =SUM(B8:D8) -> 31943591 | F8: 333 | G8: 1408
A9: Ketchikan CC | B9: 2456623.4 | C9: 1473252.1 | D9: 2456.08 | E9: =SUM(B9:D9) -> 3932331.5 | F9: 35 | G9: 52
A10: Lemon Creek CC | B10: 5316581.7 | C10: 3085329.2 | D10: 4198.43 | E10: =SUM(B10:D10) -> 8406109.3 | F10: 74 | G10: 226
A11: Mat-Su CC | B11: 3344930.8 | C11: 2001965.5 | D11: 2059.18 | E11: =SUM(B11:D11) -> 5348955.5 | F11: 38 | G11: 98
A12: Palmer CC & PMCF | B12: 3382878.1 | C12: 2003771 | D12: 1122.14 | E12: =SUM(B12:D12) -> 5387771.3 | F12: 95 | G12: 128
A13: Spring Creek CC | B13: 11762011 | C13: 6908768.2 | D13: 9269.54 | E13: =SUM(B13:D13) -> 18680049 | F13: 171 | G13: 535
A14: Wildwood CC | B14: 7587144.3 | C14: 4599044 | D14: 5122.03 | E14: =SUM(B14:D14) -> 12191310 | F14: 115 | G14: =320+110 -> 430
A15: Yukon Kuskokwim CC | B15: 4585982.7 | C15: 2360319.3 | D15: 4674.77 | E15: =SUM(B15:D15) -> 6950976.7 | F15: 41 | G15: 189
A16: Pt. MacKenzie CF | B16: 0 | C16: 0 | D16: 0 | E16: =SUM(B16:D16) -> 0 | F16: 0 | G16: 0
A17: Total | B17: =SUM(B4:B16) -> 90461084 | C17: =SUM(C4:C16) -> 54521993 | D17: =SUM(D4:D16) -> 63151.45 | E17: =SUM(E4:E16) -> 1.4504623e+08 | F17: =SUM(F4:F16) -> 1366 | G17: =SUM(G4:G16) -> 4664
A19: Revised 9/15/17 lj

Sheet Sched-B2
A1: PERSONAL SERVICES BENEFITS BY INDIVIDUAL INSTITUTIONS
A2: Institution | B2: Benefit | C2: %Employer Contribution | D2: Annual Cost | E2: Sub-Total | F2: IRIS Codes
A3: Anchorage Complex | B3: Annual Physical Reimbursement | C3: not a set $ | F3: 1027
B4: AK Supplemental Benefit | C4: 0.0613 | F4: 1028
B5: Public Employee's Retirement System Defined Benefits | C5: 0.22 | F5: 1029
B6: Public Employee's Retirement System Defined Contribution | C6: - | F6: 1030
B7: Public Employee's Retirement System Defined Cont Health Reim | C7: - | F7: 1034
B8: Public Employee's Retiremnt Sys Defined Cont Retiree Medical | C8: - | F8: 1035
B9: Public Employee's Retiremnt Sys Defined Benefit Unfnd Liab | C9: - | F9: 1037
B10: Unemployment Insurance | C10: 0.004 | F10: 1039
B11: Group Health Insurance | C11: $1350.25/mo | F11: 1040
B12: Basic Life and Travel | C12: $0.00/mo.pp | F12: 1041
B13: Worker's Compensation Insurance | C13: 0.0004 | F13: 1042
B14: Leave Cash In Employer Charge | C14: 0.0226 | F14: 1047
B15: Terminal Leave Employer Charge | C15: 0.0103 | F15: 1048
B16: ACOA Injury Leave Contribution | C16: $8.00/mo | F16: 1049
B17: Leave- Holiday
B18: Medicare Tax | C18: 0.0145 | F18: 1053
B19: Other Personal Services | F19: 1004 | G19: :Total Object Category
E20: 9877419.7 | G20: ='Sched-B1'!C4+'Sched-B1'!D4 -> 9877419.7 | H20: =E20-G20 -> 0
A21: Anvil Mtn. CC | B21: Annual Physical Reimbursement | C21: not a set $ | D21: 0
B22: AK Supplemental Benefit | C22: 0.0613
B23: Public Employee's Retirement System Defined Benefits | C23: 0.22
B24: Public Employee's Retirement System Defined Contribution | C24: -
B25: Public Employee's Retirement System Defined Cont Health Reim | C25: -
B26: Public Employee's Retiremnt Sys Defined Cont Retiree Medical | C26: -
B27: Public Employee's Retiremnt Sys Defined Benefit Unfnd Liab | C27: -
B28: Unemployment Insurance | C28: =C10 -> 0.004
B29: Group Health Insurance | C29: =C11 -> $1350.25/mo
B30: Basic Life & Travel | C30: $0.00/mo.pp
B31: Workman's Compensation | C31: =C13 -> 0.0004
B32: Leave Cash-in/Payout | C32: =C14 -> 0.0226
B33: Terminal Leave Charge | C33: =C15 -> 0.0103
B34: Injury Leave Contribution | C34: =C16 -> $8.00/mo
B35: Medicare Tax | C35: =C18 -> 0.0145
B36: Other Personal Services
E37: 1848333.4 | G37: ='Sched-B1'!C5+'Sched-B1'!D5 -> 1848333.4 | H37: =E37-G37 -> 0
A38: Comb Hiland Mt.CC | B38: Annual Physical Reimbursement | C38: not a set $
B39: AK Supplemental Benefit | C39: 0.0613
B40: Public Employee's Retirement System Defined Benefits | C40: =C5 -> 0.22
...

Sheet Sched-C
A1: CONSULTANTS & CONTRACT SERVICES
A2: Type of Service | B2: Description of Service | C2: Number of Contracts | D2: Annual Cost | E2: IRIS CODES
A3: MEDICAL | B3: Non-employee contracted | C3: =29+6+12 -> 47 | D3: 19122219 | E3: 3041
B4: physicians/nurses/PAs/X-ray
B5: Non-employee fee for services | C5: -
B6: physicians/nurses/PAs/X-ray
A8: DENTAL | B8: Non-employee contracted | C8: =6 -> 6 | D8: 337011.47 | E8: 3042
B9: dentist/hygienist/assistant
B10: Non-employee fee for service | C10: -
B11: dentist/hygienist/assistant
A13: SOCIAL COUNSELING | B13: Non-employee contracted | C13: =1+1+23 -> 25 | D13: =1341550.89+1312460.31+68500+106200 -> 2828711.2 | E13: 3040 | F13: Batterer's RSA | G13: FY17: 2 RSA's (BIP $ 68,500 /PBP $ 106,200): DPS
B14: substance abuse,batterers & | G14: =68500+106200 -> 174700
B15: sex offender treatment
A17: PSYCHOLOGICAL | B17: Non-employee contracted | C17: =1+10+5 -> 16 | D17: =3415640-1341550.89-1312460.31 -> 761628.8 | E17: 3040
A18: COUNSELING | B18: mental health,psychiatric &
B19: psychological services
B20: Non-employee fee for service | C20: -
B21: mental health,psychiatric &
B22: psychological services
A24: TOTAL | C24: =SUM(C3:C23) -> 94 | D24: =SUM(D3:D23) -> 23049571
A26: Revised 10/09/17 lj

Sheet Sched-D1
A1: OTHER DIRECT JAIL OPERATING COSTS
A2: Institution | B2: Description of Cost | D2: Annual Cost | F2: Total | G2: IRIS CODES | H2: CK
A3: Anchorage Complex | B3: Travel | E3: 1247.11 | G3: 2000
B4: Non-Interagency Svcs | D4: =857225.33-491598.64 -> 365626.69 | E4: =SUM(D4:D33) -> 2040042.4
B5: Training/Conferences | G5: 3000
B6: Memberships | G6: 3002
B7: Penalties And Fines | G7: 3013
B8: Claim/Judgement Non-Taxable | G8: 3016
B9: Uncleared 1Card Transactions | G9: 3019
B10: Utilities | D10: 1674415.7 | G10: 2100 | H10: :From Alder Report by Location
B11: Software Licensing | G11: 3032
B12: Software Maintenance | G12: 3033
B13: Long Distance | G13: 3035
B14: Local/Equipment Charges | G14: 3036
B15: Data/Network | G15: 3037
B16: Cellular Phones | G16: 3038
B17: Psychiatric | G17: 3040
B18: Medical | G18: 3041
B19: Freight | G19: 3043
B20: Courier | G20: 3044
B21: Postage | G21: 3045
B22: Water and Sewage | G22: 3049
... B32: Commission Sales | G32: 3069
B34: Interagency Services | D34: 549052.8 | E34: =SUM(D34) -> 549052.8 | G34: 3001
B35: Commodities / Supplies | E35: =SUM(D36:D41) -> 2445672.7
C36: Business | D36: 348416.82 | G36: 4000
C37: Agricultural
C38: Household/Institutional | D38: 1822117.8
C39: Scientific & Medical | D39: 7795.54
C40: Safety | D40: 74399.66
C41: Repair/Maintenance Supplies | D41: 192942.92
B42: Capital Outlay
B43: Equipment & Industrial | D43: 15000 | E43: =D43 -> 15000 | G43: 5000 | J43: =F44-4950063 -> 100952.02
F44: =SUM(E3:E43) -> 5051015 | H44: ='Sched-B1'!B4+'Sched-B2'!E20+'Sched-D1'!F44-29906837.97-1674415.73 -> -491598.64
A45: Anvil Mtn. Correctional | B45: Travel | E45: =11794.07+167.95 -> 11962.02
B46: Non-Interagency Svcs | D46: =174666.35-60007.35 -> 114659 | E46: =SUM(D46:D78) -> 413091.81 | H46: =E46+30371.22 -> 443463.03
B47: Less: DHSS RSA Youth Meals | D47: -30371.22 | H47: =H46-E46 -> 30371.22 | I47: Budgeted
B48: Training/Conferences | G48: 3000
B49: Memberships | G49: 3002
B50: Penalties And Fines | G50: 3013
...

Sheet Sched-D2
A1: OTHER DIRECT JAIL OPERATING COSTS
A2: Institution | B2: Description of Cost | D2: Annual Cost | F2: Total | G2: IRIS CODES
A3: Prison System | B3: Personnel Services | E3: 0
A4: Expansion | B4: Travel | E4: 0
B5: Other Services & Charges | E5: =SUM(D6:D10) -> 0
C6: Education Services | D6: 0
C7: Telecommunications | D7: 0
C8: Delivery Services | D8: 0
C9: Equipment/Machinery | D9: 0
C10: Other Services | D10: 0
C11: Interagency Services | D11: 0 | E11: =SUM(D11) -> 0
B12: Commodities / Supplies | E12: =SUM(D13:D15) -> 0
C13: Business | D13: 0
C14: Safety | D14: 0
C15: Repair/Maintenance Supplies | D15: 0
B16: Capital Outlay | D16: 0 | E16: =SUM(D16) -> 0
F17: =SUM(E3:E16) -> 0 | H17: =F17-0 -> 0
A18: Facility-CAP Imp Unit | B18: Personnel Services | E18: =316719.35+181872.14+609.45 -> 499200.94 | G18: 1001 | H18: 1002 and 1004
B19: Travel
B20: Non-Interagency Svcs | E20: =SUM(D21:D23) -> 0
B21: Uncleared 1Card Transactions | G21: 3019
B22: Software Maintenance | D22: 0 | G22: 3033
B23: Commission Sales | D23: 0 | G23: 3069
B24: Interagency Services | D24: 47076.85 | E24: =SUM(D24) -> 47076.85
B25: Commodities / Supplies | E25: =D26+D27 -> 0
C26: Business | D26: 0
C27: Repair/Maintenance Supplies | D27: 0
F28: =SUM(E18:E27) -> 546277.79 | H28: =F28-546277.79 -> 0
A29: Health & Rehabilitation | B29: Personnel Services | E29: =18479341.81+9546110.2+41645.2 -> 28067097 | H29: Grand Total of 6 components $ 56,852,183.28 ( BHC, PHC, HRDirector,Domestic V, Substance, Sex Offender)
A30: Services | B30: Travel / Moving Costs | E30: =223448.06+15752.99+18504.85+6.05 -> 257711.95
B31: Non-Interagency Svcs | D31: 23026086 | E31: =D31 -> 23026086 | G31: 3000
B32: Interagency Services | D32: 1670030.6 | E32: =D32 -> 1670030.6
B33: Commodities / Supplies | E33: =SUM(D34:D38) -> 3794887.1
C34: Business | D34: 175333.52
C35: Household/Institutional | D35: 3326.79
C36: Scientific & Medical | D36: 3609238.4
C37: Safety | D37: 118.86
C38: Repair/Maintenance Supplies | D38: 6869.61
B39: Capital Outlay | D39: =30000+6370 -> 36370 | E39: =SUM(D39) -> 36370
B40: Less: Reimb from Courts (Mental Health Court) | E40: 0
...

Sheet Sched-E
A1: COST ALLOCATION PLANS / INDIRECT COST PROPOSALS
A2: Organization Providing Service | B2: Appr Type | C2: Total Expenditures | D2: % of Time Spent in Support of Jail Operators | E2: Allowable Indirect Cost
A3: Administration & Support* | B3: JADS / JCOA JCOM / JINT JPAB / JREN JRRE | C3: 12382749 | D3: ='COST ALLOCATION'!H6 -> 0.84095395 | E3: =C3*D3 -> 10413322
A4: TOTAL | E4: =E3 -> 10413322
A6: Note*: Includes SF Rent, Correctional Academy, and Parole Board Expenditues
A7: Revised 10/11/17 lj

Sheet Summary-Sched-E
A2: BRU | B2: Appr Type | C2: Total Expenditures of FY2017
A3: Commissioner | B3: JCOM | C3: 938123 | E3: FY2015: Total Exp AR less SB64 PACE RSA, less SB64 1st DUI (JCOM)
A4: Admin Services | B4: JADS | C4: 4102040.4
A5: Info Tech MIS | B5: JINT | C5: 2721635.8
A6: Research & Rcrds | B6: JRRE | C6: 514760.56
A7: Facilities Rent | B7: JREN | C7: 289900
A8: Academy | B8: JCOA | C8: 2428994.9
A9: Parole Board | B9: JPAB | C9: 1387294.1
B10: Total | C10: =SUM(C3:C9) -> 12382749
A16: Revised: 10/11/17 lj

Sheet Sched-F-G
A1: EQUIPMENT COST | D1: SCHEDULE F
A2: By Individual Institution
A3: Institutions | B3: Cost of Equipment | C3: Equipment Allowance 6.666%
A4: Anchorage Complex | B4: ='Property Inventory'!D34 -> 2003325.1 | C4: =B4*0.06666 -> 133541.65
A5: Anvil Mt. C.C. | B5: ='Property Inventory'!D25 -> 230254.24 | C5: =B5*0.06666 -> 15348.748
A6: Comb Hiland Mt.CC | B6: ='Property Inventory'!D33 -> 303690.55 | C6: =B6*0.06666 -> 20244.012
A7: Fairbanks CC | B7: ='Property Inventory'!D24 -> 405139.64 | C7: =B7*0.06666 -> 27006.608
A8: Goose Creek CC | B8: ='Property Inventory'!D37 -> 1400583 | C8: =B8*0.06666 -> 93362.863
A9: Ketchikan CC | B9: ='Property Inventory'!D46 -> 83614 | C9: =B9*0.06666 -> 5573.7092
A10: Lemon Creek CC | B10: ='Property Inventory'!D45 -> 703664.19 | C10: =B10*0.06666 -> 46906.255
A11: Mat-Su Pre-Trial | B11: ='Property Inventory'!D32 -> 98627.26 | C11: =B11*0.06666 -> 6574.4932
A12: Palmer CC | B12: ='Property Inventory'!D31 -> 959895 | C12: =B12*0.06666 -> 63986.601
A13: Pt. MacKenzie Correctional Farm | B13: ='Property Inventory'!D51 -> 519421 | C13: =B13*0.06666 -> 34624.604
A14: Spring Creek CC | B14: ='Property Inventory'!D36 -> 1461238 | C14: =B14*0.06666 -> 97406.125
A15: Wildwood CC | B15: ='Property Inventory'!D35 -> 843914 | C15: =B15*0.06666 -> 56255.307
A16: Yukon Kuskokwim | B16: ='Property Inventory'!D26 -> 157726.14 | C16: =B16*0.06666 -> 10514.024
A18: Total Equipment Cost | B18: =SUM(B4:B17) -> 9171092.1 | C18: =SUM(C4:C17) -> 611345
A22: BUILDING DEPRECIATION | D22: SCHEDULE G
A23: By Individual Institution (Based on FY2017 Actuals)
A24: Institutions | B24: All Buildings Construction Cost | C24: Additional Construction Cost | D24: Annual Depreciation @ 2%
A25: Anchorage Complex | B25: 36522437 | C25: 0 | D25: =B25*0.02 -> 730448.74
A26: Anvil Mt. CC | B26: 16192923 | C26: 0 | D26: =B26*0.02 -> 323858.46
A27: Comb Hiland Mt.CC | B27: 45066600 | C27: 0 | D27: =B27*0.02 -> 901332
A28: Fairbanks CC | B28: 34112840 | C28: 0 | D28: =B28*0.02 -> 682256.8
A29: Ketchikan CC | B29: 7691306 | C29: 0 | D29: =B29*0.02 -> 153826.12
A30: Lemon Creek CC | B30: 28845762 | C30: 0 | D30: =B30*0.02 -> 576915.24
A31: Mat-Su Pre-Trial | B31: 10392719 | C31: 0 | D31: =B31*0.02 -> 207854.38
A32: Palmer CC | B32: 41211974 | C32: 0 | D32: =B32*0.02 -> 824239.48
A33: Pt. MacKenzie Correctional Farm | B33: 12269054 | C33: 0 | D33: =B33*0.02 -> 245381.08
A34: Spring Creek CC | B34: 78360986 | C34: 0 | D34: =B34*0.02 -> 1567219.7
A35: Wildwood CC | B35: 51709708 | C35: 0 | D35: =B35*0.02 -> 1034194.2
A36: Yukon Kuskokwim | B36: 12275277 | C36: 0 | D36: =B36*0.02 -> 245505.54
A38: Total Building Depreciation | B38: =SUM(B25:B37) -> 374651586 | C38: =SUM(C25:C37) -> 0 | D38: =SUM(D25:D37) -> 7493031.7
A40: Total Equipment Cost & Building Depreciation | B40: (Schedule F + Schedule G) | D40: =C18+D38 -> 8104376.7
A42: Revised 10/11/17 lj

Sheet Property Inventory
A1: PROPERTY INVENTORY
A2: Division | B2: Division/Institution | C2: IRIS Unit | D2: Total as of 6/30/17 | E2: Aquired in FY2017 | F2: FY2017 Vehicle Inventory Total | G2: Grand Total
A3: 3 | B3: Commissioner's Office Jnu/Anch | C3: 1000 | D3: 38726.07 | F3: 12818 | G3: =SUM(D3:F3) -> 51544.07
B4: Human Resources | C4: 1400 | D4: 3044.6 | G4: =SUM(D4:F4) -> 3044.6
B5: Procurement | C5: 1500 | D5: 5775.64 | G5: =SUM(D5:F5) -> 5775.64
B6: Research & Records | C6: 1200 | D6: 486947 | F6: 806 | G6: =SUM(D6:F6) -> 487753
A7: 28A | B7: Parole Board | C7: 3000 | D7: 22837.78 | F7: 4433 | G7: =SUM(D7:F7) -> 27270.78
B8: Facility Cap Imp Unit | C8: 2250 | D8: 66251.49 | F8: 4615 | G8: =SUM(D8:F8) -> 70866.49
B9: Prison System Expansion | C9: 2230 | D9: 5450 | G9: =SUM(D9:F9) -> 5450
A10: 1 | B10: Juneau Central Office / Admin Svcs | C10: 1100 | D10: 1315672.7 | F10: 13297 | G10: =SUM(D10:F10) -> 1328969.7
B11: Information Technology | C11: 1300 | D11: 37084.83 | G11: =SUM(D11:F11) -> 37084.83
A12: 4 | B12: Training Academy | C12: 2260 | D12: 257581.95 | F12: 14456 | G12: =SUM(D12:F12) -> 272037.95
B13: Education Programs / Palmer | C13: 2300 | D13: 13381.04 | F13: =2812+308 -> 3120 | G13: =SUM(D13:F13) -> 16501.04
B14: Institution Education Programs | C14: 20661367 | G14: =SUM(D14:F14) -> 0
A15: 7 | B15: Transportation | C15: 2210 | D15: 32118 | F15: 63702 | G15: =SUM(D15:F15) -> 95820
B16: Classification & Furlough | C16: 20661382 | F16: 7745 | G16: =SUM(D16:F16) -> 7745
B17: Electronic Monitoring | C17: 2410 | D17: 0 | F17: 24947 | G17: =SUM(D17:F17) -> 24947
A18: 36B | B18: Laundry - Lemon Creek | C18: 20661420 | F18: 10573 | G18: =SUM(D18:F18) -> 10573
A19: 37 | B19: Out of State | C19: 2220 | D19: 31189 | G19: =SUM(D19:F19) -> 31189
B20: Physical Health Care | C20: 4100 | D20: 33572.57 | F20: 3588 | G20: =SUM(D20:F20) -> 37160.57
B21: Health & Rehabilitation Services | C21: 4001 | D21: 64067.04
B22: Sex Offender Managemnet Pr | C22: 4400 | D22: 709.07
B23: IDO Institution Director's Office | C23: 2000 | D23: 14414 | F23: 12288 | G23: =SUM(D23:F23) -> 26702
A24: 14 | B24: FCC | C24: 2103 | D24: 405139.64 | F24: 25363 | G24: =SUM(D24:F24) -> 430502.64
A25: 15 | B25: AMCC | C25: 2101 | D25: 230254.24 | F25: 43431 | G25: =SUM(D25:F25) -> 273685.24
A26: 18 | B26: YKCC | C26: 2110 | D26: 157726.14 | F26: 26000 | G26: =SUM(D26:F26) -> 183726.14
A27: 21A | B27: Fairbanks Probation | C27: 2441 | D27: 67889 | F27: 13411 | G27: =SUM(D27:F27) -> 81300
A28: 21C | B28: Nome Probation | C28: 2442 | D28: 11615 | F28: 6067 | G28: =SUM(D28:F28) -> 17682
A29: 21D | B29: Barrow Probation | C29: 2443 | D29: 28466 | F29: 2938 | G29: =SUM(D29:F29) -> 31404
A30: 21E | B30: Kotzebue Probation | C30: 2444 | D30: 4115 | F30: 5023 | G30: =SUM(D30:F30) -> 9138
A31: 13 | B31: PCC | C31: 2107 | D31: 959895 | F31: 103949 | G31: =SUM(D31:F31) -> 1063844
A32: 10 | B32: MSCC | C32: 2106 | D32: 98627.26 | F32: 8291 | G32: =SUM(D32:F32) -> 106918.26
A33: 11 | B33: CHMCC | C33: 2102 | D33: 303690.55 | F33: 87241 | G33: =SUM(D33:F33) -> 390931.55
A34: 8/9 | B34: ACC Anchorage Complex | C34: 2100 | D34: 2003325.1 | F34: 50174 | G34: =SUM(D34:F34) -> 2053499.1
A35: 30 | B35: WCC | C35: 2109 | D35: 843914 | F35: 150672 | G35: =SUM(D35:F35) -> 994586
A36: 16 | B36: SCCC | C36: 2108 | D36: 1461238 | F36: 226500 | G36: =SUM(D36:F36) -> 1687738
A37: 39 | B37: GCCC | C37: 2112 | D37: 1400583 | F37: 321179 | G37: =SUM(D37:F37) -> 1721762
B38: Probation Region ONE | C38: 2420 | D38: 4973.07 | F38: 7178 | G38: =SUM(D38:F38) -> 12151.07
A39: 19A | B39: Anchorage Probation | C39: 2421 | D39: 443800 | F39: 41479 | G39: =SUM(D39:F39) -> 485279
A40: 19C | B40: Kenai Probation | C40: 2422 | D40: 34749 | F40: 10412 | G40: =SUM(D40:F40) -> 45161
...

Sheet CostReim
A1: Budgeted Revenue Interagency Receipts (I/A)
A2: Division/Institution | B2: Appr Group | C2: ApprType | D2: Total Reimbursement | E2: Outstanding Balance of RSA | F2: Total | G2: Revenue
A3: Commissioner's Office | D3: 0 | F3: =SUM(D3:E3) -> 0
A4: Parole Board | D4: 0 | F4: =SUM(D4:E4) -> 0
A5: Correctional Academy | D5: 0 | F5: =SUM(D5:E5) -> 0
A6: Administrative Services | D6: 0 | F6: =SUM(D6:E6) -> 0
A7: Data & Word Processing | D7: 0 | F7: =SUM(D7:E7) -> 0
A8: Facility-Capital Improvement | D8: 0 | F8: =SUM(D8:E8) -> 0
A9: Health & Rehabilitation Services | B9: JHRS | C9: JSAP | D9: =-'Sched-D2'!E41 -> 58016 | F9: =SUM(D9:E9) -> 58016 | G9: 5014
A10: Health & Rehabilitation Services | B10: JHRS | C10: JSAP | D10: =-'Sched-D2'!E43 -> 70800 | F10: =SUM(D10:E10) -> 70800 | G10: 5301
A11: Health & Rehabilitation Services | B11: JHRS | C11: JBHC | D11: =-'Sched-D2'!E42 -> 52400 | F11: =SUM(D11:E11) -> 52400 | G11: 5007
A12: Offender Habilitation Programs | B12: JOHP | C12: JEDP | D12: =-'Sched-D2'!E59-'Sched-D2'!E60-'Sched-D2'!E61 -> 103260.02 | F12: =SUM(D12:E12) -> 103260.02 | G12: 5301 | H12: (3 budgeted RSA's)
A13: Correctional Academy | D13: 0 | F13: =SUM(D13:E13) -> 0
A14: Institution Director's Office | D14: 0 | F14: =SUM(D14:E14) -> 0
A15: Transportation | B15: JPOP | C15: JTRN | D15: =-'Sched-D2'!E94 -> 140000 | F15: =SUM(D15:E15) -> 140000
A16: Out of State | D16: 0 | F16: =SUM(D16:E16) -> 0
A17: Anchorage Complex
A18: Anvil Mtn. CC | B18: JPOP | C18: JAMC | D18: =-'Sched-D1'!D47 -> 30371.22 | F18: =SUM(D18:E18) -> 30371.22 | G18: 5301
A19: Combined Hiland Mtn. CC | D19: 0 | F19: =SUM(D19:E19) -> 0
A20: Fairbanks CC | D20: 0 | F20: =SUM(D20:E20) -> 0
A21: Goose Creek CC | B21: JPOP | C21: JGCC | D21: =-'Sched-D2'!E113 -> 0 | F21: =SUM(D21:E21) -> 0
A22: Ketchikan CC | D22: 0 | F22: =SUM(D22:E22) -> 0
A23: Lemon Creek CC | B23: JPOP | C23: JLCC | D23: =-'Sched-D1'!D299-'Sched-D1'!D298 -> 437564.48 | F23: =SUM(D23:E23) -> 437564.48 | H23: (2 budgeted RSA's)
A24: Mat-Su Pre-Trial | D24: 0 | F24: =SUM(D24:E24) -> 0
A25: Palmer CC | D25: 0 | F25: =SUM(D25:E25) -> 0
A26: Spring Creek CC | D26: 0 | F26: =SUM(D26:E26) -> 0
A27: Wildwood CC | D27: 0 | F27: =SUM(D27:E27) -> 0
A28: Yukon Kuskokwim CC | B28: JPOP | C28: JYKC | D28: =-'Sched-D1'!D557 -> 42664.97 | F28: =SUM(D28:E28) -> 42664.97 | G28: 5301
A29: Out-of-State Contractual | D29: 0 | F29: =SUM(D29:E29) -> 0
A30: Point Mackenzie | D30: 0 | F30: =SUM(D30:E30) -> 0
A31: Totals | D31: =SUM(D3:D30) -> 935076.69 | E31: =SUM(E3:E30) -> 0 | F31: =SUM(F3:F30) -> 935076.69
A33: Revised: 10/11/17 lj

Sheet COST ALLOCATION
A1: COST ALLOCATION
A2: COMPONENT | E2: Appr Type | F2: TOTAL COSTS | H2: % OF TOTAL | I2: ADMIN & SUPPORT | J2: TOTAL ALL COSTS
A3: INDIRECT COST | I3: TOTAL
B4: Administration & Support RDU | E4: JCOM | I4: ='Sched-E'!C3 -> 12382749 | K4: Unbudgeted RSA (20-X020 Public Info Officer Sherie D)
A5: DIRECT COST | I5: % by entity | K5: No RS in FY217
H6: =G7/$G$37 -> 0.84095395 | I6: =SUM($I$4*H6) -> 10413322
B7: INSTITUTIONS | G7: =SUM(F4:F30) -> 2.5070012e+08 | J7: =SUM(I6+G7) -> 2.6111344e+08
C8: 13 Institutions | F8: ='Sched-B1'!E17+'Sched-D1'!F659+CostReim!D18+CostReim!D23+CostReim!D28 -> 1.7847409e+08 | K8: Decreased by RSAs
C9: Less: DOT/Laundry RSA | E9: JLCC | F9: ='Sched-D1'!D299 -> -368402.09
C10: Less: DNR/MMM&S RSA (Unbudgeted) | E10: JPCC | F10: -29795.4
C11: Less: GCCC Security DPS RS (Unbudgeted) | E11: JGCCC | F11: -10329
C12: Less: DHSS 4 RSAs Youth Meals | E12: JAMC /JLCC / JKCC / JYKC | F12: ='Sched-D1'!D47+'Sched-D1'!D557+'Sched-D1'!D298 -> -142198.58
C13: Facility Planning - Capital Improvement Program | E13: JCIM | F13: ='Sched-D2'!F28 -> 546277.79
C14: Pretrial Services Division | E14: JPTS | F14: ='Sched-D2'!F107 -> 0 | K14: Decreased as Pretrial was not fully implemented FY2017
B15: Health & Rehabilitation Services RDU | E15: JHRS | F15: ='Sched-D2'!F45+58016+52400+70800 -> 56852183
C16: Less: Reimb. from Federal Public Protection: RSAT Grant | E16: JSAP | F16: ='Sched-D2'!E41 -> -58016
C17: Less: Alcohol Tax RSA (SCCC Men's Sub-Acute & Juvenile Offender Pgm) | E17: JBHC | F17: ='Sched-D2'!E42 -> -52400
C18: Less: DH&S/ RSAT RSA | E18: JSAP | F18: ='Sched-D2'!E43 -> -70800
B19: Offender Habilitation Programs RDU | E19: JOFH | F19: ='Sched-D2'!F62+103260.02 -> 1128729.9 | K19: Decreased by 3 RSAs (ABE/CARL P/MOS)
C20: Less: 3 Education RSAs | E20: JEDP | F20: ='Sched-D2'!E59+'Sched-D2'!E60+'Sched-D2'!E61 -> -103260.02
C21: Less: 2 Voc Ed Programs RSA's (Unbudgeted) | E21: JVEP | F21: 0 | K21: Decreased by 2 Unbudgeted RSA's (Step C / Step H) - No in FY17
B22: Institutions Director's Office | E22: JIDO | F22: ='Sched-D2'!F72 -> 1804647.3
C23: Less: DPS PREA RSA | E23: JIDO | F23: 0 | K23: No RSA in FY2017
B24: Prison System Expansion | E24: JPSE | F24: ='Sched-D2'!F17 -> 0
B25: Classification & Furlough | E25: JCLF | F25: ='Sched-D2'!F82 -> 1019728.2
B26: Inmate Transportation Unit | E26: JTRN | F26: ='Sched-D2'!F94+140000 -> 2664032.6 | K26: Decreased by RSA
C27: Less: DPS Transportation RSA | F27: ='Sched-D2'!E94 -> -140000
B28: Point of Arrest | E28: JPOA | F28: ='Sched-D2'!F100 -> 580746.2
B29: Recidivism Reduction Grant | E29: JRRG | F29: ='Sched-D2'!F113 -> 500500
B30: Equipment & Building Depreciation | F30: ='Sched-F-G'!D40 -> 8104376.7
B31: Regional & Community Jails | E31: JCOJ | G31: 6964832.1 | H31: =G31/$G$37 -> 0.023362985 | I31: =$I$4*H31 -> 289297.98 | J31: =SUM(I31+G31) -> 7254130.1
B32: Probation & Parole Director's Office | E32: JPPD | G32: 950006.16 | H32: =G32/$G$37 -> 0.0031867215 | I32: =$I$4*H32 -> 39460.371 | J32: =SUM(I32+G32) -> 989466.53
B33: State-wide Probation & Parole | E33: JSPP | G33: 16452943 | H33: =G33/$G$37 -> 0.055190111 | I33: =$I$4*H33 -> 683405.28 | J33: =SUM(I33+G33) -> 17136348 | K33: No RSA in FY2017 | L33: SB64 PACE RSA
B34: Out of State Contractual | E34: JOOS | G34: 238949.19 | H34: =G34/$G$37 -> 0.00080153639 | I34: =$I$4*H34 -> 9925.2238 | J34: =SUM(I34+G34) -> 248874.41
B35: Electronic Monitoring | E35: JELM | G35: 2890920.9 | H35: =G35/$G$37 -> 0.0096973684 | I35: =$I$4*H35 -> 120080.08 | J35: =SUM(I35+G35) -> 3011001 | K35: No RSA in FY2017 | L35: SB64 1st DUI
B36: Community Residential Centers | E36: JCRC | G36: 19916196 | H36: =G36/$G$37 -> 0.066807323 | I36: =$I$4*H36 -> 827258.3 | J36: =SUM(I36+G36) -> 20743454
A37: TOTAL: | G37: =SUM(G3:G36) -> 2.9811396e+08 | H37: =SUM(H3:H36) -> 1 | I37: =SUM(I6:I36) -> 12382749 | J37: =SUM(J7:J36) -> 3.1049671e+08
C38: Reconciliation to Actuals
C39: DOC Total Cost: ( By Appr Type Alder Report ) | F39: 3.1041748e+08
C40: Add: Depreciation Calculation | F40: =F30 -> 8104376.7
...

Sheet BILLING RATE CALC
A1: BILLING RATE CALCULATION
A2: ANNUAL TOTAL MANDAYS | E2: ='Qtrly''s-Cntsht Book'!Y20 -> 1604160.1
A3: COMPONENT | C3: TOTAL EXPENSES | E3: LESS REIMB | F3: ADJUSTED COSTS | G3: BILLING RATE
A4: INSTITUTIONS | D4: =SUM(C5:C7) -> 1.7847409e+08 | F4: =SUM(D4,E6) -> 1.7796349e+08 | G4: =F4/$E$2 -> 110.93874
B5: Institutions | C5: ='COST ALLOCATION'!F8 -> 1.7847409e+08
B6: Less: DHSS & DOT RSAs | E6: ='COST ALLOCATION'!F12+'COST ALLOCATION'!F9 -> -510600.67
B7: Alternative Housing | C7: 0
A8: OFFENDER HABILITATION PROGRAMS | C8: ='COST ALLOCATION'!F19 -> 1128729.9 | D8: =SUM(C8:C8) -> 1128729.9 | F8: =SUM(D8,E9) -> 1025469.9 | G8: =F8/$E$2 -> 0.63925657
B9: Education (3) RSAs | E9: ='COST ALLOCATION'!F20 -> -103260.02
A10: HEALTH & REHABILITATION SERVICES | C10: =D10 -> 56852183 | D10: ='COST ALLOCATION'!F15 -> 56852183 | E10: ='COST ALLOCATION'!F16+'COST ALLOCATION'!F17+'COST ALLOCATION'!F18 -> -181216 | F10: =SUM(D10:E10) -> 56670967 | G10: =F10/$E$2 -> 35.327501
A11: ADMIN & SUPPORT | D11: =SUM(C12) -> 10413322 | E11: 0 | F11: =SUM(D11:E11) -> 10413322 | G11: =F11/$E$2 -> 6.4914478
B12: % for Institution Operations | C12: ='COST ALLOCATION'!I6 -> 10413322
A13: STATEWIDE DIRECT COSTS | D13: =SUM(C14:C23)+E16 -> 14719809 | F13: =SUM(D13+E21+E23) -> 14579809 | G13: =F13/$E$2 -> 9.0887492
B14: Institutions Director's Office | C14: ='COST ALLOCATION'!F22 -> 1804647.3
B15: Prison System Expansion | C15: ='COST ALLOCATION'!F24 -> 0
B16: Equipment & Bldg. Depreciation | C16: ='COST ALLOCATION'!F30 -> 8104376.7
B17: Facility Planning - CIP | C17: ='COST ALLOCATION'!F13 -> 546277.79
B18: Pretrial Services Unit | C18: ='COST ALLOCATION'!F14 -> 0
B19: Classification & Furlough | C19: ='COST ALLOCATION'!F25 -> 1019728.2
B20: Transportation | C20: ='COST ALLOCATION'!F26 -> 2664032.6
B21: Less: DPS RSA Transport | E21: ='COST ALLOCATION'!F27 -> -140000
B22: Point of Arrest | C22: ='COST ALLOCATION'!F28 -> 580746.2
A24: BILLING RATE | D24: =SUM(D4:D17) -> 2.6158814e+08 | E24: =SUM(E4:E23) -> -935076.69 | F24: =SUM(F4:F22) -> 2.6065306e+08 | G24: =SUM(G4:G22) -> 162.48569
A25: INDIVIDUAL INSTITUTION RATES
A26: Institutions | C26: Total Cost | D26: Mandays | E26: Inst. Cost | F26: Inmate Programs | G26: Inmate Health Care | H26: Div.of Admin.& Support Cost | I26: Statewide Direct Cost | J26: TOTAL
A27: Anchorage Complex | C27: ='Sched-B1'!E4+'Sched-D1'!F44 -> 31089655 | D27: ='Inmate Avg Daily Population'!O4 -> 313486.33 | E27: =C27/D27 -> 99.173877 | F27: =$G$8 -> 0.63925657 | G27: =$G$10 -> 35.327501 | H27: =$G$11 -> 6.4914478 | I27: =$G$13 -> 9.0887492 | J27: =SUM(E27:I27) -> 150.72083
A28: Anvil Mtn. Correctional | C28: ='Sched-B1'!E5+'Sched-D1'!F89 -> 6206787 | D28: ='Inmate Avg Daily Population'!O5 -> 37880.917 | E28: =C28/D28 -> 163.84997 | F28: =$G$8 -> 0.63925657 | G28: =$G$10 -> 35.327501 | H28: =$G$11 -> 6.4914478 | I28: =$G$13 -> 9.0887492 | J28: =SUM(E28:I28) -> 215.39692
A29: Fairbanks Correctional | C29: ='Sched-B1'!E7+'Sched-D1'!F190 -> 11964771 | D29: ='Inmate Avg Daily Population'!O6 -> 98108.958 | E29: =C29/D29 -> 121.95391 | F29: =$G$8 -> 0.63925657 | G29: =$G$10 -> 35.327501 | H29: =$G$11 -> 6.4914478 | I29: =$G$13 -> 9.0887492 | J29: =SUM(E29:I29) -> 173.50087
A30: Goose Creek Correctional | C30: ='Sched-B1'!E8+'Sched-D1'!F241 -> 41672576 | D30: ='Inmate Avg Daily Population'!O7 -> 461764.54 | E30: =C30/D30 -> 90.246376 | F30: =$G$8 -> 0.63925657 | G30: =$G$10 -> 35.327501 | H30: =$G$11 -> 6.4914478 | I30: =$G$13 -> 9.0887492 | J30: =SUM(E30:I30) -> 141.79333
A31: Hiland Mtn. Correctional | C31: ='Sched-B1'!E6+'Sched-D1'!F138 -> 13492285 | D31: ='Inmate Avg Daily Population'!O8 -> 110652.79 | E31: =C31/D31 -> 121.93353 | F31: =$G$8 -> 0.63925657 | G31: =$G$10 -> 35.327501 | H31: =$G$11 -> 6.4914478 | I31: =$G$13 -> 9.0887492 | J31: =SUM(E31:I31) -> 173.48048
A32: Ketchikan Correctional | C32: ='Sched-B1'!E9+'Sched-D1'!F295 -> 4510730.7 | D32: ='Inmate Avg Daily Population'!O9 -> 18812.708 | E32: =C32/D32 -> 239.7704 | F32: =$G$8 -> 0.63925657 | G32: =$G$10 -> 35.327501 | H32: =$G$11 -> 6.4914478 | I32: =$G$13 -> 9.0887492 | J32: =SUM(E32:I32) -> 291.31736
A33: Lemon Creek Correctional | C33: ='Sched-B1'!E10+'Sched-D1'!F344 -> 10004180 | D33: ='Inmate Avg Daily Population'!O10 -> 77267.458 | E33: =C33/D33 -> 129.47469 | F33: =$G$8 -> 0.63925657 | G33: =$G$10 -> 35.327501 | H33: =$G$11 -> 6.4914478 | I33: =$G$13 -> 9.0887492 | J33: =SUM(E33:I33) -> 181.02165
A34: Mat-Su Correctional | C34: ='Sched-B1'!E11+'Sched-D1'!F397 -> 6077488.1 | D34: ='Inmate Avg Daily Population'!O11 -> 34811.875 | E34: =C34/D34 -> 174.58089 | F34: =$G$8 -> 0.63925657 | G34: =$G$10 -> 35.327501 | H34: =$G$11 -> 6.4914478 | I34: =$G$13 -> 9.0887492 | J34: =SUM(E34:I34) -> 226.12784
A35: Palmer Correctional | C35: ='Sched-B1'!E12+'Sched-D1'!F446 -> 7181922.3 | D35: ='Inmate Avg Daily Population'!O12 -> 37628.775 | E35: =C35/D35 -> 190.86251 | F35: =$G$8 -> 0.63925657 | G35: =$G$10 -> 35.327501 | H35: =$G$11 -> 6.4914478 | I35: =$G$13 -> 9.0887492 | J35: =SUM(E35:I35) -> 242.40946
A36: Pt. MacKenzie Correctional Farm | C36: ='Sched-B1'!E16+'Sched-D1'!F658 -> 210708.57 | D36: ='Inmate Avg Daily Population'!O13 -> 35222.5 | E36: =C36/D36 -> 5.9822151 | F36: =$G$8 -> 0.63925657 | G36: =$G$10 -> 35.327501 | H36: =$G$11 -> 6.4914478 | I36: =$G$13 -> 9.0887492 | J36: =SUM(E36:I36) -> 57.529169
A37: Spring Creek Correctional | C37: ='Sched-B1'!E13+'Sched-D1'!F500 -> 22206670 | D37: ='Inmate Avg Daily Population'!O14 -> 178512.38 | E37: =C37/D37 -> 124.39849 | F37: =$G$8 -> 0.63925657 | G37: =$G$10 -> 35.327501 | H37: =$G$11 -> 6.4914478 | I37: =$G$13 -> 9.0887492 | J37: =SUM(E37:I37) -> 175.94545
A38: Wildwood Correctional | C38: ='Sched-B1'!E14+'Sched-D1'!F554 -> 14957571 | D38: ='Inmate Avg Daily Population'!O15 -> 140722.71 | E38: =C38/D38 -> 106.2911 | F38: =$G$8 -> 0.63925657 | G38: =$G$10 -> 35.327501 | H38: =$G$11 -> 6.4914478 | I38: =$G$13 -> 9.0887492 | J38: =SUM(E38:I38) -> 157.83805
A39: Yukon Kuskokwim Correctional | C39: ='Sched-B1'!E15+'Sched-D1'!F604 -> 8388146.8 | D39: ='Inmate Avg Daily Population'!O16 -> 59288.167 | E39: =C39/D39 -> 141.48096 | F39: =$G$8 -> 0.63925657 | G39: =$G$10 -> 35.327501 | H39: =$G$11 -> 6.4914478 | I39: =$G$13 -> 9.0887492 | J39: =SUM(E39:I39) -> 193.02792
A40: Totals | C40: =SUM(C27:C39) -> 1.7796349e+08 | D40: =SUM(D27:D39) -> 1604160.1 | E40: =G4 -> 110.93874 | F40: =G8 -> 0.63925657 | G40: =G10 -> 35.327501 | H40: =G11 -> 6.4914478 | I40: =G13 -> 9.0887492 | J40: =SUM(E40:I40) -> 162.48569
A44: Revised: 10/11/17 lj

Sheet Inmate Avg Daily Population
A1: ANNUAL TOTAL MANDAYS
B2: AVERAGE DAILY INMATE POPULATION | N2: ANNUAL AVERAGE DAILY POPULATION | O2: ANNUAL TOTAL MANDAYS
A3: Institutions | B3: 42560 | C3: 42591 | D3: 42622 | E3: 42652 | F3: 42683 | G3: 42713 | H3: 42744 | I3: 42775 | J3: 42803 | K3: 42834 | L3: 42864 | M3: 42895
A4: Anchorage Complex | B4: ='Qtrly''s-Cntsht Book'!D6 -> 822.4 | C4: ='Qtrly''s-Cntsht Book'!E6 -> 823 | D4: ='Qtrly''s-Cntsht Book'!F6 -> 813 | E4: ='Qtrly''s-Cntsht Book'!I6 -> 973 | F4: ='Qtrly''s-Cntsht Book'!J6 -> 874.1 | G4: ='Qtrly''s-Cntsht Book'!K6 -> 860.7 | H4: ='Qtrly''s-Cntsht Book'!N6 -> 845.2 | I4: ='Qtrly''s-Cntsht Book'!O6 -> 844.3 | J4: ='Qtrly''s-Cntsht Book'!P6 -> 863 | K4: ='Qtrly''s-Cntsht Book'!S6 -> 857 | L4: ='Qtrly''s-Cntsht Book'!T6 -> 868.2 | M4: ='Qtrly''s-Cntsht Book'!U6 -> 862.5 | N4: =SUM(B4:M4)/12 -> 858.86667 | O4: =N4*365 -> 313486.33
A5: Anvil Mountain CC | B5: ='Qtrly''s-Cntsht Book'!D7 -> 107.5 | C5: ='Qtrly''s-Cntsht Book'!E7 -> 98 | D5: ='Qtrly''s-Cntsht Book'!F7 -> 100 | E5: ='Qtrly''s-Cntsht Book'!I7 -> 100 | F5: ='Qtrly''s-Cntsht Book'!J7 -> 104 | G5: ='Qtrly''s-Cntsht Book'!K7 -> 105.1 | H5: ='Qtrly''s-Cntsht Book'!N7 -> 97 | I5: ='Qtrly''s-Cntsht Book'!O7 -> 105.9 | J5: ='Qtrly''s-Cntsht Book'!P7 -> 111.3 | K5: ='Qtrly''s-Cntsht Book'!S7 -> 105 | L5: ='Qtrly''s-Cntsht Book'!T7 -> 100.6 | M5: ='Qtrly''s-Cntsht Book'!U7 -> 111 | N5: =SUM(B5:M5)/12 -> 103.78333 | O5: =N5*365 -> 37880.917
A6: Fairbanks CC | B6: ='Qtrly''s-Cntsht Book'!D8 -> 288.9 | C6: ='Qtrly''s-Cntsht Book'!E8 -> 284 | D6: ='Qtrly''s-Cntsht Book'!F8 -> 262 | E6: ='Qtrly''s-Cntsht Book'!I8 -> 252 | F6: ='Qtrly''s-Cntsht Book'!J8 -> 240.2 | G6: ='Qtrly''s-Cntsht Book'!K8 -> 242.9 | H6: ='Qtrly''s-Cntsht Book'!N8 -> 255.4 | I6: ='Qtrly''s-Cntsht Book'!O8 -> 262 | J6: ='Qtrly''s-Cntsht Book'!P8 -> 270.8 | K6: ='Qtrly''s-Cntsht Book'!S8 -> 283 | L6: ='Qtrly''s-Cntsht Book'!T8 -> 294.5 | M6: ='Qtrly''s-Cntsht Book'!U8 -> 289.8 | N6: =SUM(B6:M6)/12 -> 268.79167 | O6: =N6*365 -> 98108.958
A7: Goose Creek CC | B7: ='Qtrly''s-Cntsht Book'!D9 -> 1145.8 | C7: ='Qtrly''s-Cntsht Book'!E9 -> 1238 | D7: ='Qtrly''s-Cntsht Book'!F9 -> 1268 | E7: ='Qtrly''s-Cntsht Book'!I9 -> 1311 | F7: ='Qtrly''s-Cntsht Book'!J9 -> 1334.8 | G7: ='Qtrly''s-Cntsht Book'!K9 -> 1326.3 | H7: ='Qtrly''s-Cntsht Book'!N9 -> 1271.3 | I7: ='Qtrly''s-Cntsht Book'!O9 -> 1250 | J7: ='Qtrly''s-Cntsht Book'!P9 -> 1242.9 | K7: ='Qtrly''s-Cntsht Book'!S9 -> 1257 | L7: ='Qtrly''s-Cntsht Book'!T9 -> 1240.6 | M7: ='Qtrly''s-Cntsht Book'!U9 -> 1295.6 | N7: =SUM(B7:M7)/12 -> 1265.1083 | O7: =N7*365 -> 461764.54
A8: Combined Hiland Mtn CC | B8: ='Qtrly''s-Cntsht Book'!D10 -> 348.5 | C8: ='Qtrly''s-Cntsht Book'!E10 -> 349 | D8: ='Qtrly''s-Cntsht Book'!F10 -> 347 | E8: ='Qtrly''s-Cntsht Book'!I10 -> 325 | F8: ='Qtrly''s-Cntsht Book'!J10 -> 304.9 | G8: ='Qtrly''s-Cntsht Book'!K10 -> 291.6 | H8: ='Qtrly''s-Cntsht Book'!N10 -> 275.4 | I8: ='Qtrly''s-Cntsht Book'!O10 -> 264 | J8: ='Qtrly''s-Cntsht Book'!P10 -> 267.5 | K8: ='Qtrly''s-Cntsht Book'!S10 -> 269 | L8: ='Qtrly''s-Cntsht Book'!T10 -> 297.9 | M8: ='Qtrly''s-Cntsht Book'!U10 -> 298.1 | N8: =SUM(B8:M8)/12 -> 303.15833 | O8: =N8*365 -> 110652.79
A9: Ketchikan CC | B9: ='Qtrly''s-Cntsht Book'!D11 -> 50 | C9: ='Qtrly''s-Cntsht Book'!E11 -> 50 | D9: ='Qtrly''s-Cntsht Book'!F11 -> 47 | E9: ='Qtrly''s-Cntsht Book'!I11 -> 53 | F9: ='Qtrly''s-Cntsht Book'!J11 -> 49 | G9: ='Qtrly''s-Cntsht Book'!K11 -> 46.1 | H9: ='Qtrly''s-Cntsht Book'!N11 -> 46.1 | I9: ='Qtrly''s-Cntsht Book'!O11 -> 55 | J9: ='Qtrly''s-Cntsht Book'!P11 -> 58 | K9: ='Qtrly''s-Cntsht Book'!S11 -> 56 | L9: ='Qtrly''s-Cntsht Book'!T11 -> 56.5 | M9: ='Qtrly''s-Cntsht Book'!U11 -> 51.8 | N9: =SUM(B9:M9)/12 -> 51.541667 | O9: =N9*365 -> 18812.708
A10: Lemon Creek CC | B10: ='Qtrly''s-Cntsht Book'!D12 -> 216.2 | C10: ='Qtrly''s-Cntsht Book'!E12 -> 220 | D10: ='Qtrly''s-Cntsht Book'!F12 -> 229 | E10: ='Qtrly''s-Cntsht Book'!I12 -> 230 | F10: ='Qtrly''s-Cntsht Book'!J12 -> 216 | G10: ='Qtrly''s-Cntsht Book'!K12 -> 216.8 | H10: ='Qtrly''s-Cntsht Book'!N12 -> 208.4 | I10: ='Qtrly''s-Cntsht Book'!O12 -> 202 | J10: ='Qtrly''s-Cntsht Book'!P12 -> 195.3 | K10: ='Qtrly''s-Cntsht Book'!S12 -> 208 | L10: ='Qtrly''s-Cntsht Book'!T12 -> 205.1 | M10: ='Qtrly''s-Cntsht Book'!U12 -> 193.5 | N10: =SUM(B10:M10)/12 -> 211.69167 | O10: =N10*365 -> 77267.458
A11: Mat-Su CC | B11: ='Qtrly''s-Cntsht Book'!D13 -> 101.3 | C11: ='Qtrly''s-Cntsht Book'!E13 -> 100 | D11: ='Qtrly''s-Cntsht Book'!F13 -> 91 | E11: ='Qtrly''s-Cntsht Book'!I13 -> 102 | F11: ='Qtrly''s-Cntsht Book'!J13 -> 101.5 | G11: ='Qtrly''s-Cntsht Book'!K13 -> 98.4 | H11: ='Qtrly''s-Cntsht Book'!N13 -> 87.8 | I11: ='Qtrly''s-Cntsht Book'!O13 -> 89 | J11: ='Qtrly''s-Cntsht Book'!P13 -> 98.2 | K11: ='Qtrly''s-Cntsht Book'!S13 -> 90 | L11: ='Qtrly''s-Cntsht Book'!T13 -> 92 | M11: ='Qtrly''s-Cntsht Book'!U13 -> 93.3 | N11: =SUM(B11:M11)/12 -> 95.375 | O11: =N11*365 -> 34811.875
A12: Palmer CC | B12: ='Qtrly''s-Cntsht Book'!D14 -> 477.7 | C12: ='Qtrly''s-Cntsht Book'!E14 -> 357 | D12: ='Qtrly''s-Cntsht Book'!F14 -> 279 | E12: ='Qtrly''s-Cntsht Book'!I14 -> 110 | F12: ='Qtrly''s-Cntsht Book'!J14 -> 0 | G12: ='Qtrly''s-Cntsht Book'!K14 -> 0 | H12: ='Qtrly''s-Cntsht Book'!N14 -> 0 | I12: ='Qtrly''s-Cntsht Book'!O14 -> 0 | J12: ='Qtrly''s-Cntsht Book'!P14 -> 0 | K12: ='Qtrly''s-Cntsht Book'!S14 -> 0 | L12: ='Qtrly''s-Cntsht Book'!T14 -> 0 | M12: ='Qtrly''s-Cntsht Book'!U14 -> 0 | N12: =SUM(B12:M12)/4 -> 305.925 | O12: =N12*123 -> 37628.775 | P12: *
A13: Pt. MacKenzie | B13: ='Qtrly''s-Cntsht Book'!D15 -> 52.8 | C13: ='Qtrly''s-Cntsht Book'!E15 -> 54 | D13: ='Qtrly''s-Cntsht Book'!F15 -> 57 | E13: ='Qtrly''s-Cntsht Book'!I15 -> 69 | F13: ='Qtrly''s-Cntsht Book'!J15 -> 108.9 | G13: ='Qtrly''s-Cntsht Book'!K15 -> 125.3 | H13: ='Qtrly''s-Cntsht Book'!N15 -> 125 | I13: ='Qtrly''s-Cntsht Book'!O15 -> 125 | J13: ='Qtrly''s-Cntsht Book'!P15 -> 123.2 | K13: ='Qtrly''s-Cntsht Book'!S15 -> 119 | L13: ='Qtrly''s-Cntsht Book'!T15 -> 110.8 | M13: ='Qtrly''s-Cntsht Book'!U15 -> 88 | N13: =SUM(B13:M13)/12 -> 96.5 | O13: =N13*365 -> 35222.5
A14: Spring Creek CC | B14: ='Qtrly''s-Cntsht Book'!D16 -> 523.6 | C14: ='Qtrly''s-Cntsht Book'!E16 -> 516 | D14: ='Qtrly''s-Cntsht Book'!F16 -> 518 | E14: ='Qtrly''s-Cntsht Book'!I16 -> 520 | F14: ='Qtrly''s-Cntsht Book'!J16 -> 494.8 | G14: ='Qtrly''s-Cntsht Book'!K16 -> 491.1 | H14: ='Qtrly''s-Cntsht Book'!N16 -> 484 | I14: ='Qtrly''s-Cntsht Book'!O16 -> 491 | J14: ='Qtrly''s-Cntsht Book'!P16 -> 485.5 | K14: ='Qtrly''s-Cntsht Book'!S16 -> 485 | L14: ='Qtrly''s-Cntsht Book'!T16 -> 463 | M14: ='Qtrly''s-Cntsht Book'!U16 -> 396.9 | N14: =SUM(B14:M14)/12 -> 489.075 | O14: =N14*365 -> 178512.38
A15: Wildwood CC | B15: ='Qtrly''s-Cntsht Book'!D17 -> 372.5 | C15: ='Qtrly''s-Cntsht Book'!E17 -> 389 | D15: ='Qtrly''s-Cntsht Book'!F17 -> 379 | E15: ='Qtrly''s-Cntsht Book'!I17 -> 390 | F15: ='Qtrly''s-Cntsht Book'!J17 -> 400.1 | G15: ='Qtrly''s-Cntsht Book'!K17 -> 394.2 | H15: ='Qtrly''s-Cntsht Book'!N17 -> 394 | I15: ='Qtrly''s-Cntsht Book'!O17 -> 374.9 | J15: ='Qtrly''s-Cntsht Book'!P17 -> 368.9 | K15: ='Qtrly''s-Cntsht Book'!S17 -> 376 | L15: ='Qtrly''s-Cntsht Book'!T17 -> 377.7 | M15: ='Qtrly''s-Cntsht Book'!U17 -> 410.2 | N15: =SUM(B15:M15)/12 -> 385.54167 | O15: =N15*365 -> 140722.71
A16: Yukon-Kuskokwim CC | B16: ='Qtrly''s-Cntsht Book'!D18 -> 177.7 | C16: ='Qtrly''s-Cntsht Book'!E18 -> 158 | D16: ='Qtrly''s-Cntsht Book'!F18 -> 166 | E16: ='Qtrly''s-Cntsht Book'!I18 -> 175 | F16: ='Qtrly''s-Cntsht Book'!J18 -> 181.1 | G16: ='Qtrly''s-Cntsht Book'!K18 -> 172.9 | H16: ='Qtrly''s-Cntsht Book'!N18 -> 167.4 | I16: ='Qtrly''s-Cntsht Book'!O18 -> 150 | J16: ='Qtrly''s-Cntsht Book'!P18 -> 139.5 | K16: ='Qtrly''s-Cntsht Book'!S18 -> 149 | L16: ='Qtrly''s-Cntsht Book'!T18 -> 152.8 | M16: ='Qtrly''s-Cntsht Book'!U18 -> 159.8 | N16: =SUM(B16:M16)/12 -> 162.43333 | O16: =N16*365 -> 59288.167
A17: Tents | B17: ='Qtrly''s-Cntsht Book'!D19 -> 0 | C17: ='Qtrly''s-Cntsht Book'!E19 -> 0 | D17: ='Qtrly''s-Cntsht Book'!F19 -> 0 | E17: ='Qtrly''s-Cntsht Book'!I19 -> 0 | F17: ='Qtrly''s-Cntsht Book'!J19 -> 0 | G17: ='Qtrly''s-Cntsht Book'!K19 -> 0 | H17: ='Qtrly''s-Cntsht Book'!N19 -> 0 | I17: ='Qtrly''s-Cntsht Book'!O19 -> 0 | J17: ='Qtrly''s-Cntsht Book'!P19 -> 0 | K17: ='Qtrly''s-Cntsht Book'!S19 -> - | L17: ='Qtrly''s-Cntsht Book'!T19 -> - | M17: ='Qtrly''s-Cntsht Book'!U19 -> - | N17: =SUM(B17:M17)/12 -> 0 | O17: =N17*365 -> 0
A18: TOTAL INSTITUTIONS | B18: =SUM(B4:B17) -> 4684.9 | C18: =SUM(C4:C17) -> 4636 | D18: =SUM(D4:D17) -> 4556 | E18: =SUM(E4:E17) -> 4610 | F18: =SUM(F4:F17) -> 4409.4 | G18: =SUM(G4:G17) -> 4371.4 | H18: =SUM(H4:H17) -> 4257 | I18: =SUM(I4:I17) -> 4213.1 | ... M18: =SUM(M4:M17) -> 4250.5 | N18: =SUM(B18:M18)/12 -> 4393.8417 | O18: =SUM(O4:O17) -> 1604160.1
A19: Other
A20: CRC's | B20: ='Qtrly''s-Cntsht Book'!D22 -> 495.61 | C20: ='Qtrly''s-Cntsht Book'!E22 -> 470 | D20: ='Qtrly''s-Cntsht Book'!F22 -> 476 | E20: ='Qtrly''s-Cntsht Book'!I22 -> 430 | F20: ='Qtrly''s-Cntsht Book'!J22 -> 435 | G20: ='Qtrly''s-Cntsht Book'!K22 -> 424 | H20: ='Qtrly''s-Cntsht Book'!N22 -> 412 | I20: ='Qtrly''s-Cntsht Book'!O22 -> 432 | J20: ='Qtrly''s-Cntsht Book'!P22 -> 398 | K20: ='Qtrly''s-Cntsht Book'!S22 -> 408 | L20: ='Qtrly''s-Cntsht Book'!T22 -> 396.97 | M20: ='Qtrly''s-Cntsht Book'!U22 -> 386 | N20: =SUM(B20:M20)/12 -> 430.29833 | O20: =N20*365 -> 157058.89
A21: CRC Offender Supervision | B21: ='Qtrly''s-Cntsht Book'!D23 -> 15.49 | C21: ='Qtrly''s-Cntsht Book'!E23 -> 9 | D21: ='Qtrly''s-Cntsht Book'!F23 -> 10 | E21: ='Qtrly''s-Cntsht Book'!I23 -> 12 | F21: ='Qtrly''s-Cntsht Book'!J23 -> 16 | G21: ='Qtrly''s-Cntsht Book'!K23 -> 14 | H21: ='Qtrly''s-Cntsht Book'!N23 -> 15 | I21: ='Qtrly''s-Cntsht Book'!O23 -> 15 | J21: ='Qtrly''s-Cntsht Book'!P23 -> 15 | K21: ='Qtrly''s-Cntsht Book'!S23 -> 15 | L21: ='Qtrly''s-Cntsht Book'!T23 -> 13.55 | M21: ='Qtrly''s-Cntsht Book'!U23 -> 12 | N21: =SUM(B21:M21)/12 -> 13.503333 | O21: =N21*365 -> 4928.7167
A22: Treatment Beds | B22: ='Qtrly''s-Cntsht Book'!D24 -> 14 | C22: ='Qtrly''s-Cntsht Book'!E24 -> 15 | D22: ='Qtrly''s-Cntsht Book'!F24 -> 15 | E22: ='Qtrly''s-Cntsht Book'!I24 -> 15 | F22: ='Qtrly''s-Cntsht Book'!J24 -> 15 | G22: ='Qtrly''s-Cntsht Book'!K24 -> 16 | H22: ='Qtrly''s-Cntsht Book'!N24 -> 14 | I22: ='Qtrly''s-Cntsht Book'!O24 -> 14 | J22: ='Qtrly''s-Cntsht Book'!P24 -> 17 | K22: ='Qtrly''s-Cntsht Book'!S24 -> 21 | L22: ='Qtrly''s-Cntsht Book'!T24 -> 23.13 | M22: ='Qtrly''s-Cntsht Book'!U24 -> 21 | N22: =SUM(B22:M22)/12 -> 16.6775 | O22: =N22*365 -> 6087.2875
A23: Electronic Monitoring | B23: ='Qtrly''s-Cntsht Book'!D25 -> 335 | C23: ='Qtrly''s-Cntsht Book'!E25 -> 303 | D23: ='Qtrly''s-Cntsht Book'!F25 -> 291 | E23: ='Qtrly''s-Cntsht Book'!I25 -> 282 | F23: ='Qtrly''s-Cntsht Book'!J25 -> 279 | G23: ='Qtrly''s-Cntsht Book'!K25 -> 286 | H23: ='Qtrly''s-Cntsht Book'!N25 -> 275 | I23: ='Qtrly''s-Cntsht Book'!O25 -> 263 | J23: ='Qtrly''s-Cntsht Book'!P25 -> 253 | K23: ='Qtrly''s-Cntsht Book'!S25 -> 290 | L23: ='Qtrly''s-Cntsht Book'!T25 -> 299 | M23: ='Qtrly''s-Cntsht Book'!U25 -> 286 | N23: =SUM(B23:M23)/12 -> 286.83333 | O23: =N23*365 -> 104694.17
A24: Colorado | B24: ='Qtrly''s-Cntsht Book'!D26 -> N/A | C24: ='Qtrly''s-Cntsht Book'!E26 -> N/A | D24: ='Qtrly''s-Cntsht Book'!F26 -> N/A | E24: ='Qtrly''s-Cntsht Book'!I26 -> N/A | F24: ='Qtrly''s-Cntsht Book'!J26 -> N/A | G24: ='Qtrly''s-Cntsht Book'!K26 -> N/A | H24: ='Qtrly''s-Cntsht Book'!N26 -> N/A | I24: ='Qtrly''s-Cntsht Book'!O26 -> N/A | J24: ='Qtrly''s-Cntsht Book'!P26 -> N/A | K24: ='Qtrly''s-Cntsht Book'!S26 -> N/A | L24: ='Qtrly''s-Cntsht Book'!T26 -> N/A | M24: ='Qtrly''s-Cntsht Book'!U26 -> N/A | N24: =SUM(B24:M24)/3 -> 0 | O24: =N24*365 -> 0
A25: Other Out Of State | B25: ='Qtrly''s-Cntsht Book'!D27 -> 9 | C25: ='Qtrly''s-Cntsht Book'!E27 -> 9 | D25: ='Qtrly''s-Cntsht Book'!F27 -> 9 | E25: ='Qtrly''s-Cntsht Book'!I27 -> 9 | F25: ='Qtrly''s-Cntsht Book'!J27 -> 9 | G25: ='Qtrly''s-Cntsht Book'!K27 -> 9 | H25: ='Qtrly''s-Cntsht Book'!N27 -> 9 | I25: ='Qtrly''s-Cntsht Book'!O27 -> 9 | J25: ='Qtrly''s-Cntsht Book'!P27 -> 9 | K25: ='Qtrly''s-Cntsht Book'!S27 -> 9 | L25: ='Qtrly''s-Cntsht Book'!T27 -> 9 | M25: ='Qtrly''s-Cntsht Book'!U27 -> 9 | N25: =SUM(B25:M25)/12 -> 9 | O25: =N25*365 -> 3285
A26: TOTAL OTHER | B26: =SUM(B20:B25) -> 869.1 | C26: =SUM(C20:C25) -> 806 | D26: =SUM(D20:D25) -> 801 | E26: =SUM(E20:E25) -> 748 | F26: =SUM(F20:F25) -> 754 | G26: =SUM(G20:G25) -> 749 | H26: =SUM(H20:H25) -> 725 | I26: =SUM(I20:I25) -> 733 | ... O26: =SUM(O20:O25) -> 276054.06
A27: GRAND TOTAL | B27: =B18+B26 -> 5554 | C27: =C18+C26 -> 5442 | D27: =D18+D26 -> 5357 | E27: =E18+E26 -> 5358 | F27: =F18+F26 -> 5163.4 | G27: =G18+G26 -> 5120.4 | H27: =H18+H26 -> 4982 | I27: =I18+I26 -> 4946.1 | ... M27: =M18+M26 -> 4964.5 | N27: =SUM(B27:M27)/12 -> 5150.1542 | O27: =O18+O26 -> 1880214.2
A33: Updated: 9/15/17 lj

Sheet Avg Daily Community Jails
A1: JULY 2014 TO JUNE 2015--NUMBER OF MAN-DAYS
A3: CAP DAYS | B3: 15 | C3: 7 | D3: 15 | E3: 20 | F3: 14 | G3: 10 | H3: 30 | I3: 30 | J3: 30 | K3: 15 | L3: 30 | M3: 10 | N3: 30 | O3: 10 | P3: 30
B4: Bristol Bay | C4: Cordova | D4: Craig | E4: Dillingham | F4: Haines | G4: Homer | H4: Kodiak | I4: Kotzebue | J4: NSB | K4: Petersburg | L4: Seward | M4: Sitka | N4: Unalaska | O4: Valdez | P4: Wrangell
A5: July | B5: 77 | C5: 50.5 | D5: 129 | E5: 274 | F5: 14 | G5: 87.5 | H5: 773.5 | I5: 309 | J5: 452.5 | K5: 91 | L5: 104.5 | M5: 151 | N5: 38 | O5: 118 | P5: 114
A6: August | B6: 50 | C6: 65 | D6: 160.5 | E6: 270 | F6: 24 | G6: 96 | H6: 913 | I6: 305 | J6: 405.5 | K6: 29.5 | L6: 104 | M6: 223 | N6: 82 | O6: 120 | P6: 106
A7: September | B7: 36 | C7: 37 | D7: 203.5 | E7: 230 | F7: 42 | G7: 105.5 | H7: 817 | I7: 148.5 | J7: 361 | K7: 83 | L7: 103.5 | M7: 255 | N7: 74 | O7: 88 | P7: 120
A8: October | B8: 37 | C8: 51.5 | D8: 205.5 | E8: 263 | F8: 6 | G8: 56 | H8: 764.5 | I8: 290.5 | J8: 376 | K8: 25.5 | L8: 247.5 | M8: 247.5 | N8: 59 | O8: 65 | P8: 101
A9: November | B9: 15 | C9: 20.5 | D9: 135.5 | E9: 143 | F9: 6 | G9: 73.5 | H9: 792.5 | I9: 275 | J9: 224.5 | K9: 36 | L9: 120 | M9: 185.5 | N9: 103 | O9: 116.5 | P9: 55
A10: December | B10: 39 | C10: 16 | D10: 95.5 | E10: 183 | F10: 16 | G10: 69 | H10: 865 | I10: 279.5 | J10: 149 | K10: 28 | L10: 153.5 | M10: 170 | N10: 117 | O10: 37 | P10: 51
A11: January | B11: 34.5 | C11: 18 | D11: 157.5 | E11: 261 | F11: 13 | G11: 90 | H11: 876.5 | I11: 263 | J11: 206 | K11: 25.5 | L11: 55.5 | M11: 317.5 | N11: 202 | O11: 53 | P11: 7
A12: February | B12: 18 | C12: 18.5 | D12: 171.5 | E12: 195 | F12: 2 | G12: 56 | H12: 914.5 | I12: 307.5 | J12: 223 | K12: 63.5 | L12: 64.5 | M12: 141 | N12: 87.5 | O12: 79 | P12: 59
A13: March | B13: 31 | C13: 49 | D13: 158 | E13: 138 | F13: 4.5 | G13: 54.5 | H13: 866 | I13: 292.5 | J13: 304 | K13: 48.5 | L13: 56.5 | M13: 239 | N13: 106 | O13: 41.5 | P13: 77
A14: April | B14: 14 | C14: 46 | D14: 106.5 | E14: 187 | F14: 31 | G14: 77.5 | H14: 1051.5 | I14: 347.5 | J14: 207 | K14: 36.5 | L14: 91 | M14: 253.5 | N14: 109 | O14: 61 | P14: 66
A15: May | B15: 25.5 | C15: 2 | D15: 117.5 | E15: 182 | F15: 11 | G15: 86 | H15: 929.5 | I15: 386.5 | J15: 260.5 | K15: 24 | L15: 34.5 | M15: 209 | N15: 71.5 | O15: 67 | P15: 79
A16: June | B16: 53 | C16: 25.5 | D16: 87.5 | E16: 191 | F16: 22 | G16: 82 | H16: 841.5 | I16: 284.5 | J16: 340.5 | K16: 8.5 | L16: 59 | M16: 209.5 | N16: 136.5 | O16: 107.5 | P16: 53 | Q16: Total
A17: Total | B17: =SUM(B5:B16) -> 430 | C17: =SUM(C5:C16) -> 399.5 | D17: =SUM(D5:D16) -> 1728 | E17: =SUM(E5:E16) -> 2517 | F17: =SUM(F5:F16) -> 191.5 | G17: =SUM(G5:G16) -> 933.5 | H17: =SUM(H5:H16) -> 10405 | I17: =SUM(I5:I16) -> 3489 | ... P17: =SUM(P5:P16) -> 888 | Q17: Man-days
A18: Average | B18: =AVERAGE(B5:B16) -> 35.833333 | C18: =AVERAGE(C5:C16) -> 33.291667 | D18: =AVERAGE(D5:D16) -> 144 | E18: =AVERAGE(E5:E16) -> 209.75 | F18: =AVERAGE(F5:F16) -> 15.958333 | G18: =AVERAGE(G5:G16) -> 77.791667 | H18: =AVERAGE(H5:H16) -> 867.08333 | I18: =AVERAGE(I5:I16) -> 290.75 | ... P18: =AVERAGE(P5:P16) -> 74 | Q18: =SUM(B17:P17) -> 30925
A20: COC CY2016 | B20: =Q18/365 -> 84.726027
A21: Average Daily Community Jail Population for Fiscal Year 2015 | H21: =B20 -> 84.726027
A24: JULY 2015 TO JUNE 2016-NUMBER OF PERSONS
A26: BEDS | B26: 4 | C26: 6 | D26: 7 | E26: 8 | F26: 6 | G26: 7 | H26: 22 | I26: 12 | J26: 9 | K26: 12 | L26: 14 | M26: 15 | N26: 10 | O26: 13 | P26: 12 | Q26: =SUM(B26:P26) -> 157
B27: Bristol Bay | C27: Cordova | D27: Craig | E27: Dillingham | F27: Haines | G27: Homer | H27: Kodiak | I27: Kotzebue | J27: NSB | K27: Petersburg | L27: Seward | M27: Sitka | N27: Unalaska | O27: Valdez | P27: Wrangell
A28: July | B28: 46 | C28: 8 | D28: 38 | E28: 58 | F28: 2 | G28: 44 | H28: 92 | I28: 93 | J28: 74 | K28: 7 | L28: 47 | M28: 42 | N28: 22 | O28: 25 | P28: 8
A29: August | B29: 10 | C29: 5 | D29: 37 | E29: 71 | F29: 5 | G29: 67 | H29: 86 | I29: 88 | J29: 55 | K29: 17 | L29: 65 | M29: 56 | N29: 23 | O29: 22 | P29: 5
A30: September | B30: 12 | C30: 8 | D30: 33 | E30: 72 | F30: 5 | G30: 39 | H30: 87 | I30: 104 | J30: 72 | K30: 14 | L30: 32 | M30: 63 | N30: 17 | O30: 22 | P30: 6
A31: October | B31: 15 | C31: 4 | D31: 46 | E31: 65 | F31: 5 | G31: 44 | H31: 84 | I31: 114 | J31: 72 | K31: 9 | L31: 21 | M31: 67 | N31: 32 | O31: 24 | P31: 8
A32: November | B32: 3 | C32: 6 | D32: 36 | E32: 40 | F32: 4 | G32: 33 | H32: 71 | I32: 69 | J32: 55 | K32: 4 | L32: 18 | M32: 44 | N32: 31 | O32: 18 | P32: 3
A33: December | B33: 6 | C33: 6 | D33: 17 | E33: 48 | F33: 2 | G33: 37 | H33: 91 | I33: 83 | J33: 59 | K33: 5 | L33: 17 | M33: 51 | N33: 23 | O33: 18 | P33: 10
A34: January | B34: 1 | C34: 5 | D34: 25 | E34: 41 | F34: 4 | G34: 41 | H34: 82 | I34: 97 | J34: 63 | K34: 12 | L34: 18 | M34: 55 | N34: 15 | O34: 16 | P34: 10
A35: February | B35: 9 | C35: 8 | D35: 19 | E35: 34 | F35: 11 | G35: 50 | H35: 62 | I35: 94 | J35: 49 | K35: 1 | L35: 25 | M35: 34 | N35: 25 | O35: 13 | P35: 5
A36: March | B36: 4 | C36: 5 | D36: 25 | E36: 58 | F36: 4 | G36: 38 | H36: 87 | I36: 96 | J36: 61 | K36: 9 | L36: 24 | M36: 49 | N36: 23 | O36: 16 | P36: 6
A37: April | B37: 2 | C37: 7 | D37: 29 | E37: 48 | F37: 8 | G37: 34 | H37: 73 | I37: 101 | J37: 44 | K37: 10 | L37: 33 | M37: 55 | N37: 20 | O37: 11 | P37: 5
A38: May | B38: 5 | C38: 7 | D38: 18 | E38: 60 | F38: 4 | G38: 53 | H38: 60 | I38: 103 | J38: 50 | K38: 8 | L38: 31 | M38: 44 | N38: 15 | O38: 12 | P38: 7
A39: June | B39: 15 | C39: 5 | D39: 18 | E39: 70 | F39: 4 | G39: 49 | H39: 57 | I39: 122 | J39: 65 | K39: 11 | L39: 29 | M39: 41 | N39: 15 | O39: 17 | P39: 6 | Q39: Total
A40: Total | B40: =SUM(B28:B39) -> 128 | C40: =SUM(C28:C39) -> 74 | D40: =SUM(D28:D39) -> 341 | E40: =SUM(E28:E39) -> 665 | F40: =SUM(F28:F39) -> 58 | G40: =SUM(G28:G39) -> 529 | H40: =SUM(H28:H39) -> 932 | I40: =SUM(I28:I39) -> 1164 | ... P40: =SUM(P28:P39) -> 79 | Q40: Persons
A41: Average | B41: =AVERAGE(B28:B39) -> 10.666667 | C41: =AVERAGE(C28:C39) -> 6.1666667 | D41: =AVERAGE(D28:D39) -> 28.416667 | E41: =AVERAGE(E28:E39) -> 55.416667 | F41: =AVERAGE(F28:F39) -> 4.8333333 | G41: =AVERAGE(G28:G39) -> 44.083333 | H41: =AVERAGE(H28:H39) -> 77.666667 | I41: =AVERAGE(I28:I39) -> 97 | ... P41: =AVERAGE(P28:P39) -> 6.5833333 | Q41: =SUM(B40:P40) -> 6232
A43: JULY 2015 TO JUNE 2016--NUMBER OF MAN-DAYS
A45: CAP DAYS | B45: 15 | C45: 7 | D45: 15 | E45: 20 | F45: 14 | G45: 10 | H45: 30 | I45: 30 | J45: 30 | K45: 15 | L45: 30 | M45: 10 | N45: 30 | O45: 10 | P45: 30
B46: Bristol Bay | C46: Cordova | D46: Craig | E46: Dillingham | F46: Haines | G46: Homer | H46: Kodiak | I46: Kotzebue | J46: NSB | K46: Petersburg | L46: Seward | M46: Sitka | N46: Unalaska | O46: Valdez | P46: Wrangell
A47: July | B47: 98 | C47: 19.5 | D47: 136 | E47: 212 | F47: 2 | G47: 57 | H47: 936.5 | I47: 282 | J47: 359.5 | K47: 17.5 | L47: 76.5 | M47: 238 | N47: 124.5 | O47: 106 | P47: 62
...

Sheet IADP-By Gender
A2: DAILY AVERAGE BY INSTITUTION BY SEX BY CRIME DEGREE: FY2017
A3: LOCATION | B3: Misd Male Sent | C3: Misd Male Unsent | D3: Misd Female Sent | E3: Misd Female Unsent | F3: Felony Female Sent | G3: Felony Female Unsent | H3: Grand Total
A4: ANCHORAGE CC EAST | B4: 2.1201 | C4: 101.121 | D4: 0.0472 | E4: 8.0131 | F4: 0.08 | G4: 7.771 | H4: 119.1524
A5: ANCHORAGE CC WEST | B5: 0.5897 | C5: 26.291 | D5: 0 | E5: 0 | F5: 0 | G5: 0 | H5: 26.8807
A6: ANVIL MTN CC | B6: 3.4442 | C6: 7.305 | D6: 0.6395 | E6: 1.4009 | F6: 0.449 | G6: 6.523 | H6: 19.7616
A7: FAIRBANKS CC | B7: 5.2377 | C7: 55.529 | D7: 0.2056 | E7: 11.4164 | F7: 0.994 | G7: 16.23 | H7: 89.6127
A8: GOOSE CREEK CC | B8: 15.47 | C8: 27.628 | D8: 0 | E8: 0 | F8: 0 | G8: 0 | H8: 43.098
A9: HILAND MTN CC | B9: 0 | C9: 0 | D9: 3.0497 | E9: 42.7831 | F9: 120.184 | G9: 144.072 | H9: 310.0888
A10: KETCHIKAN CC | B10: 1.6438 | C10: 2.809 | D10: 0.1697 | E10: 0.5788 | F10: 1.079 | G10: 8.363 | H10: 14.6433
A11: LEMON CREEK CC | B11: 4.9796 | C11: 15.375 | D11: 0.1541 | E11: 3.8286 | F11: 4.841 | G11: 9.269 | H11: 38.4473
A12: MATSU PRETRIAL | B12: 0.1536 | C12: 19.269 | D12: 0.0321 | E12: 4.7213 | F12: 0.204 | G12: 5.369 | H12: 29.749
A13: PALMER-MED CC | B13: 2.3536 | C13: 0.079 | D13: 0 | E13: 0.0038 | F13: 0 | G13: 0 | H13: 2.4364
A14: PALMER-MIN CC | B14: 1.2313 | C14: 0 | D14: 0 | E14: 0 | F14: 0 | G14: 0 | H14: 1.2313
A15: PT. MACKENZIE CF | B15: 0 | C15: 0 | D15: 0 | E15: 0 | F15: 0 | G15: 0 | H15: 0
A16: SPRING CREEK CC | B16: 10.6701 | C16: 0 | D16: 0 | E16: 0 | F16: 0 | G16: 0 | H16: 10.6701
A17: WILDWOOD CC | B17: 1.2382 | C17: 6.939 | D17: 0 | E17: 0 | F17: 0 | G17: 0 | H17: 8.1772 | J17: AVG Daily
A18: WILDWOOD PRETRIAL | B18: 0.1005 | C18: 5.668 | D18: 0.0497 | E18: 3.7612 | F18: 0.422 | G18: 21.751 | H18: 31.7524 | J18: Female
A19: WILDWOOD TRANSITIONAL | B19: 0.983 | C19: 2.976 | D19: 0 | E19: 0 | F19: 0 | G19: 0 | H19: 3.959 | J19: Population
A20: YUKON-KUSKOKWIM CC | B20: 1.3541 | C20: 22.963 | D20: 0.3473 | E20: 3.0013 | F20: 0.1 | G20: 4.337 | H20: 32.1027 | J20: (Sched-A)
A21: INSTITUTION TOTAL | B21: 51.5695 | C21: 293.952 | D21: 4.6949 | E21: 79.5085 | F21: 128.353 | G21: 223.685 | H21: 781.7629 | J21: 436.2414
A22: AKEELA HOUSE | B22: 0 | C22: 0 | D22: 0 | E22: 0 | F22: 0 | G22: 0 | H22: 0.47
A23: CLITHEROE | B23: 0 | C23: 0 | D23: 0 | E23: 0 | F23: 4.304 | G23: 0 | H23: 7.3
A24: CORDOVA CTR | B24: 29.6133 | C24: 59.044 | D24: 0.9258 | E24: 0.3038 | F24: 0.281 | G24: 0.285 | H24: 117.32
A25: GLACIER MANOR | B25: 1.401 | C25: 0.669 | D25: 0 | E25: 0.5646 | F25: 0.576 | G25: 0 | H25: 49.69
A26: GLENNWOOD CTR | B26: 0 | C26: 0 | D26: 0.2487 | E26: 0 | F26: 14.934 | G26: 0 | H26: 67.26
A27: MIDTOWN CTR - ANCH | B27: 0 | C27: 0 | D27: 10.2347 | E27: 4.0091 | F27: 10.14 | G27: 1.529 | H27: 25.91
A28: NORTH STAR CTR | B28: 6.8021 | C28: 11.214 | D28: 0.5814 | E28: 0.6869 | F28: 3.723 | G28: 0 | H28: 51.37
A29: PARKVIEW | B29: 1.0261 | C29: 4.818 | D29: 0 | E29: 0 | F29: 0 | G29: 0 | H29: 17.69
A30: PHILLIPS AYAGNIRVIK TC | B30: . | C30: . | D30: . | E30: . | F30: . | G30: . | H30: .
