Workbook

Sheet Daily Cost Calc
A1: DAILY COST OF CARE CALCULATIONS
A2: Total Institutional Costs | B2: ='BILLING RATE CALC'!F23 -> 2.6289755e+08
A3: Daily Cost (Divided by 365 days) | B3: =B2/365 -> 720267.27
A4: Average Daily Institutional Population for Fiscal Year 2016 | B4: ='Inmate Avg Daily Population'!N18 -> 4814
A5: Annual Total Mandays for Fiscal Year 2016 | B5: =B4*365 -> 1757110
A6: Daily Cost per Institutional Prisoner | B6: ='BILLING RATE CALC'!G23 -> 149.61929
A9: Total Community Residential Centers Costs | B9: ='COST ALLOCATION'!J34 -> 24735206
A10: Daily Cost (Divided by 365 days) | B10: =B9/365 -> 67767.688
A11: Average Daily CRC Population for Fiscal Year 2016 | B11: ='Inmate Avg Daily Population'!N20+'Inmate Avg Daily Population'!N21 -> 643.9
A12: Annual Total Mandays for Fiscal Year 2016 | B12: =B11*365 -> 235023.5
A13: Daily Cost Per Community Residential Center Inmate | B13: =B10/B11 -> 105.24567
A16: Total Probation/Parole Costs | B16: ='COST ALLOCATION'!J31+'COST ALLOCATION'!J30 -> 18347154
A17: Daily Cost (Divided by 365 days) | B17: =B16/365 -> 50266.176
A18: Average Daily Probationers/Parole Served for Fiscal Year 2016 | B18: ='Monthly PO Workload Stats'!O280 -> 5359.6667 | C18: ?
A19: Annual Total Mandays for Fiscal Year 2016 | B19: =B18*365 -> 1956278.3
A20: Daily Cost per Probationer/Parolee | B20: =B17/B18 -> 9.3786011
A23: Total Community Jail Costs | B23: ='COST ALLOCATION'!J29 -> 7227523.2
A24: Daily Cost (Divided by 365 days) | B24: =B23/365 -> 19801.433
A25: Average Daily Community Jail Population for Fiscal Year 2016 | B25: ='Avg Daily Community Jails'!H125 -> 77.095342 | C25: ?
A26: Annual Total Mandays for Fiscal Year 2016 | B26: =B25*365 -> 28139.8
A27: Daily Cost per Prisoner | B27: =B24/B25 -> 256.84345
A30: Total Electronic Monitoring Costs | B30: ='COST ALLOCATION'!J33 -> 3383142.3
A31: Daily Cost (Divided by 365 days) | B31: =B30/365 -> 9268.8831
A32: Average Daily Electronic Monitoring Population for Fiscal Year 2016 | B32: ='Inmate Avg Daily Population'!N23 -> 419.08333 | C32: ?
A33: Annual Total Mandays for Fiscal Year 2016 | B33: =B32*365 -> 152965.42
A34: Daily Cost per Prisoner | B34: =B31/B32 -> 22.117041
A37: Total Out-of-State Contractual Costs | B37: ='COST ALLOCATION'!J32 -> 305866.32
A38: Daily Cost (Divided by 365 days) | B38: =B37/365 -> 837.98991
A39: Average Daily Out-of-State Population for Fiscal Year 2016 | B39: ='Inmate Avg Daily Population'!N24+'Inmate Avg Daily Population'!N25 -> 10.416667
A40: Annual Total Mandays for Fiscal Year 2016 | B40: =B39*365 -> 3802.0833
A41: Daily Cost Per Prisoner | B41: =B38/B39 -> 80.447032
A44: Revised 10/11/16 lj

Sheet Sched-A
A1: COST SHEET FOR DETENTION SERVICES
A2: Section I - General Information
A3: Name of Facility: | B3: Department of Corrections | E3: Physical Address of Facility: | H3: Juneau, Alaska
A4: Phone Number: | B4: (907) 465-3460
A5: Section II - Financial Data Summary
A6: Total Operating Cost for Jail:
A7: A. Time Frame | C7: From: | D7: 42552 | E7: To: | F7: 42916
D8: (month/year) | F8: (month/year) | H8: Annual Cost
A9: B. Total Personnel salary/wage costs (Schedule B - Part I) | H9: ='Sched-B1'!B17 -> 90377301
A10: C. Total Personnel Benefits/Other Personnel Services (Schedule B - Part II) | H10: ='Sched-B1'!C17+'Sched-B1'!D17 -> 54163461
A11: D. Total Consultants and Contract Services (Schedule C) | H11: ='Sched-C'!D24 -> 22259630
A12: E. Other Direct Operating costs (Schedule D1 and D2) | H12: ='Sched-D1'!F658+'Sched-D2'!F114 -> 78936316
A13: F. Indirect Costs (Schedule E)* | H13: ='Sched-E'!E4 -> 9450108.3
A14: G. Equipment Depreciation costs (Schedule F) | H14: ='Sched-F-G'!C18 -> 612060.37
A15: H. Building Depreciation Costs (Schedule G) | H15: ='Sched-F-G'!D38 -> 7493031.7
A16: I. Total Operating Costs (Sum of Schedules B-G) | H16: =SUM(H9:H15) -> 2.6329191e+08
A17: Total Actual Operating Cost for Prior Fiscal Year
A19: COST SHEET FOR DETENTION SERVICES (continued)
A20: Section III - Prisoner Population Information
A21: Time Frame of Prisoner Information | E21: FROM: | F21: 42552 | G21: TO: | H21: 42916
A22: (must correspond with time frame on previous page) | F22: (month/year) | H22: (month/year)
A23: Inmate Capacity of Jail: | D23: MALE | F23: FEMALE | H23: TOTAL
D24: - | F24: - | H24: 5274
A25: Average Daily Population: | D25: MALE | F25: FEMALE | H25: TOTAL
A26: Type of Prisoner | C26: Federal | D26: - | F26: -
C27: Local | D27: - | F27: -
C28: State | D28: - | F28: -
C29: Total | D29: =H29-F29 -> 4267 | F29: ='IADP-By Gender'!L23 -> 547 | H29: ='Inmate Avg Daily Population'!N18 -> 4814
A30: Section IV - Per Diem
A31: Proposed Per Diem Rate for Federal Prisoners: | F31: ='BILLING RATE CALC'!G23 -> 149.61929
A32: State Prisoner Per Diem Rate: | F32: ='BILLING RATE CALC'!G23 -> 149.61929
A33: Section V - Local Government Contact
A34: Please provide the name of the individual authorized to represent and to act for the Local Government in jail day rate negotiations.
A35: Name | B35: April Wilkerson | E35: Department/Office | G35: State of Alaska, Dept of Corrections
A36: Title | B36: Director, Admin. Services | E36: Street | G36: PO Box 112000
A37: Phone | B37: (907) 269-7397 | E37: City | F37: Juneau | G37: State/Zip | H37: AK, 99811
A38: Fax | B38: (907) 465-3315
A39: Section VI - Certification Statement
A40: This is to certify that, to the vest of my knowledge and belief, the data furnished in Schedules B through G are accurate, complete and current, and do not include any unallocable, or unallowable costs prohibited by OMB Circular No. A-87 (Cost Principles for State and Local Governments) or any cost not related to the jail facility as discussed on Form USM-243 (Cost Sheet for Detention Services.) The records of this agency are available for review and audit by the authorized representative of the U.S. Government to verify any jail per diem rate negotiated.
A41: Signature | F41: Date
...

Sheet Sched-B1
A1: TOTAL PERSONAL SERVICES
A2: BY INDIVIDUAL INSTITUTIONS
A3: Facility | B3: Total Wages | C3: Total Benefits | D3: Other Personal Services | E3: Total Personal Services | F3: Number of Employees | G3: General Capacity
A4: Anchorage Complex | B4: 16019909 | C4: 9544857.4 | D4: 11298.94 | E4: =SUM(B4:D4) -> 25576065 | F4: 240 | G4: 829
A5: Anvil Mtn. CC | B5: 3243637.5 | C5: 1762207.4 | D5: 1739.87 | E5: =SUM(B5:D5) -> 5007584.8 | F5: 39 | G5: 126
A6: Comb Hiland Mtn. CC | B6: 6369396.9 | C6: 3820566.8 | D6: -918.16 | E6: =SUM(B6:D6) -> 10189046 | F6: 96 | G6: 395
A7: Fairbanks CC | B7: 5811800.4 | C7: 3445491.5 | D7: 1657.25 | E7: =SUM(B7:D7) -> 9258949.1 | F7: 89 | G7: 248
A8: Goose Creek CC | B8: 19058080 | C8: 12191048 | D8: 15538 | E8: =SUM(B8:D8) -> 31264667 | F8: 333 | G8: 1408
A9: Ketchikan CC | B9: 2539622.9 | C9: 1480168.2 | D9: 2447.77 | E9: =SUM(B9:D9) -> 4022238.9 | F9: 35 | G9: 52
A10: Lemon Creek CC | B10: 5186177.1 | C10: 2989855.5 | D10: 4102.03 | E10: =SUM(B10:D10) -> 8180134.7 | F10: 74 | G10: 226
A11: Mat-Su CC | B11: 2706165.9 | C11: 1572170.4 | D11: -333.83 | E11: =SUM(B11:D11) -> 4278002.5 | F11: 37 | G11: 98
A12: Palmer CC | B12: 6250836.9 | C12: 3794715.4 | D12: 4382.97 | E12: =SUM(B12:D12) -> 10049935 | F12: 101 | G12: =327+176 -> 503
A13: Spring Creek CC | B13: 11434397 | C13: 6801490.3 | D13: 11878.9 | E13: =SUM(B13:D13) -> 18247766 | F13: 171 | G13: 535
A14: Wildwood CC | B14: 7453771.8 | C14: 4459627.2 | D14: 6379.26 | E14: =SUM(B14:D14) -> 11919778 | F14: 115 | G14: =320+110 -> 430
A15: Yukon Kuskokwim CC | B15: 4303505.1 | C15: 2240655.2 | D15: 2434.55 | E15: =SUM(B15:D15) -> 6546594.8 | F15: 41 | G15: 189
A16: Pt. MacKenzie CF | B16: 0 | C16: 0 | D16: 0 | E16: =SUM(B16:D16) -> 0 | F16: 0 | G16: 50
A17: Total | B17: =SUM(B4:B16) -> 90377301 | C17: =SUM(C4:C16) -> 54102854 | D17: =SUM(D4:D16) -> 60607.55 | E17: =SUM(E4:E16) -> 1.4454076e+08 | F17: =SUM(F4:F16) -> 1371 | G17: =SUM(G4:G16) -> 5089
A19: Revised 09/16/16 lj

Sheet Sched-B2
A1: PERSONAL SERVICES BENEFITS BY INDIVIDUAL INSTITUTIONS
A2: Institution | B2: Benefit | C2: %Employer Contribution | D2: Annual Cost | E2: Sub-Total | F2: IRIS Codes
A3: Anchorage Complex | B3: Annual Physical Reimbursement | C3: not a set $ | D3: 288.5 | F3: 1027
B4: AK Supplemental Benefit | C4: 0.0613 | D4: 980569.2 | F4: 1028
B5: Public Employee's Retirement System Defined Benefits | C5: 0.22 | D5: 1728869.2 | F5: 1029
B6: Public Employee's Retirement System Defined Contribution | C6: - | D6: 481548.94 | F6: 1030
B7: Public Employee's Retirement System Defined Cont Health Reim | C7: - | D7: 271980.23 | F7: 1034
B8: Public Employee's Retiremnt Sys Defined Cont Retiree Medical | C8: - | D8: 136739.93 | F8: 1035
B9: Public Employee's Retiremnt Sys Defined Benefit Unfnd Liab | C9: - | D9: 901831.5 | F9: 1037
B10: Unemployment Insurance | C10: 0.004 | D10: 42005.42 | F10: 1039
B11: Group Health Insurance | C11: $1350.25/mo | D11: 3727217.2 | F11: 1040
B12: Basic Life and Travel | C12: $0.00/mo.pp | D12: 9145.77 | F12: 1041
B13: Worker's Compensation Insurance | C13: 0.0004 | D13: 539069.82 | F13: 1042
B14: Leave Cash In Employer Charge | C14: 0.0226 | D14: 329280.91 | F14: 1047
B15: Terminal Leave Employer Charge | C15: 0.0103 | D15: 157837.09 | F15: 1048
B16: ACOA Injury Leave Contribution | C16: $8.00/mo | D16: 14325.13 | F16: 1049
B17: Leave- Holiday | D17: 0
B18: Medicare Tax | C18: 0.0145 | D18: 224148.51 | F18: 1053
B19: Other Personal Services | D19: 11298.94 | F19: 1004 | G19: :Total Object Category
E20: =SUM(D3:D19) -> 9556156.3 | G20: ='Sched-B1'!C4+'Sched-B1'!D4 -> 9556156.3 | H20: =E20-G20 -> 0
A21: Anvil Mtn. CC | B21: Annual Physical Reimbursement | C21: not a set $ | D21: 0
B22: AK Supplemental Benefit | C22: 0.0613 | D22: 198683.19
B23: Public Employee's Retirement System Defined Benefits | C23: 0.22 | D23: 439729.14
B24: Public Employee's Retirement System Defined Contribution | C24: - | D24: 72425.47
B25: Public Employee's Retirement System Defined Cont Health Reim | C25: - | D25: 32808.59
B26: Public Employee's Retiremnt Sys Defined Cont Retiree Medical | C26: - | D26: 20977.73
B27: Public Employee's Retiremnt Sys Defined Benefit Unfnd Liab | C27: - | D27: 148632.1
B28: Unemployment Insurance | C28: =C10 -> 0.004 | D28: 8748.77
B29: Group Health Insurance | C29: =C11 -> $1350.25/mo | D29: 574814
B30: Basic Life & Travel | C30: $0.00/mo.pp | D30: 1385.32
B31: Workman's Compensation | C31: =C13 -> 0.0004 | D31: 110241.67
B32: Leave Cash-in/Payout | C32: =C14 -> 0.0226 | D32: 71297.04
B33: Terminal Leave Charge | C33: =C15 -> 0.0103 | D33: 34259.27
B34: Injury Leave Contribution | C34: =C16 -> $8.00/mo | D34: 2174.34
B35: Medicare Tax | C35: =C18 -> 0.0145 | D35: 46030.82
B36: Other Personal Services | D36: 1739.87
E37: =SUM(D21:D36) -> 1763947.3 | G37: ='Sched-B1'!C5+'Sched-B1'!D5 -> 1763947.3 | H37: =E37-G37 -> 0
A38: Comb Hiland Mt.CC | B38: Annual Physical Reimbursement | C38: not a set $ | D38: 90
B39: AK Supplemental Benefit | C39: 0.0613 | D39: 391518.71
B40: Public Employee's Retirement System Defined Benefits | C40: =C5 -> 0.22 | D40: 890713.87
...

Sheet Sched-C
A1: CONSULTANTS & CONTRACT SERVICES
A2: Type of Service | B2: Description of Service | C2: Number of Contracts | D2: Annual Cost | E2: IRIS CODES
A3: MEDICAL | B3: Non-employee contracted | C3: =23+3+9 -> 35 | D3: 16481620 | E3: 3041
B4: physicians/nurses/PAs/X-ray
B5: Non-employee fee for services | C5: -
B6: physicians/nurses/PAs/X-ray
A8: DENTAL | B8: Non-employee contracted | C8: =5 -> 5 | D8: 360719.78 | E8: 3042
B9: dentist/hygienist/assistant
B10: Non-employee fee for service | C10: -
B11: dentist/hygienist/assistant
A13: SOCIAL COUNSELING | B13: Non-employee contracted | C13: =1+1+21 -> 23 | D13: =3391822.48+1312423.12+68500+116200 -> 4888945.6 | E13: 3040 | F13: Batterer's RSA | G13: FY16: 2 RSA's (BIP $ 68,500 /PBP $ 116,200): DPS
B14: substance abuse,batterers &
B15: sex offender treatment
A17: PSYCHOLOGICAL | B17: Non-employee contracted | C17: 12 | D17: =5232590.93-3391822.48-1312423.12 -> 528345.33 | E17: 3040
A18: COUNSELING | B18: mental health,psychiatric &
B19: psychological services
B20: Non-employee fee for service | C20: -
B21: mental health,psychiatric &
B22: psychological services
A24: TOTAL | C24: =SUM(C3:C23) -> 75 | D24: =SUM(D3:D23) -> 22259630
A26: Revised 9/23/16 lj

Sheet Sched-D1
A1: OTHER DIRECT JAIL OPERATING COSTS
A2: Institution | B2: Description of Cost | D2: Annual Cost | F2: Total | G2: IRIS CODES | H2: CK
A3: Anchorage Complex | B3: Travel | E3: 1844.87 | G3: 2000
B4: Non-Interagency Svcs | E4: =SUM(D5:D33) -> 1911535.9
B5: Training/Conferences | D5: 1944 | G5: 3000
B6: Memberships | D6: 3231 | G6: 3002
B7: Penalties And Fines | D7: 1559.16 | G7: 3013
B8: Claim/Judgement Non-Taxable | D8: 2879.6 | G8: 3016
B9: Uncleared 1Card Transactions | D9: 0 | G9: 3019
B10: Utilities | D10: 1475604.9 | G10: 2100 | H10: :From Alder Report by Location
B11: Software Licensing | D11: 304.5 | G11: 3032
B12: Software Maintenance | D12: 76260.3 | G12: 3033
B13: Long Distance | D13: 2123.68 | G13: 3035
B14: Local/Equipment Charges | D14: 11040.12 | G14: 3036
B15: Data/Network | D15: 1362.94 | G15: 3037
B16: Cellular Phones | D16: 315.61 | G16: 3038
B17: Psychiatric | D17: 1200 | G17: 3040
B18: Medical | D18: 1959.78 | G18: 3041
B19: Freight | D19: 3345.33 | G19: 3043
B20: Courier | D20: 8005.92 | G20: 3044
B21: Postage | D21: 12000 | G21: 3045
B22: Water and Sewage | D22: 49794.33 | G22: 3049
... B32: Commission Sales | D32: 4 | G32: 3069
B34: Interagency Services | D34: 529028.09 | E34: =SUM(D34) -> 529028.09 | G34: 3001
B35: Commodities / Supplies | E35: =SUM(D36:D41) -> 2507653.9
C36: Business | D36: 373418.73 | G36: 4000
C37: Agricultural | D37: 0
C38: Household/Institutional | D38: 1848395.8
C39: Scientific & Medical | D39: 7003.68
C40: Safety | D40: 78693.47
C41: Repair/Maintenance Supplies | D41: 200142.25
B42: Capital Outlay
B43: Equipment & Industrial | D43: 0 | E43: =D43 -> 0 | G43: 5000
F44: =SUM(E3:E43) -> 4950062.7 | H44: ='Sched-B1'!B4+'Sched-B2'!E20+'Sched-D1'!F44-29050522.97-1475604.93 -> 3.4924597e-09
A45: Anvil Mtn. Correctional | B45: Travel | E45: 15602.94
B46: Non-Interagency Svcs | E46: =SUM(D47:D78) -> 826735.76 | H46: =E46+24327.27 -> 851063.03
B47: Less: DHSS RSA Youth Meals | D47: -24327.27 | H47: =H46-E46 -> 24327.27
B48: Training/Conferences | D48: 0 | G48: 3000
B49: Memberships | D49: 919 | G49: 3002
B50: Penalties And Fines | D50: 82.85 | G50: 3013
...

Sheet Sched-D2
A1: OTHER DIRECT JAIL OPERATING COSTS
A2: Institution | B2: Description of Cost | D2: Annual Cost | F2: Total | G2: IRIS CODES
A3: Prison System | B3: Personnel Services | E3: 0
A4: Expansion | B4: Travel | E4: 0
B5: Other Services & Charges | E5: =SUM(D6:D10) -> 0
C6: Education Services | D6: 0
C7: Telecommunications | D7: 0
C8: Delivery Services | D8: 0
C9: Equipment/Machinery | D9: 0
C10: Other Services | D10: 0
C11: Interagency Services | D11: 0 | E11: =SUM(D11) -> 0
B12: Commodities / Supplies | E12: =SUM(D13:D15) -> 0
C13: Business | D13: 0
C14: Safety | D14: 0
C15: Repair/Maintenance Supplies | D15: 0
B16: Capital Outlay | D16: 0 | E16: =SUM(D16) -> 0
F17: =SUM(E3:E16) -> 0 | H17: =F17-0 -> 0
A18: Facility-CAP Imp Unit | B18: Personnel Services | E18: =313260.38+180846.96+658.5 -> 494765.84 | G18: 1001 | H18: 1002 and 1004
B19: Travel | E19: 1107.85
B20: Non-Interagency Svcs | E20: =SUM(D21:D23) -> 11628.34
B21: Uncleared 1Card Transactions | D21: 141.9 | G21: 3019
B22: Software Maintenance | D22: 11468.36 | G22: 3033
B23: Commission Sales | D23: 18.08 | G23: 3069
B24: Interagency Services | D24: 19234.36 | E24: =SUM(D24) -> 19234.36
B25: Commodities / Supplies | E25: =D26+D27 -> 0
C26: Business | D26: 0
C27: Repair/Maintenance Supplies | D27: 0
F28: =SUM(E18:E26) -> 526736.39
A29: Health & Rehabilitation | B29: Personnel Services | E29: 27180320 | H29: Grand Total of 6 components $ 52,710,253.05 BHC, PHC, HRDirector,Domestic V, Substance, Sex Offender)
A30: Services | B30: Travel | E30: 365146.15
B31: Non-Interagency Svcs | D31: 19878557 | E31: =D31 -> 19878557 | G31: 3000
B32: Interagency Services | D32: 1585662.6 | E32: =D32 -> 1585662.6
B33: Commodities / Supplies | E33: =SUM(D34:D37) -> 3672337.1
C34: Business | D34: 267196.74
C35: Household/Institutional | D35: 7877.29
C36: Scientific & Medical | D36: 3396648.6
C37: Repair/Maintenance Supplies | D37: 614.39
B38: Capital Outlay | D38: 28230.55 | E38: =SUM(D38) -> 28230.55
B39: Less: Reimb from Courts (Mental Health Court) | E39: 0
B40: Less: Reimb. from Federal Public Protection: RSAT Grant | E40: -49325 | H40: From ALDER Revenue Report
...

Sheet Sched-E
A1: COST ALLOCATION PLANS / INDIRECT COST PROPOSALS
A2: Organization Providing Service | B2: Appr Type | C2: Total Expenditures | D2: % of Time Spent in Support of Jail Operators | E2: Allowable Indirect Cost
A3: Administration & Support* | B3: JADS / JCOA JCOM / JINT JPAB / JREN JRRE | C3: ='Summary-Sched-E'!C11 -> 11391231 | D3: ='COST ALLOCATION'!H6 -> 0.82959497 | E3: =C3*D3 -> 9450108.3
A4: Sub-Total | E4: =SUM(E3:E3) -> 9450108.3
A5: TOTAL | E5: =SUM(E4:E4) -> 9450108.3
A7: Note*: Includes SF Rent, Correctional Academy, and Parole Board Expenditues
A8: Revised 9/27/16 lj

Sheet Summary-Sched-E
A2: BRU | B2: Appr Type | C2: Total Expenditures of FY2016
A3: Commissioner | B3: JCOM | C3: 1446644.6 | E3: FY2015: Total Exp AR less SB64 PACE RSA, less SB64 1st DUI (JCOM)
A4: Admin Services | B4: JADS | C4: 4103274.4
A5: Info Tech MIS | B5: JINT | C5: 2471719.9
A6: Research & Rcrds | B6: JRRE | C6: 335919.47
A7: Facilities Rent | B7: JREN | C7: 362051.45
A8: Academy | B8: JCOA | C8: 1652699.8
A9: **
A10: Parole Board | B10: JPAB | C10: 1018922
B11: Total | C11: =SUM(C3:C10) -> 11391231
A17: Revised: 09/26/16 lj

Sheet Sched-F-G
A1: EQUIPMENT COST | D1: SCHEDULE F
A2: By Individual Institution
A3: Institutions | B3: Cost of Equipment | C3: Equipment Allowance 6.666%
A4: Anchorage Complex | B4: ='Property Inventory'!D30 -> 1982828.9 | C4: =B4*0.06666 -> 132175.38
A5: Anvil Mt. C.C. | B5: ='Property Inventory'!D21 -> 217067 | C5: =B5*0.06666 -> 14469.686
A6: Comb Hiland Mt.CC | B6: ='Property Inventory'!D29 -> 295858 | C6: =B6*0.06666 -> 19721.894
A7: Fairbanks CC | B7: ='Property Inventory'!D20 -> 423273.64 | C7: =B7*0.06666 -> 28215.421
A8: Goose Creek CC | B8: ='Property Inventory'!D33 -> 1400183 | C8: =B8*0.06666 -> 93336.199
A9: Ketchikan CC | B9: ='Property Inventory'!D42 -> 83614 | C9: =B9*0.06666 -> 5573.7092
A10: Lemon Creek CC | B10: ='Property Inventory'!D41 -> 697651 | C10: =B10*0.06666 -> 46505.416
A11: Mat-Su Pre-Trial | B11: ='Property Inventory'!D28 -> 91523 | C11: =B11*0.06666 -> 6100.9232
A12: Palmer CC | B12: ='Property Inventory'!D27 -> 970070 | C12: =B12*0.06666 -> 64664.866
A13: Pt. MacKenzie Correctional Farm | B13: ='Property Inventory'!D47 -> 519421 | C13: =B13*0.06666 -> 34624.604
A14: Spring Creek CC | B14: ='Property Inventory'!D32 -> 1462092 | C14: =B14*0.06666 -> 97463.053
A15: Wildwood CC | B15: ='Property Inventory'!D31 -> 880516 | C15: =B15*0.06666 -> 58695.197
A16: Yukon Kuskokwim | B16: ='Property Inventory'!D22 -> 157726.14 | C16: =B16*0.06666 -> 10514.024
A18: Total Equipment Cost | B18: =SUM(B4:B17) -> 9181823.7 | C18: =SUM(C4:C17) -> 612060.37
A22: BUILDING DEPRECIATION | D22: SCHEDULE G
A23: By Individual Institution (Based on FY2015 Actuals)
A24: Institutions | B24: All Buildings Construction Cost | C24: Additional Construction Cost | D24: Annual Depreciation @ 2%
A25: Anchorage Complex | B25: 36522437 | C25: 0 | D25: =B25*0.02 -> 730448.74
A26: Anvil Mt. CC | B26: 16192923 | C26: 0 | D26: =B26*0.02 -> 323858.46
A27: Comb Hiland Mt.CC | B27: 45066600 | C27: 0 | D27: =B27*0.02 -> 901332
A28: Fairbanks CC | B28: 34112840 | C28: 0 | D28: =B28*0.02 -> 682256.8
A29: Ketchikan CC | B29: 7691306 | C29: 0 | D29: =B29*0.02 -> 153826.12
A30: Lemon Creek CC | B30: 28845762 | C30: 0 | D30: =B30*0.02 -> 576915.24
A31: Mat-Su Pre-Trial | B31: 10392719 | C31: 0 | D31: =B31*0.02 -> 207854.38
A32: Palmer CC | B32: 41211974 | C32: 0 | D32: =B32*0.02 -> 824239.48
A33: Pt. MacKenzie Correctional Farm | B33: 12269054 | C33: 0 | D33: =B33*0.02 -> 245381.08
A34: Spring Creek CC | B34: 78360986 | C34: 0 | D34: =B34*0.02 -> 1567219.7
A35: Wildwood CC | B35: 51709708 | C35: 0 | D35: =B35*0.02 -> 1034194.2
A36: Yukon Kuskokwim | B36: 12275277 | C36: 0 | D36: =B36*0.02 -> 245505.54
A38: Total Building Depreciation | B38: =SUM(B25:B37) -> 374651586 | C38: =SUM(C25:C37) -> 0 | D38: =SUM(D25:D37) -> 7493031.7
A40: Total Equipment Cost & Building Depreciation | B40: (Schedule F + Schedule G) | D40: =C18+D38 -> 8105092.1
A42: Revised 09/26/16 lj

Sheet Property Inventory
A1: PROPERTY INVENTORY
A2: Division # | B2: Division/Institution | C2: IRIS Unit | D2: Total as of 6/30/16 | E2: Aquired in FY2016 | F2: FY2016 Vehicle Inventory Total | G2: Grand Total
A3: 3 | B3: Commissioner's Office Jnu/Anch | C3: 1000 | D3: 35637 | F3: =9001+2289 -> 11290 | G3: =SUM(D3:F3) -> 46927
A4: 28A | B4: Parole Board | C4: 3000 | D4: 11932 | F4: 4433 | G4: =SUM(D4:F4) -> 16365
B5: Facility Cap Imp Unit | C5: 2250 | D5: 64042 | F5: 4615 | G5: =SUM(D5:F5) -> 68657
B6: Prison System Expansion | C6: 2230 | D6: 5450 | F6: 0 | G6: =SUM(D6:F6) -> 5450
A7: 1 | B7: Juneau Central Office / Admin Svcs | C7: 1100 | D7: 1344355 | F7: =7754+5543 -> 13297 | G7: =SUM(D7:F7) -> 1357652
B8: Information Technology | C8: 1300 | D8: 22779 | F8: 0 | G8: =SUM(D8:F8) -> 22779
A9: 4 | B9: Training Academy | C9: 2260 | D9: 241583 | F9: 14456 | G9: =SUM(D9:F9) -> 256039
B10: Education Programs / Palmer | C10: 2300 | D10: 8512 | F10: 2812 | G10: =SUM(D10:F10) -> 11324
B11: Institution Education Programs | C11: 20661367 | F11: 308 | G11: =SUM(D11:F11) -> 308
A12: 7 | B12: Transportation | C12: 2210 | D12: 25582 | F12: 66831 | G12: =SUM(D12:F12) -> 92413
B13: Classification & Furlough | C13: 20661382 | F13: 5797 | G13: =SUM(D13:F13) -> 5797
B14: Electronic Monitoring | C14: 20661383 | F14: 24947 | G14: =SUM(D14:F14) -> 24947
A15: 36B | B15: Laundry - Lemon Creek | C15: 20661420 | F15: 11073 | G15: =SUM(D15:F15) -> 11073
A16: 37 | B16: Out of State | C16: 2220 | D16: 31189 | F16: 0 | G16: =SUM(D16:F16) -> 31189
B17: Physical Health Care | C17: 4100 | D17: 27202.57 | F17: 5533 | G17: =SUM(D17:F17) -> 32735.57
B18: Research & Records | C18: 1200 | D18: 486947 | F18: 806 | G18: =SUM(D18:F18) -> 487753
B19: IDO Institution Director's Office | C19: 2000 | D19: 13181 | F19: 9211 | G19: =SUM(D19:F19) -> 22392
A20: 14 | B20: FCC | C20: 2103 | D20: 423273.64 | F20: 25363 | G20: =SUM(D20:F20) -> 448636.64
A21: 15 | B21: AMCC | C21: 2101 | D21: 217067 | F21: 43431 | G21: =SUM(D21:F21) -> 260498
A22: 18 | B22: YKCC | C22: 2110 | D22: 157726.14 | F22: 29639 | G22: =SUM(D22:F22) -> 187365.14
A23: 21A | B23: Fairbanks Probation | C23: 2441 | D23: 107990 | F23: 13411 | G23: =SUM(D23:F23) -> 121401
A24: 21C | B24: Nome Probation | C24: 2442 | D24: 10549 | F24: 6067 | G24: =SUM(D24:F24) -> 16616
A25: 21D | B25: Barrow Probation | C25: 2443 | D25: 27400 | F25: 2938 | G25: =SUM(D25:F25) -> 30338
A26: 21E | B26: Kotzebue Probation | C26: 2444 | D26: 4115 | F26: 5023 | G26: =SUM(D26:F26) -> 9138
A27: 13 | B27: PCC | C27: 2107 | D27: 970070 | F27: 263430 | G27: =SUM(D27:F27) -> 1233500
A28: 10 | B28: MSCC | C28: 2106 | D28: 91523 | F28: 17749 | G28: =SUM(D28:F28) -> 109272
A29: 11 | B29: CHMCC | C29: 2102 | D29: 295858 | F29: 87241 | G29: =SUM(D29:F29) -> 383099
A30: 8/9 | B30: ACC Anchorage Complex | C30: 2100 | D30: 1982828.9 | F30: 43358 | G30: =SUM(D30:F30) -> 2026186.9
A31: 30 | B31: WCC | C31: 2109 | D31: 880516 | F31: 137606 | G31: =SUM(D31:F31) -> 1018122
A32: 16 | B32: SCCC | C32: 2108 | D32: 1462092 | F32: 222986 | G32: =SUM(D32:F32) -> 1685078
A33: 39 | B33: GCCC | C33: 2112 | D33: 1400183 | F33: =321179+7178 -> 328357 | G33: =SUM(D33:F33) -> 1728540
B34: Probation Region ONE | C34: 2420 | D34: 709.07 | F34: 0 | G34: =SUM(D34:F34) -> 709.07
A35: 19A | B35: Anchorage Probation | C35: 2421 | D35: 443800 | F35: 39582 | G35: =SUM(D35:F35) -> 483382
A36: 19C | B36: Kenai Probation | C36: 2422 | D36: 34749 | F36: 10412 | G36: =SUM(D36:F36) -> 45161
A37: 19B | B37: Kodiak Probation | F37: 2945 | G37: =SUM(D37:F37) -> 2945
A38: 19D | B38: Palmer Probation | C38: 2424 | D38: 66032 | F38: 22817 | G38: =SUM(D38:F38) -> 88849
A39: 19E | B39: Dillingham Probation | C39: 2425 | D39: 31845 | F39: 3642 | G39: =SUM(D39:F39) -> 35487
A40: 21B | B40: Bethel Probation | C40: 2426 | D40: 38553 | F40: 9385 | G40: =SUM(D40:F40) -> 47938
...

Sheet CostReim
A1: Budgeted Revenue Interagency Receipts (I/A)
A2: Division/Institution | B2: Appr Group | C2: ApprType | D2: Total Reimbursement | E2: Outstanding Balance of RSA | F2: Total | G2: Revenue
A3: Commissioner's Office | D3: 0 | F3: =SUM(D3:E3) -> 0
A4: Parole Board | D4: 0 | F4: =SUM(D4:E4) -> 0
A5: Correctional Academy | D5: 0 | F5: =SUM(D5:E5) -> 0
A6: Administrative Services | D6: 0 | F6: =SUM(D6:E6) -> 0
A7: Data & Word Processing | D7: 0 | F7: =SUM(D7:E7) -> 0
A8: Facility-Capital Improvement | D8: 0 | F8: =SUM(D8:E8) -> 0
A9: Health & Rehabilitation Services | B9: JHRS | C9: JSAP | D9: =-'Sched-D2'!E40 -> 49325 | F9: =SUM(D9:E9) -> 49325 | G9: 5002
A10: Health & Rehabilitation Services | B10: JHRS | C10: JSAP | D10: =-'Sched-D2'!E42 -> 70800 | F10: =SUM(D10:E10) -> 70800 | G10: 5007
A11: Health & Rehabilitation Services | B11: JHRS | C11: JBHC | D11: =-'Sched-D2'!E41 -> 52400 | F11: =SUM(D11:E11) -> 52400 | G11: 5007
A12: Offender Habilitation Programs | B12: JOHP | C12: JEDP | D12: =-'Sched-D2'!E57-'Sched-D2'!E58-'Sched-D2'!E59 -> 83769.61 | F12: =SUM(D12:E12) -> 83769.61 | G12: 5007 | H12: (3 budgeted RSA's)
A13: Correctional Academy | D13: 0 | F13: =SUM(D13:E13) -> 0
A14: Institution Director's Office | D14: 0 | F14: =SUM(D14:E14) -> 0
A15: Transportation | B15: JPOP | C15: JTRN | D15: =-'Sched-D2'!E92 -> 140000 | F15: =SUM(D15:E15) -> 140000
A16: Out of State | D16: 0 | F16: =SUM(D16:E16) -> 0
A17: Anchorage Complex
A18: Anvil Mtn. CC | B18: JPOP | C18: JAMC | D18: =-'Sched-D1'!D47 -> 24327.27 | F18: =SUM(D18:E18) -> 24327.27 | G18: 5007
A19: Combined Hiland Mtn. CC | D19: 0 | F19: =SUM(D19:E19) -> 0
A20: Fairbanks CC | D20: 0 | F20: =SUM(D20:E20) -> 0
A21: Goose Creek CC | B21: JPOP | C21: JGCC | D21: =-'Sched-D2'!E104 -> 0 | F21: =SUM(D21:E21) -> 0
A22: Ketchikan CC | D22: 0 | F22: =SUM(D22:E22) -> 0
A23: Lemon Creek CC | B23: JPOP | C23: JLCC | D23: =-'Sched-D1'!D298 -> 302902.03 | F23: =SUM(D23:E23) -> 302902.03
A24: Mat-Su Pre-Trial | D24: 0 | F24: =SUM(D24:E24) -> 0
A25: Palmer CC | D25: 0 | F25: =SUM(D25:E25) -> 0
A26: Spring Creek CC | D26: 0 | F26: =SUM(D26:E26) -> 0
A27: Wildwood CC | D27: 0 | F27: =SUM(D27:E27) -> 0
A28: Yukon Kuskokwim CC | B28: JPOP | C28: JYKC | D28: =-'Sched-D1'!D556 -> 45274.68 | F28: =SUM(D28:E28) -> 45274.68 | G28: 5007
A29: Out-of-State Contractual | D29: 0 | F29: =SUM(D29:E29) -> 0
A30: Point Mackenzie | D30: 0 | F30: =SUM(D30:E30) -> 0
A31: Totals | D31: =SUM(D3:D30) -> 768798.59 | E31: =SUM(E3:E30) -> 0 | F31: =SUM(F3:F30) -> 768798.59
A33: Revised: 9/27/16 lj
F34: 2859227.7 | G34: Total IA
F35: -400566 | G35: CIP I/A
F36: -1394590 | G36: UnBud I/A
F37: =SUM(F34:F36) -> 1064071.6 | G37: Sub-Total
F38: =F37-F31 -> 295273.05 | G38: Difference to Above
F39: -170000 | G39: PPDO / PACE
F40: =F39+F38 -> 125273.05

Sheet COST ALLOCATION
A1: COST ALLOCATION
A2: COMPONENT | E2: Appr Type | F2: TOTAL COSTS | H2: % OF TOTAL | I2: ADMIN & SUPPORT | J2: TOTAL ALL COSTS
A3: INDIRECT COST | I3: TOTAL
B4: Administration & Support RDU | E4: JCOM | F4: -172159.61 | I4: ='Sched-E'!C3 -> 11391231 | K4: Unbudgeted RSA (20-X020 Public Info Officer Sherie D)
A5: DIRECT COST | I5: % by entity
H6: =G7/$G$35 -> 0.82959497 | I6: =SUM($I$4*H6) -> 9450108.3
B7: INSTITUTIONS | G7: =SUM(F4:F28) -> 2.5343655e+08 | J7: =SUM(I6+G7) -> 2.6288665e+08
C8: 13 Institutions | F8: ='Sched-B1'!E17+'Sched-D1'!F658+302902.03+33023.1+69601.95 -> 1.853227e+08 | K8: Decreased by RSAs
C9: Less: DOT/Laundry RSA | E9: JLCC | F9: ='Sched-D1'!D298 -> -302902.03
C10: Less: DNR/MMM&S RSA (Unbudgeted) | E10: JPCC | F10: -33023.1
C11: Less: DHSS two RSAs Youth Meals | E11: JAMC / JYKC | F11: ='Sched-D1'!D47+'Sched-D1'!D556 -> -69601.95
C12: Facility Planning - Capital Improvement Program | E12: JCIM | F12: ='Sched-D2'!F28 -> 526736.39
B13: Health & Rehabilitation Services RDU | E13: JHRS | F13: ='Sched-D2'!F44+49325+52400+70800 -> 52710253
C14: Less: Reimb. from Federal Public Protection: RSAT Grant | E14: JSAP | F14: ='Sched-D2'!E40 -> -49325
C15: Less: Alcohol Tax RSA (SCCC Men's Sub-Acute & Juvenile Offender Pgm) | E15: JBHC | F15: ='Sched-D2'!E41 -> -52400
C16: Less: DH&S/ RSAT RSA | E16: JSAP | F16: ='Sched-D2'!E42 -> -70800
B17: Offender Habilitation Programs RDU | E17: JOFH | F17: ='Sched-D2'!F60+40000+27004.92+16764.69 -> 1422397.8 | K17: Decreased by 3 RSAs (ABE/CARL P/MOS)
C18: Less: 3 Education RSAs | E18: JEDP | F18: ='Sched-D2'!E57+'Sched-D2'!E58+'Sched-D2'!E59 -> -83769.61
C19: Less: 2 Voc Ed Programs RSA's (Unbudgeted) | E19: JVEP | F19: =-175972.16-57122 -> -233094.16 | K19: Decreased by 2 Unbudgeted RSA's (Step C / Step H)
B20: Institutions Director's Office | E20: JIDO | F20: ='Sched-D2'!F70 -> 1730231.3
C21: Less: DPS PREA RSA | F21: 0 | K21: No RSA in FY2016
B22: Prison System Expansion | E22: JPSE | F22: ='Sched-D2'!F17 -> 0
B23: Classification & Furlough | E23: JCLF | F23: ='Sched-D2'!F80 -> 1016911.1
B24: Inmate Transportation Unit | E24: JTRN | F24: ='Sched-D2'!F92+140000 -> 2598313.3 | K24: Decreased by RSA
C25: Less: DPS Transportation RSA | F25: ='Sched-D2'!E92 -> -140000
B26: Point of Arrest | E26: JPOA | F26: ='Sched-D2'!F98 -> 783607.5
B27: Recidivism Reduction Grant | E27: JRRG | F27: ='Sched-D2'!F104 -> 427379.37
B28: Equipment & Building Depreciation | F28: ='Sched-F-G'!D40 -> 8105092.1
B29: Regional & Community Jails | E29: JCOJ | G29: 6967712.1 | H29: =G29/$G$35 -> 0.022807993 | I29: =$I$4*H29 -> 259811.12 | J29: =SUM(I29+G29) -> 7227523.2
B30: Probation & Parole Director's Office | E30: JPPD | G30: 808559.35 | H30: =G30/$G$35 -> 0.0026467247 | I30: =$I$4*H30 -> 30149.454 | J30: =SUM(I30+G30) -> 838708.8
B31: State-wide Probation & Parole | E31: JSPP | G31: 16879061 | H31: =G31/$G$35 -> 0.055251637 | I31: =$I$4*H31 -> 629384.19 | J31: =SUM(I31+G31) -> 17508445 | K31: No RSA in FY2016 | L31: SB64 PACE RSA
B32: Out of State Contractual | E32: JOOS | G32: 294871.2 | H32: =G32/$G$35 -> 0.00096522647 | I32: =$I$4*H32 -> 10995.118 | J32: =SUM(I32+G32) -> 305866.32
B33: Electronic Monitoring | E33: JELM | G33: 3261527 | H33: =G33/$G$35 -> 0.010676228 | I33: =$I$4*H33 -> 121615.38 | J33: =SUM(I33+G33) -> 3383142.3 | K33: No RSA in FY2016 | L33: SB64 1st DUI
B34: Community Residential Centers | E34: JCRC | G34: 23846038 | H34: =G34/$G$35 -> 0.078057225 | I34: =$I$4*H34 -> 889167.91 | J34: =SUM(I34+G34) -> 24735206
A35: TOTAL: | G35: =SUM(G3:G34) -> 3.0549432e+08 | H35: =SUM(H3:H34) -> 1 | I35: =SUM(I6:I34) -> 11391231 | J35: =SUM(J7:J34) -> 3.1688555e+08
C36: Reconciliation to Actuals
C37: DOC Total Cost: ( By Appr Type Alder Report ) | F37: 3.0995451e+08
C38: Add: Depreciation Calculation | F38: =F28 -> 8105092.1
D39: Facilities Maintenance | E39: JFAC | F39: 0 | K39: FY2016 Restricted in full
C40: Subtract: | D40: Budgeted DPS Transport RSA | E40: JTRN | F40: =F25 -> -140000
...

Sheet BILLING RATE CALC
A1: BILLING RATE CALCULATION
A2: ANNUAL TOTAL MANDAYS | E2: ='Qtrly''s-Cntsht Book'!Y19 -> 1757110
A3: COMPONENT | C3: TOTAL EXPENSES | E3: LESS REIMB | F3: ADJUSTED COSTS | G3: BILLING RATE
A4: INSTITUTIONS | D4: =SUM(C5:C7) -> 1.853227e+08 | F4: =SUM(D4,E6) -> 1.849502e+08 | G4: =F4/$E$2 -> 105.25818
B5: Institutions | C5: ='COST ALLOCATION'!F8 -> 1.853227e+08
B6: Less: DHSS & DOT RSAs | E6: ='COST ALLOCATION'!F11+'COST ALLOCATION'!F9 -> -372503.98
B7: Alternative Housing | C7: 0
A8: OFFENDER HABILITATION PROGRAMS | C8: ='COST ALLOCATION'!F17 -> 1422397.8 | D8: =SUM(C8:C8) -> 1422397.8 | F8: =SUM(D8,E9) -> 1338628.2 | G8: =F8/$E$2 -> 0.76183518
B9: Education (3) RSAs | E9: ='COST ALLOCATION'!F18 -> -83769.61
A10: HEALTH & REHABILITATION SERVICES | C10: =D10 -> 52710253 | D10: ='COST ALLOCATION'!F13 -> 52710253 | E10: ='COST ALLOCATION'!F14+'COST ALLOCATION'!F15+'COST ALLOCATION'!F16 -> -172525 | F10: =SUM(D10:E10) -> 52537728 | G10: =F10/$E$2 -> 29.900079
A11: ADMIN & SUPPORT | D11: =SUM(C12) -> 9450108.3 | E11: 0 | F11: =SUM(D11:E11) -> 9450108.3 | G11: =F11/$E$2 -> 5.378211
B12: % for Institution Operations | C12: ='COST ALLOCATION'!I6 -> 9450108.3
A13: STATEWIDE DIRECT COSTS | D13: =SUM(C14:C22)+E16 -> 14760892 | F13: =SUM(D13+E20+E22) -> 14620892 | G13: =F13/$E$2 -> 8.3209882
B14: Institutions Director's Office | C14: ='COST ALLOCATION'!F20 -> 1730231.3
B15: Prison System Expansion | C15: ='COST ALLOCATION'!F22 -> 0
B16: Equipment & Bldg. Depreciation | C16: ='COST ALLOCATION'!F28 -> 8105092.1
B17: Facility Planning - CIP | C17: ='COST ALLOCATION'!F12 -> 526736.39
B18: Classification & Furlough | C18: ='COST ALLOCATION'!F23 -> 1016911.1
B19: Transportation | C19: ='COST ALLOCATION'!F24 -> 2598313.3
B20: Less: DPS RSA Transport | E20: ='COST ALLOCATION'!F25 -> -140000
B21: Point of Arrest | C21: ='COST ALLOCATION'!F26 -> 783607.5
A23: BILLING RATE | D23: =SUM(D4:D17) -> 2.6366635e+08 | E23: =SUM(E4:E22) -> -768798.59 | F23: =SUM(F4:F21) -> 2.6289755e+08 | G23: =SUM(G4:G21) -> 149.61929
A24: INDIVIDUAL INSTITUTION RATES
A25: Institutions | C25: Total Cost | D25: Mandays | E25: Inst. Cost | F25: Inmate Programs | G25: Inmate Health Care | H25: Div.of Admin.& Support Cost | I25: Statewide Direct Cost | J25: TOTAL
A26: Anchorage Complex | C26: ='Sched-B1'!E4+'Sched-D1'!F44 -> 30526128 | D26: ='Inmate Avg Daily Population'!O4 -> 301420.04 | E26: =C26/D26 -> 101.27438 | F26: =$G$8 -> 0.76183518 | G26: =$G$10 -> 29.900079 | H26: =$G$11 -> 5.378211 | I26: =$G$13 -> 8.3209882 | J26: =SUM(E26:I26) -> 145.63549
A27: Anvil Mtn. Correctional | C27: ='Sched-B1'!E5+'Sched-D1'!F89 -> 6451551 | D27: ='Inmate Avg Daily Population'!O5 -> 40615.375 | E27: =C27/D27 -> 158.84504 | F27: =$G$8 -> 0.76183518 | G27: =$G$10 -> 29.900079 | H27: =$G$11 -> 5.378211 | I27: =$G$13 -> 8.3209882 | J27: =SUM(E27:I27) -> 203.20616
A28: Fairbanks Correctional | C28: ='Sched-B1'!E7+'Sched-D1'!F190 -> 11556642 | D28: ='Inmate Avg Daily Population'!O6 -> 98918.042 | E28: =C28/D28 -> 116.83048 | F28: =$G$8 -> 0.76183518 | G28: =$G$10 -> 29.900079 | H28: =$G$11 -> 5.378211 | I28: =$G$13 -> 8.3209882 | J28: =SUM(E28:I28) -> 161.19159
A29: Goose Creek Correctional | C29: ='Sched-B1'!E8+'Sched-D1'!F241 -> 44848434 | D29: ='Inmate Avg Daily Population'!O7 -> 459224.75 | E29: =C29/D29 -> 97.661186 | F29: =$G$8 -> 0.76183518 | G29: =$G$10 -> 29.900079 | H29: =$G$11 -> 5.378211 | I29: =$G$13 -> 8.3209882 | J29: =SUM(E29:I29) -> 142.0223
A30: Hiland Mtn. Correctional | C30: ='Sched-B1'!E6+'Sched-D1'!F138 -> 12729366 | D30: ='Inmate Avg Daily Population'!O8 -> 135904.71 | E30: =C30/D30 -> 93.663904 | F30: =$G$8 -> 0.76183518 | G30: =$G$10 -> 29.900079 | H30: =$G$11 -> 5.378211 | I30: =$G$13 -> 8.3209882 | J30: =SUM(E30:I30) -> 138.02502
A31: Ketchikan Correctional | C31: ='Sched-B1'!E9+'Sched-D1'!F295 -> 4646328.2 | D31: ='Inmate Avg Daily Population'!O9 -> 19545.75 | E31: =C31/D31 -> 237.71552 | F31: =$G$8 -> 0.76183518 | G31: =$G$10 -> 29.900079 | H31: =$G$11 -> 5.378211 | I31: =$G$13 -> 8.3209882 | J31: =SUM(E31:I31) -> 282.07664
A32: Lemon Creek Correctional | C32: ='Sched-B1'!E10+'Sched-D1'!F343 -> 9970901.7 | D32: ='Inmate Avg Daily Population'!O10 -> 81647.458 | E32: =C32/D32 -> 122.1214 | F32: =$G$8 -> 0.76183518 | G32: =$G$10 -> 29.900079 | H32: =$G$11 -> 5.378211 | I32: =$G$13 -> 8.3209882 | J32: =SUM(E32:I32) -> 166.48251
A33: Mat-Su Correctional | C33: ='Sched-B1'!E11+'Sched-D1'!F396 -> 5095669.4 | D33: ='Inmate Avg Daily Population'!O11 -> 36630.792 | E33: =C33/D33 -> 139.10891 | F33: =$G$8 -> 0.76183518 | G33: =$G$10 -> 29.900079 | H33: =$G$11 -> 5.378211 | I33: =$G$13 -> 8.3209882 | J33: =SUM(E33:I33) -> 183.47002
A34: Palmer Correctional | C34: ='Sched-B1'!E12+'Sched-D1'!F445 -> 13075635 | D34: ='Inmate Avg Daily Population'!O12 -> 180115.33 | E34: =C34/D34 -> 72.595901 | F34: =$G$8 -> 0.76183518 | G34: =$G$10 -> 29.900079 | H34: =$G$11 -> 5.378211 | I34: =$G$13 -> 8.3209882 | J34: =SUM(E34:I34) -> 116.95701
A35: Pt. MacKenzie Correctional Farm | C35: ='Sched-B1'!E16+'Sched-D1'!F657 -> 206733.59 | D35: ='Inmate Avg Daily Population'!O13 -> 1460 | E35: =C35/D35 -> 141.59835 | F35: =$G$8 -> 0.76183518 | G35: =$G$10 -> 29.900079 | H35: =$G$11 -> 5.378211 | I35: =$G$13 -> 8.3209882 | J35: =SUM(E35:I35) -> 185.95946
A36: Spring Creek Correctional | C36: ='Sched-B1'!E13+'Sched-D1'!F499 -> 22390189 | D36: ='Inmate Avg Daily Population'!O14 -> 187704.29 | E36: =C36/D36 -> 119.28437 | F36: =$G$8 -> 0.76183518 | G36: =$G$10 -> 29.900079 | H36: =$G$11 -> 5.378211 | I36: =$G$13 -> 8.3209882 | J36: =SUM(E36:I36) -> 163.64549
A37: Wildwood Correctional | C37: ='Sched-B1'!E14+'Sched-D1'!F553 -> 15004487 | D37: ='Inmate Avg Daily Population'!O15 -> 146872.96 | E37: =C37/D37 -> 102.15963 | F37: =$G$8 -> 0.76183518 | G37: =$G$10 -> 29.900079 | H37: =$G$11 -> 5.378211 | I37: =$G$13 -> 8.3209882 | J37: =SUM(E37:I37) -> 146.52074
A38: Yukon Kuskokwim Correctional | C38: ='Sched-B1'!E15+'Sched-D1'!F603 -> 8415108.7 | D38: ='Inmate Avg Daily Population'!O16 -> 67050.5 | E38: =C38/D38 -> 125.50404 | F38: =$G$8 -> 0.76183518 | G38: =$G$10 -> 29.900079 | H38: =$G$11 -> 5.378211 | I38: =$G$13 -> 8.3209882 | J38: =SUM(E38:I38) -> 169.86515
A39: Totals | C39: =SUM(C26:C38) -> 1.8491717e+08 | D39: =SUM(D26:D38) -> 1757110 | E39: =G4 -> 105.25818 | F39: =G8 -> 0.76183518 | G39: =G10 -> 29.900079 | H39: =G11 -> 5.378211 | I39: =G13 -> 8.3209882 | J39: =SUM(E39:I39) -> 149.61929
A43: Revised: 9/28/16 lj

Sheet Inmate Avg Daily Population
A1: ANNUAL TOTAL MANDAYS
B2: AVERAGE DAILY INMATE POPULATION | N2: ANNUAL AVERAGE DAILY POPULATION | O2: ANNUAL TOTAL MANDAYS
A3: Institutions | B3: 42194 | C3: 42225 | D3: 42256 | E3: 42286 | F3: 42317 | G3: 42347 | H3: 42378 | I3: 42409 | J3: 42438 | K3: 42469 | L3: 42499 | M3: 42530
A4: Anchorage Complex | B4: ='Qtrly''s-Cntsht Book'!D5 -> 844.8 | C4: ='Qtrly''s-Cntsht Book'!E5 -> 857.9 | D4: ='Qtrly''s-Cntsht Book'!F5 -> 798.3 | E4: ='Qtrly''s-Cntsht Book'!I5 -> 832.8 | F4: ='Qtrly''s-Cntsht Book'!J5 -> 871 | G4: ='Qtrly''s-Cntsht Book'!K5 -> 857.8 | H4: ='Qtrly''s-Cntsht Book'!N5 -> 842 | I4: ='Qtrly''s-Cntsht Book'!O5 -> 819.6 | J4: ='Qtrly''s-Cntsht Book'!P5 -> 797.3 | K4: ='Qtrly''s-Cntsht Book'!S5 -> 806.6 | L4: ='Qtrly''s-Cntsht Book'!T5 -> 770.6 | M4: ='Qtrly''s-Cntsht Book'!U5 -> 811 | N4: =SUM(B4:M4)/12 -> 825.80833 | O4: =N4*365 -> 301420.04
A5: Anvil Mountain CC | B5: ='Qtrly''s-Cntsht Book'!D6 -> 103.5 | C5: ='Qtrly''s-Cntsht Book'!E6 -> 107.7 | D5: ='Qtrly''s-Cntsht Book'!F6 -> 116.4 | E5: ='Qtrly''s-Cntsht Book'!I6 -> 120.5 | F5: ='Qtrly''s-Cntsht Book'!J6 -> 118.1 | G5: ='Qtrly''s-Cntsht Book'!K6 -> 92.5 | H5: ='Qtrly''s-Cntsht Book'!N6 -> 98.8 | I5: ='Qtrly''s-Cntsht Book'!O6 -> 110.4 | J5: ='Qtrly''s-Cntsht Book'!P6 -> 123 | K5: ='Qtrly''s-Cntsht Book'!S6 -> 119.4 | L5: ='Qtrly''s-Cntsht Book'!T6 -> 116.4 | M5: ='Qtrly''s-Cntsht Book'!U6 -> 108.6 | N5: =SUM(B5:M5)/12 -> 111.275 | O5: =N5*365 -> 40615.375
A6: Fairbanks CC | B6: ='Qtrly''s-Cntsht Book'!D7 -> 265.7 | C6: ='Qtrly''s-Cntsht Book'!E7 -> 269.7 | D6: ='Qtrly''s-Cntsht Book'!F7 -> 255.4 | E6: ='Qtrly''s-Cntsht Book'!I7 -> 265.7 | F6: ='Qtrly''s-Cntsht Book'!J7 -> 266.7 | G6: ='Qtrly''s-Cntsht Book'!K7 -> 262.3 | H6: ='Qtrly''s-Cntsht Book'!N7 -> 268.9 | I6: ='Qtrly''s-Cntsht Book'!O7 -> 274.1 | J6: ='Qtrly''s-Cntsht Book'!P7 -> 265.8 | K6: ='Qtrly''s-Cntsht Book'!S7 -> 283.4 | L6: ='Qtrly''s-Cntsht Book'!T7 -> 293.3 | M6: ='Qtrly''s-Cntsht Book'!U7 -> 281.1 | N6: =SUM(B6:M6)/12 -> 271.00833 | O6: =N6*365 -> 98918.042
A7: Goose Creek CC | B7: ='Qtrly''s-Cntsht Book'!D8 -> 1322.1 | C7: ='Qtrly''s-Cntsht Book'!E8 -> 1316.7 | D7: ='Qtrly''s-Cntsht Book'!F8 -> 1359.4 | E7: ='Qtrly''s-Cntsht Book'!I8 -> 1285 | F7: ='Qtrly''s-Cntsht Book'!J8 -> 1290.6 | G7: ='Qtrly''s-Cntsht Book'!K8 -> 1258.9 | H7: ='Qtrly''s-Cntsht Book'!N8 -> 1219.4 | I7: ='Qtrly''s-Cntsht Book'!O8 -> 1263.4 | J7: ='Qtrly''s-Cntsht Book'!P8 -> 1224 | K7: ='Qtrly''s-Cntsht Book'!S8 -> 1220.8 | L7: ='Qtrly''s-Cntsht Book'!T8 -> 1210 | M7: ='Qtrly''s-Cntsht Book'!U8 -> 1127.5 | N7: =SUM(B7:M7)/12 -> 1258.15 | O7: =N7*365 -> 459224.75
A8: Combined Hiland Mtn CC | B8: ='Qtrly''s-Cntsht Book'!D9 -> 407.6 | C8: ='Qtrly''s-Cntsht Book'!E9 -> 397.9 | D8: ='Qtrly''s-Cntsht Book'!F9 -> 408.3 | E8: ='Qtrly''s-Cntsht Book'!I9 -> 384 | F8: ='Qtrly''s-Cntsht Book'!J9 -> 363.6 | G8: ='Qtrly''s-Cntsht Book'!K9 -> 346 | H8: ='Qtrly''s-Cntsht Book'!N9 -> 349.5 | I8: ='Qtrly''s-Cntsht Book'!O9 -> 365.4 | J8: ='Qtrly''s-Cntsht Book'!P9 -> 365.5 | K8: ='Qtrly''s-Cntsht Book'!S9 -> 360.5 | L8: ='Qtrly''s-Cntsht Book'!T9 -> 359.7 | M8: ='Qtrly''s-Cntsht Book'!U9 -> 360.1 | N8: =SUM(B8:M8)/12 -> 372.34167 | O8: =N8*365 -> 135904.71
A9: Ketchikan CC | B9: ='Qtrly''s-Cntsht Book'!D10 -> 57.1 | C9: ='Qtrly''s-Cntsht Book'!E10 -> 59.2 | D9: ='Qtrly''s-Cntsht Book'!F10 -> 56.4 | E9: ='Qtrly''s-Cntsht Book'!I10 -> 57.8 | F9: ='Qtrly''s-Cntsht Book'!J10 -> 49.9 | G9: ='Qtrly''s-Cntsht Book'!K10 -> 46.7 | H9: ='Qtrly''s-Cntsht Book'!N10 -> 47.7 | I9: ='Qtrly''s-Cntsht Book'!O10 -> 54.7 | J9: ='Qtrly''s-Cntsht Book'!P10 -> 55.7 | K9: ='Qtrly''s-Cntsht Book'!S10 -> 55.3 | L9: ='Qtrly''s-Cntsht Book'!T10 -> 51 | M9: ='Qtrly''s-Cntsht Book'!U10 -> 51.1 | N9: =SUM(B9:M9)/12 -> 53.55 | O9: =N9*365 -> 19545.75
A10: Lemon Creek CC | B10: ='Qtrly''s-Cntsht Book'!D11 -> 232.6 | C10: ='Qtrly''s-Cntsht Book'!E11 -> 234.1 | D10: ='Qtrly''s-Cntsht Book'!F11 -> 226.9 | E10: ='Qtrly''s-Cntsht Book'!I11 -> 220.9 | F10: ='Qtrly''s-Cntsht Book'!J11 -> 229 | G10: ='Qtrly''s-Cntsht Book'!K11 -> 227.2 | H10: ='Qtrly''s-Cntsht Book'!N11 -> 229.1 | I10: ='Qtrly''s-Cntsht Book'!O11 -> 234.4 | J10: ='Qtrly''s-Cntsht Book'!P11 -> 224.3 | K10: ='Qtrly''s-Cntsht Book'!S11 -> 210.7 | L10: ='Qtrly''s-Cntsht Book'!T11 -> 206.3 | M10: ='Qtrly''s-Cntsht Book'!U11 -> 208.8 | N10: =SUM(B10:M10)/12 -> 223.69167 | O10: =N10*365 -> 81647.458
A11: Mat-Su CC | B11: ='Qtrly''s-Cntsht Book'!D12 -> 99.5 | C11: ='Qtrly''s-Cntsht Book'!E12 -> 101.7 | D11: ='Qtrly''s-Cntsht Book'!F12 -> 100.2 | E11: ='Qtrly''s-Cntsht Book'!I12 -> 102.6 | F11: ='Qtrly''s-Cntsht Book'!J12 -> 99.6 | G11: ='Qtrly''s-Cntsht Book'!K12 -> 99.3 | H11: ='Qtrly''s-Cntsht Book'!N12 -> 104.3 | I11: ='Qtrly''s-Cntsht Book'!O12 -> 103.5 | J11: ='Qtrly''s-Cntsht Book'!P12 -> 96.3 | K11: ='Qtrly''s-Cntsht Book'!S12 -> 101.9 | L11: ='Qtrly''s-Cntsht Book'!T12 -> 100.3 | M11: ='Qtrly''s-Cntsht Book'!U12 -> 95.1 | N11: =SUM(B11:M11)/12 -> 100.35833 | O11: =N11*365 -> 36630.792
A12: Palmer CC | B12: ='Qtrly''s-Cntsht Book'!D13 -> 476.8 | C12: ='Qtrly''s-Cntsht Book'!E13 -> 487.9 | D12: ='Qtrly''s-Cntsht Book'!F13 -> 497.9 | E12: ='Qtrly''s-Cntsht Book'!I13 -> 496.9 | F12: ='Qtrly''s-Cntsht Book'!J13 -> 488.4 | G12: ='Qtrly''s-Cntsht Book'!K13 -> 489.5 | H12: ='Qtrly''s-Cntsht Book'!N13 -> 492.4 | I12: ='Qtrly''s-Cntsht Book'!O13 -> 501 | J12: ='Qtrly''s-Cntsht Book'!P13 -> 499.6 | K12: ='Qtrly''s-Cntsht Book'!S13 -> 499.6 | L12: ='Qtrly''s-Cntsht Book'!T13 -> 499.7 | M12: ='Qtrly''s-Cntsht Book'!U13 -> 491.9 | N12: =SUM(B12:M12)/12 -> 493.46667 | O12: =N12*365 -> 180115.33
A13: Pt. MacKenzie | B13: ='Qtrly''s-Cntsht Book'!D14 -> 0 | C13: ='Qtrly''s-Cntsht Book'!E14 -> 0 | D13: ='Qtrly''s-Cntsht Book'!F14 -> 0 | E13: ='Qtrly''s-Cntsht Book'!I14 -> 0 | F13: ='Qtrly''s-Cntsht Book'!J14 -> 0 | G13: ='Qtrly''s-Cntsht Book'!K14 -> 0 | H13: ='Qtrly''s-Cntsht Book'!N14 -> 0 | I13: ='Qtrly''s-Cntsht Book'!O14 -> 0 | J13: ='Qtrly''s-Cntsht Book'!P14 -> 0 | K13: ='Qtrly''s-Cntsht Book'!S14 -> 0 | L13: ='Qtrly''s-Cntsht Book'!T14 -> 0 | M13: ='Qtrly''s-Cntsht Book'!U14 -> 48 | N13: =SUM(B13:M13)/12 -> 4 | O13: =N13*365 -> 1460
A14: Spring Creek CC | B14: ='Qtrly''s-Cntsht Book'!D15 -> 523.4 | C14: ='Qtrly''s-Cntsht Book'!E15 -> 519.2 | D14: ='Qtrly''s-Cntsht Book'!F15 -> 522.8 | E14: ='Qtrly''s-Cntsht Book'!I15 -> 515 | F14: ='Qtrly''s-Cntsht Book'!J15 -> 505.2 | G14: ='Qtrly''s-Cntsht Book'!K15 -> 497.1 | H14: ='Qtrly''s-Cntsht Book'!N15 -> 503.1 | I14: ='Qtrly''s-Cntsht Book'!O15 -> 511.1 | J14: ='Qtrly''s-Cntsht Book'!P15 -> 514.5 | K14: ='Qtrly''s-Cntsht Book'!S15 -> 514.4 | L14: ='Qtrly''s-Cntsht Book'!T15 -> 523.7 | M14: ='Qtrly''s-Cntsht Book'!U15 -> 521.6 | N14: =SUM(B14:M14)/12 -> 514.25833 | O14: =N14*365 -> 187704.29
A15: Combined Wildwood CC | B15: ='Qtrly''s-Cntsht Book'!D16 -> 433.7 | C15: ='Qtrly''s-Cntsht Book'!E16 -> 440.1 | D15: ='Qtrly''s-Cntsht Book'!F16 -> 425.4 | E15: ='Qtrly''s-Cntsht Book'!I16 -> 409.7 | F15: ='Qtrly''s-Cntsht Book'!J16 -> 403.8 | G15: ='Qtrly''s-Cntsht Book'!K16 -> 384.4 | H15: ='Qtrly''s-Cntsht Book'!N16 -> 397.8 | I15: ='Qtrly''s-Cntsht Book'!O16 -> 392.4 | J15: ='Qtrly''s-Cntsht Book'!P16 -> 378 | K15: ='Qtrly''s-Cntsht Book'!S16 -> 385.9 | L15: ='Qtrly''s-Cntsht Book'!T16 -> 380.6 | M15: ='Qtrly''s-Cntsht Book'!U16 -> 396.9 | N15: =SUM(B15:M15)/12 -> 402.39167 | O15: =N15*365 -> 146872.96
... A17: Tents | B17: ='Qtrly''s-Cntsht Book'!D18 -> 0 | C17: ='Qtrly''s-Cntsht Book'!E18 -> 0 | D17: ='Qtrly''s-Cntsht Book'!F18 -> 0 | E17: ='Qtrly''s-Cntsht Book'!I18 -> 0 | F17: ='Qtrly''s-Cntsht Book'!J18 -> 0 | G17: ='Qtrly''s-Cntsht Book'!K18 -> 0 | H17: ='Qtrly''s-Cntsht Book'!N18 -> 0 | I17: ='Qtrly''s-Cntsht Book'!O18 -> 0 | J17: ='Qtrly''s-Cntsht Book'!P18 -> 0 | K17: ='Qtrly''s-Cntsht Book'!S18 -> - | L17: ='Qtrly''s-Cntsht Book'!T18 -> - | M17: ='Qtrly''s-Cntsht Book'!U18 -> - | N17: =SUM(B17:M17)/12 -> 0 | O17: =N17*365 -> 0
A18: TOTAL INSTITUTIONS | B18: =SUM(B4:B17) -> 4938.7 | C18: =SUM(C4:C17) -> 4977.9 | D18: =SUM(D4:D17) -> 4958.1 | E18: =SUM(E4:E17) -> 4887.4 | F18: =SUM(F4:F17) -> 4876.1 | G18: =SUM(G4:G17) -> 4748.9 | H18: =SUM(H4:H17) -> 4747.2 | I18: =SUM(I4:I17) -> 4812.8 | ... M18: =SUM(M4:M17) -> 4673.8 | N18: =SUM(B18:M18)/12 -> 4814 | O18: =SUM(O4:O17) -> 1757110
A19: Other
A20: CRC's | B20: ='Qtrly''s-Cntsht Book'!D21 -> 672.81 | C20: ='Qtrly''s-Cntsht Book'!E21 -> 677.1 | D20: ='Qtrly''s-Cntsht Book'!F21 -> 681.9 | E20: ='Qtrly''s-Cntsht Book'!I21 -> 648 | F20: ='Qtrly''s-Cntsht Book'!J21 -> 633.63 | G20: ='Qtrly''s-Cntsht Book'!K21 -> 647.29 | H20: ='Qtrly''s-Cntsht Book'!N21 -> 625.64 | I20: ='Qtrly''s-Cntsht Book'!O21 -> 607.83 | J20: ='Qtrly''s-Cntsht Book'!P21 -> 650 | K20: ='Qtrly''s-Cntsht Book'!S21 -> 627.2 | L20: ='Qtrly''s-Cntsht Book'!T21 -> 587.65 | M20: ='Qtrly''s-Cntsht Book'!U21 -> 561.73 | N20: =SUM(B20:M20)/12 -> 635.065 | O20: =N20*365 -> 231798.72
A21: CRC Offender Supervision | B21: ='Qtrly''s-Cntsht Book'!D22 -> 5 | C21: ='Qtrly''s-Cntsht Book'!E22 -> 7.23 | D21: ='Qtrly''s-Cntsht Book'!F22 -> 9 | E21: ='Qtrly''s-Cntsht Book'!I22 -> 9.1 | F21: ='Qtrly''s-Cntsht Book'!J22 -> 9.1 | G21: ='Qtrly''s-Cntsht Book'!K22 -> 9.71 | H21: ='Qtrly''s-Cntsht Book'!N22 -> 9 | I21: ='Qtrly''s-Cntsht Book'!O22 -> 8.31 | J21: ='Qtrly''s-Cntsht Book'!P22 -> 8 | K21: ='Qtrly''s-Cntsht Book'!S22 -> 8.07 | L21: ='Qtrly''s-Cntsht Book'!T22 -> 10 | M21: ='Qtrly''s-Cntsht Book'!U22 -> 13.5 | N21: =SUM(B21:M21)/12 -> 8.835 | O21: =N21*365 -> 3224.775
A22: Treatment Beds | B22: ='Qtrly''s-Cntsht Book'!D23 -> 15 | C22: ='Qtrly''s-Cntsht Book'!E23 -> 17 | D22: ='Qtrly''s-Cntsht Book'!F23 -> 16 | E22: ='Qtrly''s-Cntsht Book'!I23 -> 17 | F22: ='Qtrly''s-Cntsht Book'!J23 -> 17 | G22: ='Qtrly''s-Cntsht Book'!K23 -> 16 | H22: ='Qtrly''s-Cntsht Book'!N23 -> 19 | I22: ='Qtrly''s-Cntsht Book'!O23 -> 18 | J22: ='Qtrly''s-Cntsht Book'!P23 -> 17 | K22: ='Qtrly''s-Cntsht Book'!S23 -> 15 | L22: ='Qtrly''s-Cntsht Book'!T23 -> 16 | M22: ='Qtrly''s-Cntsht Book'!U23 -> 16 | N22: =SUM(B22:M22)/12 -> 16.583333 | O22: =N22*365 -> 6052.9167
A23: Electronic Monitoring | B23: ='Qtrly''s-Cntsht Book'!D24 -> 437 | C23: ='Qtrly''s-Cntsht Book'!E24 -> 420 | D23: ='Qtrly''s-Cntsht Book'!F24 -> 429 | E23: ='Qtrly''s-Cntsht Book'!I24 -> 447 | F23: ='Qtrly''s-Cntsht Book'!J24 -> 466 | G23: ='Qtrly''s-Cntsht Book'!K24 -> 437 | H23: ='Qtrly''s-Cntsht Book'!N24 -> 419 | I23: ='Qtrly''s-Cntsht Book'!O24 -> 404 | J23: ='Qtrly''s-Cntsht Book'!P24 -> 410 | K23: ='Qtrly''s-Cntsht Book'!S24 -> 404 | L23: ='Qtrly''s-Cntsht Book'!T24 -> 383 | M23: ='Qtrly''s-Cntsht Book'!U24 -> 373 | N23: =SUM(B23:M23)/12 -> 419.08333 | O23: =N23*365 -> 152965.42
A24: Colorado | B24: ='Qtrly''s-Cntsht Book'!D25 -> N/A | C24: ='Qtrly''s-Cntsht Book'!E25 -> N/A | D24: ='Qtrly''s-Cntsht Book'!F25 -> N/A | E24: ='Qtrly''s-Cntsht Book'!I25 -> N/A | F24: ='Qtrly''s-Cntsht Book'!J25 -> N/A | G24: ='Qtrly''s-Cntsht Book'!K25 -> N/A | H24: ='Qtrly''s-Cntsht Book'!N25 -> N/A | I24: ='Qtrly''s-Cntsht Book'!O25 -> N/A | J24: ='Qtrly''s-Cntsht Book'!P25 -> N/A | K24: ='Qtrly''s-Cntsht Book'!S25 -> N/A | L24: ='Qtrly''s-Cntsht Book'!T25 -> N/A | M24: ='Qtrly''s-Cntsht Book'!U25 -> N/A | N24: =SUM(B24:M24)/3 -> 0 | O24: =N24*365 -> 0
A25: Other Out Of State | B25: ='Qtrly''s-Cntsht Book'!D26 -> 12 | C25: ='Qtrly''s-Cntsht Book'!E26 -> 12 | D25: ='Qtrly''s-Cntsht Book'!F26 -> 12 | E25: ='Qtrly''s-Cntsht Book'!I26 -> 12 | F25: ='Qtrly''s-Cntsht Book'!J26 -> 11 | G25: ='Qtrly''s-Cntsht Book'!K26 -> 11 | H25: ='Qtrly''s-Cntsht Book'!N26 -> 10 | I25: ='Qtrly''s-Cntsht Book'!O26 -> 9 | J25: ='Qtrly''s-Cntsht Book'!P26 -> 9 | K25: ='Qtrly''s-Cntsht Book'!S26 -> 9 | L25: ='Qtrly''s-Cntsht Book'!T26 -> 9 | M25: ='Qtrly''s-Cntsht Book'!U26 -> 9 | N25: =SUM(B25:M25)/12 -> 10.416667 | O25: =N25*365 -> 3802.0833
A26: TOTAL OTHER | B26: =SUM(B20:B25) -> 1141.81 | C26: =SUM(C20:C25) -> 1133.33 | D26: =SUM(D20:D25) -> 1147.9 | E26: =SUM(E20:E25) -> 1133.1 | F26: =SUM(F20:F25) -> 1136.73 | G26: =SUM(G20:G25) -> 1121 | H26: =SUM(H20:H25) -> 1082.64 | I26: =SUM(I20:I25) -> 1047.14 | ... O26: =SUM(O20:O25) -> 397843.92
A27: GRAND TOTAL | B27: =B18+B26 -> 6080.51 | C27: =C18+C26 -> 6111.23 | D27: =D18+D26 -> 6106 | E27: =E18+E26 -> 6020.5 | F27: =F18+F26 -> 6012.83 | G27: =G18+G26 -> 5869.9 | H27: =H18+H26 -> 5829.84 | I27: =I18+I26 -> 5859.94 | ... M27: =M18+M26 -> 5647.03 | N27: =SUM(B27:M27)/12 -> 5903.9833 | O27: =O18+O26 -> 2154953.9
A33: Updated: 9/23/15 lj

Sheet Avg Daily Community Jails
A1: JULY 2012 TO JUNE 2013-NUMBER OF PERSONS
A3: BEDS | B3: 4 | C3: 6 | D3: 7 | E3: 8 | F3: 6 | G3: 7 | H3: 22 | I3: 14 | J3: 9 | K3: 12 | L3: 14 | M3: 15 | N3: 10 | O3: 13 | P3: 12 | Q3: =SUM(B3:P3) -> 159
B4: Bristol Bay | C4: Cordova | D4: Craig | E4: Dillingham | F4: Haines | G4: Homer | H4: Kodiak | I4: Kotzebue | J4: NSB | K4: Petersburg | L4: Seward | M4: Sitka | N4: Unalaska | O4: Valdez | P4: Wrangell
A5: July | B5: 27 | C5: 19 | D5: 28 | E5: 53 | F5: 9 | G5: 59 | H5: 79 | I5: 106 | J5: 74 | K5: 9 | L5: 79 | M5: 63 | N5: 23 | O5: 31 | P5: 11
A6: August | B6: 18 | C6: 7 | D6: 33 | E6: 64 | F6: 12 | G6: 53 | H6: 77 | I6: 64 | J6: 73 | K6: 9 | L6: 28 | M6: 60 | N6: 16 | O6: 29 | P6: 12
A7: September | B7: 10 | C7: 9 | D7: 29 | E7: 54 | F7: 4 | G7: 41 | H7: 83 | I7: 83 | J7: 66 | K7: 7 | L7: 19 | M7: 59 | N7: 27 | O7: 20 | P7: 24
A8: October | B8: 16 | C8: 6 | D8: 35 | E8: 23 | F8: 7 | G8: 45 | H8: 77 | I8: 87 | J8: 70 | K8: 4 | L8: 26 | M8: 57 | N8: 21 | O8: 17 | P8: 21
A9: November | B9: 25 | C9: 2 | D9: 22 | E9: 38 | F9: 12 | G9: 47 | H9: 87 | I9: 70 | J9: 70 | K9: 3 | L9: 31 | M9: 48 | N9: 25 | O9: 27 | P9: 10
A10: December | B10: 9 | C10: 7 | D10: 17 | E10: 38 | F10: 2 | G10: 46 | H10: 81 | I10: 67 | J10: 69 | K10: 3 | L10: 14 | M10: 45 | N10: 6 | O10: 25 | P10: 12
A11: January | B11: 7 | C11: 4 | D11: 26 | E11: 43 | F11: 8 | G11: 51 | H11: 79 | I11: 67 | J11: 76 | K11: 10 | L11: 28 | M11: 61 | N11: 5 | O11: 24 | P11: 15
A12: February | B12: 10 | C12: 5 | D12: 15 | E12: 41 | F12: 5 | G12: 35 | H12: 88 | I12: 80 | J12: 59 | K12: 1 | L12: 34 | M12: 46 | N12: 17 | O12: 14 | P12: 16
A13: March | B13: 9 | C13: 2 | D13: 27 | E13: 45 | F13: 7 | G13: 41 | H13: 98 | I13: 50 | J13: 65 | K13: 7 | L13: 33 | M13: 43 | N13: 23 | O13: 22 | P13: 12
A14: April | B14: 11 | C14: 7 | D14: 25 | E14: 60 | F14: 6 | G14: 49 | H14: 98 | I14: 74 | J14: 60 | K14: 3 | L14: 38 | M14: 39 | N14: 21 | O14: 22 | P14: 14
A15: May | B15: 14 | C15: 6 | D15: 13 | E15: 70 | F15: 7 | G15: 61 | H15: 100 | I15: 91 | J15: 60 | K15: 2 | L15: 34 | M15: 35 | N15: 13 | O15: 27 | P15: 20
A16: June | B16: 13 | C16: 11 | D16: 25 | E16: 65 | F16: 6 | G16: 67 | H16: 83 | I16: 95 | J16: 82 | K16: 9 | L16: 41 | M16: 66 | N16: 20 | O16: 25 | P16: 9 | Q16: Total
B17: =SUM(B5:B16) -> 169 | C17: =SUM(C5:C16) -> 85 | D17: =SUM(D5:D16) -> 295 | E17: =SUM(E5:E16) -> 594 | F17: =SUM(F5:F16) -> 85 | G17: =SUM(G5:G16) -> 595 | H17: =SUM(H5:H16) -> 1030 | I17: =SUM(I5:I16) -> 934 | ... P17: =SUM(P5:P16) -> 176 | Q17: Persons
Q18: =SUM(B17:P17) -> 6381
A19: JULY 2012 TO JUNE 2013--NUMBER OF MAN-DAYS
A21: CAP DAYS | B21: 15 | C21: 7 | D21: 15 | E21: 20 | F21: 14 | G21: 10 | H21: 30 | I21: 30 | J21: 30 | K21: 15 | L21: 30 | M21: 10 | N21: 30 | O21: 10 | P21: 30
B22: Bristol Bay | C22: Cordova | D22: Craig | E22: Dillingham | F22: Haines | G22: Homer | H22: Kodiak | I22: Kotzebue | J22: NSB | K22: Petersburg | L22: Seward | M22: Sitka | N22: Unalaska | O22: Valdez | P22: Wrangell
A23: July | B23: 80 | C23: 43.5 | D23: 154.5 | E23: 125 | F23: 18 | G23: 59.5 | H23: 424 | I23: 312 | J23: 400.5 | K23: 45 | L23: 157 | M23: 200 | N23: 81 | O23: 137.5 | P23: 99
A24: August | B24: 58 | C24: 21.5 | D24: 106 | E24: 208 | F24: 42 | G24: 94.5 | H24: 536 | I24: 206 | J24: 422 | K24: 55.5 | L24: 106 | M24: 153.5 | N24: 121 | O24: 99 | P24: 32
A25: September | B25: 36 | C25: 24 | D25: 129.5 | E25: 242 | F25: 9 | G25: 57 | H25: 604.5 | I25: 244.5 | J25: 330 | K25: 32 | L25: 58 | M25: 271 | N25: 140 | O25: 83.5 | P25: 194
A26: October | B26: 53 | C26: 13 | D26: 162 | E26: 129 | F26: 18 | G26: 77 | H26: 525 | I26: 242 | J26: 298.5 | K26: 14 | L26: 80 | M26: 270 | N26: 93 | O26: 89 | P26: 209
A27: November | B27: 123 | C27: 7 | D27: 146 | E27: 175 | F27: 34 | G27: 75.5 | H27: 524.5 | I27: 172 | J27: 394.5 | K27: 6.5 | L27: 128.5 | M27: 185.5 | N27: 123 | O27: 103 | P27: 66
A28: December | B28: 33 | C28: 14.5 | D28: 76 | E28: 211 | F28: 2 | G28: 78.5 | H28: 617.5 | I28: 249.5 | J28: 353.5 | K28: 7 | L28: 44 | M28: 211 | N28: 38 | O28: 112 | P28: 103
A29: January | B29: 20.5 | C29: 10 | D29: 107 | E29: 200 | F29: 9 | G29: 106 | H29: 542.5 | I29: 243 | J29: 345.5 | K29: 26 | L29: 84.5 | M29: 262 | N29: 47 | O29: 171 | P29: 93
A30: February | B30: 31 | C30: 7.5 | D30: 71 | E30: 163 | F30: 14 | G30: 76.5 | H30: 591.5 | I30: 207.5 | J30: 377 | K30: 0.5 | L30: 114 | M30: 188 | N30: 61.5 | O30: 55.5 | P30: 163
A31: March | B31: 16 | C31: 2 | D31: 120.5 | E31: 220 | F31: 24 | G31: 110.5 | H31: 578.5 | I31: 209.5 | J31: 448.5 | K31: 13.5 | L31: 89 | M31: 224.5 | N31: 77 | O31: 62.5 | P31: 59
A32: April | B32: 48 | C32: 22.5 | D32: 87 | E32: 186 | F32: 8 | G32: 107.5 | H32: 571 | I32: 234.5 | J32: 363.5 | K32: 37 | L32: 134 | M32: 156.6 | N32: 65 | O32: 130 | P32: 90
A33: May | B33: 43 | C33: 4.5 | D33: 45 | E33: 193 | F33: 36 | G33: 101 | H33: 540 | I33: 296 | J33: 309 | K33: 3.5 | L33: 112.5 | M33: 111.5 | N33: 43 | O33: 155 | P33: 173
A34: June | B34: 32 | C34: 31.5 | D34: 114 | E34: 164 | F34: 24 | G34: 114.5 | H34: 430 | I34: 289.5 | J34: 358 | K34: 11.5 | L34: 115.5 | M34: 168.5 | N34: 87 | O34: 68 | P34: 139 | Q34: Total
B35: =SUM(B23:B34) -> 573.5 | C35: =SUM(C23:C34) -> 201.5 | D35: =SUM(D23:D34) -> 1318.5 | E35: =SUM(E23:E34) -> 2216 | F35: =SUM(F23:F34) -> 238 | G35: =SUM(G23:G34) -> 1058 | H35: =SUM(H23:H34) -> 6485 | I35: =SUM(I23:I34) -> 2906 | ... P35: =SUM(P23:P34) -> 1420 | Q35: Man-days
Q36: =SUM(B35:P35) -> 26936.6
A37: COC 2014 | B37: =Q36/365 -> 73.798904
A38: Average Daily Community Jail Population for Fiscal Year 2013 | H38: 70
A41: JULY 2013 TO JUNE 2014 - NUMBER OF MAN-DAYS
A43: CAP DAYS | B43: 15 | C43: 7 | D43: 15 | E43: 20 | F43: 14 | G43: 10 | H43: 30 | I43: 30 | J43: 30 | K43: 15 | L43: 30 | M43: 10 | N43: 30 | O43: 10 | P43: 30
B44: Bristol Bay | C44: Cordova | D44: Craig | E44: Dillingham | F44: Haines | G44: Homer | H44: Kodiak | I44: Kotzebue | J44: NSB | K44: Petersburg | L44: Seward | M44: Sitka | N44: Unalaska | O44: Valdez | P44: Wrangell
A45: July | B45: 73 | C45: 30 | D45: 98 | E45: 237 | F45: 1 | G45: 92 | H45: 623 | I45: 319 | J45: 370 | K45: 101 | L45: 140.5 | M45: 213.5 | N45: 135 | O45: 155.5 | P45: 31
...

Sheet IADP-By Gender
A3: FY2016 COST OF CARE SPREADSHEET
A4: FY2016
A5: Location | B5: Misd male sent | C5: Misd male unsent | D5: Misd female sent | E5: Misd female unsent | F5: Felony male sent | G5: Felony male unsent | H5: Felony female sent | I5: Felony female unsent | J5: Grand Total
A6: ANCHORAGE CC EAST | B6: 34 | C6: 87 | D6: 2 | E6: 11 | F6: 81 | G6: 210 | H6: 2 | I6: 15 | J6: 442
A7: ANCHORAGE CC WEST | B7: 9 | C7: 33 | D7: 0 | E7: 0 | F7: 96 | G7: 273 | H7: 0 | I7: 0 | J7: 411
A8: ANVIL MTN CC | B8: 9 | C8: 16 | D8: 1 | E8: 3 | F8: 28 | G8: 50 | H8: 4 | I8: 4 | J8: 115
A9: FAIRBANKS CC | B9: 16 | C9: 60 | D9: 3 | E9: 11 | F9: 22 | G9: 150 | H9: 3 | I9: 16 | J9: 281
A10: GOOSE CREEK CC | B10: 85 | C10: 39 | D10: 0 | E10: 0 | F10: 893 | G10: 211 | H10: 0 | I10: 0 | J10: 1228
A11: HILAND MTN CC | B11: 0 | C11: 0 | D11: 34 | E11: 37 | F11: 0 | G11: 0 | H11: 207 | I11: 98 | J11: 376
A12: KETCHIKAN CC | B12: 5 | C12: 7 | D12: 1 | E12: 2 | F12: 11 | G12: 24 | H12: 1 | I12: 5 | J12: 56
A13: LEMON CREEK CC | B13: 20 | C13: 20 | D13: 2 | E13: 4 | F13: 110 | G13: 57 | H13: 6 | I13: 9 | J13: 228
A14: MATSU PRETRIAL | B14: 3 | C14: 19 | D14: 1 | E14: 5 | F14: 10 | G14: 60 | H14: 2 | I14: 8 | J14: 108
A15: PALMER-MED CC | B15: 25 | C15: 1 | D15: 0 | E15: 0 | F15: 289 | G15: 4 | H15: 0 | I15: 0 | J15: 319
A16: PALMER-MIN CC | B16: 9 | C16: 0 | D16: 0 | E16: 0 | F16: 167 | G16: 0 | H16: 0 | I16: 0 | J16: 176
A17: PT. MACKENZIE CF | B17: 2 | C17: 0 | D17: 0 | E17: 0 | F17: 35 | G17: 0 | H17: 0 | I17: 0 | J17: 37
A18: SPRING CREEK CC | B18: 19 | C18: 0 | D18: 0 | E18: 0 | F18: 493 | G18: 2 | H18: 0 | I18: 0 | J18: 514
A19: WILDWOOD CC | B19: 13 | C19: 7 | D19: 0 | E19: 0 | F19: 190 | G19: 30 | H19: 0 | I19: 0 | J19: 240 | L19: AVG Daily
A20: WILDWOOD PRETRIAL | B20: 2 | C20: 14 | D20: 3 | E20: 7 | F20: 4 | G20: 53 | H20: 5 | I20: 22 | J20: 110 | L20: Female
A21: WILDWOOD TRANSIT | B21: 6 | C21: 1 | D21: 0 | E21: 0 | F21: 50 | G21: 2 | H21: 0 | I21: 0 | J21: 59 | L21: Population
A22: YUKON-KUSKOKWIM CC | B22: 27 | C22: 37 | D22: 2 | E22: 4 | F22: 15 | G22: 97 | H22: 2 | I22: 5 | J22: 189 | L22: (Sched-A)
A23: INSTITUTION TOTAL | B23: 284 | C23: 341 | D23: 49 | E23: 84 | F23: 2494 | G23: 1223 | H23: 232 | I23: 182 | J23: 4889 | L23: =D23+E23+H23+I23 -> 547
A24: AKEELA HOUSE | B24: 0 | C24: 0 | D24: 0 | E24: 0 | F24: 0 | G24: 0 | H24: 0 | I24: 1 | J24: 1
A25: CLITHEROE | B25: 0 | C25: 0 | D25: 0 | E25: 0 | F25: 2 | G25: 0 | H25: 4 | I25: 0 | J25: 6
A26: CORDOVA CTR | B26: 39 | C26: 18 | D26: 1 | E26: 1 | F26: 46 | G26: 16 | H26: 0 | I26: 0 | J26: 121
A27: GLACIER MANOR | B27: 10 | C27: 3 | D27: 1 | E27: 0 | F27: 32 | G27: 6 | H27: 5 | I27: 0 | J27: 57
A28: GLENNWOOD CTR | B28: 2 | C28: 0 | D28: 2 | E28: 0 | F28: 56 | G28: 0 | H28: 16 | I28: 0 | J28: 76
A29: MIDTOWN CTR - ANCH | B29: 0 | C29: 0 | D29: 11 | E29: 3 | F29: 0 | G29: 0 | H29: 14 | I29: 1 | J29: 29
A30: NORTH STAR CTR | B30: 22 | C30: 10 | D30: 3 | E30: 2 | F30: 35 | G30: 11 | H30: 4 | I30: 3 | J30: 90
A31: PARKVIEW | B31: 34 | C31: 22 | D31: 0 | E31: 0 | F31: 39 | G31: 5 | H31: 0 | I31: 0 | J31: 100
A32: SEASIDE CRC-NOME | B32: 9 | C32: 5 | D32: 2 | E32: 1 | F32: 21 | G32: 3 | H32: 3 | I32: 2 | J32: 46
A33: TUNDRA CTR | B33: 23 | C33: 8 | D33: 4 | E33: 2 | F33: 16 | G33: 5 | H33: 4 | I33: 1 | J33: 63
